BEGIN:VCALENDAR
VERSION:2.0
PRODID:-//Club Manufaktur e.V. aus Schorndorf - ECPv6.15.20//NONSGML v1.0//EN
CALSCALE:GREGORIAN
METHOD:PUBLISH
X-ORIGINAL-URL:https://www.club-manufaktur.de
X-WR-CALDESC:Veranstaltungen für Club Manufaktur e.V. aus Schorndorf
REFRESH-INTERVAL;VALUE=DURATION:PT1H
X-Robots-Tag:noindex
X-PUBLISHED-TTL:PT1H
BEGIN:VTIMEZONE
TZID:Europe/Berlin
BEGIN:DAYLIGHT
TZOFFSETFROM:+0100
TZOFFSETTO:+0200
TZNAME:CEST
DTSTART:20210328T010000
END:DAYLIGHT
BEGIN:STANDARD
TZOFFSETFROM:+0200
TZOFFSETTO:+0100
TZNAME:CET
DTSTART:20211031T010000
END:STANDARD
BEGIN:DAYLIGHT
TZOFFSETFROM:+0100
TZOFFSETTO:+0200
TZNAME:CEST
DTSTART:20220327T010000
END:DAYLIGHT
BEGIN:STANDARD
TZOFFSETFROM:+0200
TZOFFSETTO:+0100
TZNAME:CET
DTSTART:20221030T010000
END:STANDARD
BEGIN:DAYLIGHT
TZOFFSETFROM:+0100
TZOFFSETTO:+0200
TZNAME:CEST
DTSTART:20230326T010000
END:DAYLIGHT
BEGIN:STANDARD
TZOFFSETFROM:+0200
TZOFFSETTO:+0100
TZNAME:CET
DTSTART:20231029T010000
END:STANDARD
END:VTIMEZONE
BEGIN:VEVENT
DTSTART;TZID=Europe/Berlin:20220929T190000
DTEND;TZID=Europe/Berlin:20220929T190000
DTSTAMP:20260419T224959
CREATED:20220810T114516Z
LAST-MODIFIED:20220810T114516Z
UID:10003682-1664478000-1664478000@www.club-manufaktur.de
SUMMARY:Gedichte gegen den Krieg von Bertolt Brecht - Eine Kulturveranstaltung im Rahmen des diesjährigen Antikriegstags
DESCRIPTION:Vorgetragen von jungen Kolleginnen und Kollegen\, mit musikalischer Begleitung. \nBertolt Brecht hielt sich von 1933 bis 1939 als Flüchtling vor dem Nazi-Regime im dänischen Exil\, in Svendborg\, auf. Dort entstanden ausser einigen von Brechts bedeutenden Theaterstücken wie Mutter Courage und ihre Kinder oder Leben des Galilei auch die Svendborger Gedichte\, die auch Antikriegsgedichte enthalten. \n„Wer heute die Lüge und Unwissenheit bekämpfen und die Wahrheit schreiben will\, hat zumindest fünf Schwierigkeiten zu überwinden. Er muss den Mut haben\, die Wahrheit zu schreiben\, obwohl sie allenthalben unterdrückt wird; die Klugheit sie zu erkennen\, obwohl sie allenthalben verhüllt wird; die Kunst\, sie handbarer zu machen als eine Waffe; das Urteil\, jene auszuwählen\, in deren Händen sie wirksam wird; die List\, sie unter diesen zu verbreiten…“ Bertolt Brecht \nEintritt frei\, Kescher (Abstand) geht rum \nVeranstalter: DGB Kreisverband Rems-Murr\, Forum Politik in der Manufaktur \nVeranstaltungsort – K3
URL:https://www.club-manufaktur.de/event/gedichte-gegen-den-krieg-von-bertolt-brecht-eine-kulturveranstaltung-im-rahmen-des-diesjaehrigen-antikriegstags/
LOCATION:K³\, Hammerschlag 8\, Schorndorf\, 73614\, Deutschland
CATEGORIES:Lesung,Politik
END:VEVENT
END:VCALENDAR