BEGIN:VCALENDAR
VERSION:2.0
PRODID:-//Club Manufaktur e.V. aus Schorndorf - ECPv6.15.20//NONSGML v1.0//EN
CALSCALE:GREGORIAN
METHOD:PUBLISH
X-WR-CALNAME:Club Manufaktur e.V. aus Schorndorf
X-ORIGINAL-URL:https://www.club-manufaktur.de
X-WR-CALDESC:Veranstaltungen für Club Manufaktur e.V. aus Schorndorf
REFRESH-INTERVAL;VALUE=DURATION:PT1H
X-Robots-Tag:noindex
X-PUBLISHED-TTL:PT1H
BEGIN:VTIMEZONE
TZID:Europe/Berlin
BEGIN:DAYLIGHT
TZOFFSETFROM:+0100
TZOFFSETTO:+0200
TZNAME:CEST
DTSTART:20240331T010000
END:DAYLIGHT
BEGIN:STANDARD
TZOFFSETFROM:+0200
TZOFFSETTO:+0100
TZNAME:CET
DTSTART:20241027T010000
END:STANDARD
BEGIN:DAYLIGHT
TZOFFSETFROM:+0100
TZOFFSETTO:+0200
TZNAME:CEST
DTSTART:20250330T010000
END:DAYLIGHT
BEGIN:STANDARD
TZOFFSETFROM:+0200
TZOFFSETTO:+0100
TZNAME:CET
DTSTART:20251026T010000
END:STANDARD
BEGIN:DAYLIGHT
TZOFFSETFROM:+0100
TZOFFSETTO:+0200
TZNAME:CEST
DTSTART:20260329T010000
END:DAYLIGHT
BEGIN:STANDARD
TZOFFSETFROM:+0200
TZOFFSETTO:+0100
TZNAME:CET
DTSTART:20261025T010000
END:STANDARD
END:VTIMEZONE
BEGIN:VEVENT
DTSTART;TZID=Europe/Berlin:20250212T180000
DTEND;TZID=Europe/Berlin:20250212T180000
DTSTAMP:20260422T023955
CREATED:20250128T124636Z
LAST-MODIFIED:20250128T124636Z
UID:10005560-1739383200-1739383200@www.club-manufaktur.de
SUMMARY:POLITTALK - Gerechte Steuer - Wie geht das? - mit Urs Abelein und Lothar Binding
DESCRIPTION:URS ABELEIN:\n„Eine gerechte Steuerpolitik ist der Schlüssel zu sozialem Zusammenhalt. Die SPD steht für die Entlastung kleiner und mittlerer Einkommen\, eine Vermögenssteuer für Multimillionäre und ein konsequentes Vorgehen gegen Steuerhinterziehung. Mit diesen Maßnahmen schaffen wir die Grundlage für Investitionen in Bildung\, Gesundheit und Klimaschutz. Diskutieren Sie mit uns\, wie wir gemeinsam eine sozial gerechte Zukunft gestalten können.\nÜber die Umsetzung dieser Vorhaben diskutieren ich mit dem Finanzexperten Lothar Binding (Vorsitzender Arbeitsgemeinschaft 60+) – und gerne auch mit Ihnen.“
URL:https://www.club-manufaktur.de/event/polittalk-gerechte-steuer-wie-geht-das-mit-urs-abelein-und-lothar-binding/
LOCATION:Manufaktur\, Saal\, Hammerschlag 8\, Schorndorf\, 73614\, Deutschland
CATEGORIES:Politik
END:VEVENT
END:VCALENDAR