BEGIN:VCALENDAR
VERSION:2.0
PRODID:-//Club Manufaktur e.V. aus Schorndorf - ECPv6.15.20//NONSGML v1.0//EN
CALSCALE:GREGORIAN
METHOD:PUBLISH
X-WR-CALNAME:Club Manufaktur e.V. aus Schorndorf
X-ORIGINAL-URL:https://www.club-manufaktur.de
X-WR-CALDESC:Veranstaltungen für Club Manufaktur e.V. aus Schorndorf
REFRESH-INTERVAL;VALUE=DURATION:PT1H
X-Robots-Tag:noindex
X-PUBLISHED-TTL:PT1H
BEGIN:VTIMEZONE
TZID:Europe/Berlin
BEGIN:DAYLIGHT
TZOFFSETFROM:+0100
TZOFFSETTO:+0200
TZNAME:CEST
DTSTART:20220327T010000
END:DAYLIGHT
BEGIN:STANDARD
TZOFFSETFROM:+0200
TZOFFSETTO:+0100
TZNAME:CET
DTSTART:20221030T010000
END:STANDARD
BEGIN:DAYLIGHT
TZOFFSETFROM:+0100
TZOFFSETTO:+0200
TZNAME:CEST
DTSTART:20230326T010000
END:DAYLIGHT
BEGIN:STANDARD
TZOFFSETFROM:+0200
TZOFFSETTO:+0100
TZNAME:CET
DTSTART:20231029T010000
END:STANDARD
BEGIN:DAYLIGHT
TZOFFSETFROM:+0100
TZOFFSETTO:+0200
TZNAME:CEST
DTSTART:20240331T010000
END:DAYLIGHT
BEGIN:STANDARD
TZOFFSETFROM:+0200
TZOFFSETTO:+0100
TZNAME:CET
DTSTART:20241027T010000
END:STANDARD
END:VTIMEZONE
BEGIN:VEVENT
DTSTART;TZID=Europe/Berlin:20230308T193000
DTEND;TZID=Europe/Berlin:20230308T193000
DTSTAMP:20260419T185621
CREATED:20230111T155912Z
LAST-MODIFIED:20230117T174753Z
UID:10004379-1678303800-1678303800@www.club-manufaktur.de
SUMMARY:Zum Internationalen Frauentag liest JULIA CRUSCHWITZ aus und spricht über: FEMIZIDE - Frauenmorde in Deutschland - Moderation: Sabine Reichle
DESCRIPTION:„Es ist kein trockenes Sachbuch\, sondern es erzählt locker und trotzdem informativ. Das macht die schwere Thematik und die vielen\, vielen Femizide\, die das Buch beschreibt\, leichter zu ertragen.“ Ramona Westhof / Deutschlandfunk Kultur \nIn Deutschland wurden 139 Frauen (2020) und 113 Frauen (2021) von ihren (Ex-)Partnern getötet\, so die Polizeistatistik. Und jeden zweiten Tag gab es einen Tötungsversuch – die Dunkelziffer dürfte noch viel höher liegen. Hunderte Kinder werden so jedes Jahr zu (Halb-)Waisen\, viele sind Zeugen der Morde. Für das Buch zu Femiziden in Deutschland haben Julia Cruschwitz und Carolin Haentjes mit Wissenschaftler*innen\, Kriminolog*innen\, Polizist*innen\, Sozialarbeiter*innen\, Anwält*innen\, Überlebenden\, Zeugen und Angehörigen gesprochen und wissenschaftliche Studien analysiert. Ihr Buch zeigt: Femizide sind ein gesamtgesellschaftliches Problem\, aber es gibt sinnvolle Wege zu einem besseren Schutz von Frauen vor männlicher Gewalt – wir müssen sie nur endlich beschreiten. \nPressezitate:\n„Am Ende steht ihr Fazit: Viele Frauenmorde wären zu verhindern\, wenn die Behörden die Taten ernster nehmen und Warnsignale nicht länger ignorieren würden! Mit ihrem Buch haben sie einen aufrüttelnden Beitrag dazu geleistet.“ EMMA Magazin \n„Ein brennendes Thema\, sauber recherchiert.“ FALTER 17/22 \nEintritt frei – Kescher (Abstand!) geht rum. \nVeranstalter:\nClub Manufaktur\npro familia Waiblingen\nOpferberatung Rems-Murr\nDas Frauenforum Schorndorf\nKulturforum Schorndorf
URL:https://www.club-manufaktur.de/event/zum-internationalen-frauentag-liest-julia-cruschwitz-aus-und-spricht-ueber-femizide-frauenmorde-in-deutschland-moderation-sabine-reichle/
LOCATION:Manufaktur\, Saal\, Hammerschlag 8\, Schorndorf\, 73614\, Deutschland
CATEGORIES:Lesung,Politik
END:VEVENT
END:VCALENDAR