BEGIN:VCALENDAR
VERSION:2.0
PRODID:-//Club Manufaktur e.V. aus Schorndorf - ECPv6.15.20//NONSGML v1.0//EN
CALSCALE:GREGORIAN
METHOD:PUBLISH
X-WR-CALNAME:Club Manufaktur e.V. aus Schorndorf
X-ORIGINAL-URL:https://www.club-manufaktur.de
X-WR-CALDESC:Veranstaltungen für Club Manufaktur e.V. aus Schorndorf
REFRESH-INTERVAL;VALUE=DURATION:PT1H
X-Robots-Tag:noindex
X-PUBLISHED-TTL:PT1H
BEGIN:VTIMEZONE
TZID:Europe/Berlin
BEGIN:DAYLIGHT
TZOFFSETFROM:+0100
TZOFFSETTO:+0200
TZNAME:CEST
DTSTART:20260329T010000
END:DAYLIGHT
BEGIN:STANDARD
TZOFFSETFROM:+0200
TZOFFSETTO:+0100
TZNAME:CET
DTSTART:20261025T010000
END:STANDARD
BEGIN:DAYLIGHT
TZOFFSETFROM:+0100
TZOFFSETTO:+0200
TZNAME:CEST
DTSTART:20270328T010000
END:DAYLIGHT
BEGIN:STANDARD
TZOFFSETFROM:+0200
TZOFFSETTO:+0100
TZNAME:CET
DTSTART:20271031T010000
END:STANDARD
BEGIN:DAYLIGHT
TZOFFSETFROM:+0100
TZOFFSETTO:+0200
TZNAME:CEST
DTSTART:20280326T010000
END:DAYLIGHT
BEGIN:STANDARD
TZOFFSETFROM:+0200
TZOFFSETTO:+0100
TZNAME:CET
DTSTART:20281029T010000
END:STANDARD
END:VTIMEZONE
BEGIN:VEVENT
DTSTART;TZID=Europe/Berlin:20270219T203000
DTEND;TZID=Europe/Berlin:20270219T203000
DTSTAMP:20260420T153100
CREATED:20260330T090025Z
LAST-MODIFIED:20260331T085559Z
UID:10005746-1803069000-1803069000@www.club-manufaktur.de
SUMMARY:JOAN AS POLICE WOMAN (USA) - 20 Years of Real Life Tour
DESCRIPTION:New York Citys beste Musikerin feiert das 20-jährige Jubiläum ihres beeindruckenden Debütalbums „Real Life“ aus dem Jahr 2006 mit exklusiven Trio-Konzerten. \nSie wird das gesamte Debütalbum „Real Life“ zusammen mit ihrer Band in voller Länge aufführen. Außerdem stehen bei diesen Konzerten wichtige Singles aus dem gesamten Repertoire von Joan As Police Woman\, Lieblingssongs der Fans\, weniger bekannte Titel\, neu interpretierte Coverversionen und einige Überraschungen auf dem Programm!  \nJoan hat oft darüber gesprochen\, wie wichtig Musik und das Musizieren für ihr Leben sind:  \n„Musik hat mein Leben gerettet. Ich bin eine Anhängerin. Es ist nichts\, wofür ich mich entscheiden oder gegen das ich mich entscheiden kann\, es ist einfach so\, wie es ist. Das Album ‚Real Life‘ birgt den Schlüssel zu meinem ganzen Leben. Damals fühlte ich mich dazu getrieben\, alles in eine Platte zu packen\, weil ich mir keine Welt vorstellen konnte\, in der ich eine weitere machen würde.  \nJetzt\, zwanzig Jahre später (und nach zwölf Alben in meiner Karriere)\, entfaltet sich der Traum weiter.  \nIch lebe immer noch dafür\, Musik zu machen. Das gemeinsame Erlebnis eines Konzerts erinnert uns ständig an unsere gemeinsame Menschlichkeit. Real Life war der Funke\, der meine Berufung als Solokünstlerin entfachte\, und ich freue mich riesig darauf\, all die Songs wieder aufleben zu lassen\, die mir und den Liebhabern von „Real Life“ so viel bedeuten.“ \nDas Konzert wird ein Highlight werden\, an das sich langjährige Fans und Neulinge für immer erinnern werden. Das solltet ihr euch nicht entgehen lassen!  \nPressestimmen:\n„Joan As Police Woman in one of the 21st century’s best musicians.“ The Economist \n„The coolest woman in pop.“ The Times \n„a voice so wondrous and moving that makes everyone else’s seem ordinary and mundane“ The Guardian \nEintritt:\n35.- Euro Vvk plus Gebühr\n41.- Euro Abendkasse\n33.- Euro Mitglieder \nDirekt vom Büro aus via Post versandte Karten (mit einer Bearbeitungsgebühr von 3€ pro Bestellung) gibt es bis 14 Uhr auf unserer Seite. Falls wir die Tickets nicht mehr rechtzeitig per Post versenden können\, werden sie an der Abendkasse auf deinen Namen hinterlegt.
URL:https://www.club-manufaktur.de/event/joan-as-police-woman-usa-2/
LOCATION:Manufaktur\, Saal\, Hammerschlag 8\, Schorndorf\, 73614\, Deutschland
CATEGORIES:Konzert,Ticket
ATTACH;FMTTYPE=image/jpeg:https://www.club-manufaktur.de/wp-content/uploads/2026/03/joan_as_police_woman_pm.jpeg
END:VEVENT
END:VCALENDAR