BEGIN:VCALENDAR
VERSION:2.0
PRODID:-//Club Manufaktur e.V. aus Schorndorf - ECPv6.15.20//NONSGML v1.0//EN
CALSCALE:GREGORIAN
METHOD:PUBLISH
X-WR-CALNAME:Club Manufaktur e.V. aus Schorndorf
X-ORIGINAL-URL:https://www.club-manufaktur.de
X-WR-CALDESC:Veranstaltungen für Club Manufaktur e.V. aus Schorndorf
REFRESH-INTERVAL;VALUE=DURATION:PT1H
X-Robots-Tag:noindex
X-PUBLISHED-TTL:PT1H
BEGIN:VTIMEZONE
TZID:Europe/Berlin
BEGIN:DAYLIGHT
TZOFFSETFROM:+0100
TZOFFSETTO:+0200
TZNAME:CEST
DTSTART:20250330T010000
END:DAYLIGHT
BEGIN:STANDARD
TZOFFSETFROM:+0200
TZOFFSETTO:+0100
TZNAME:CET
DTSTART:20251026T010000
END:STANDARD
BEGIN:DAYLIGHT
TZOFFSETFROM:+0100
TZOFFSETTO:+0200
TZNAME:CEST
DTSTART:20260329T010000
END:DAYLIGHT
BEGIN:STANDARD
TZOFFSETFROM:+0200
TZOFFSETTO:+0100
TZNAME:CET
DTSTART:20261025T010000
END:STANDARD
BEGIN:DAYLIGHT
TZOFFSETFROM:+0100
TZOFFSETTO:+0200
TZNAME:CEST
DTSTART:20270328T010000
END:DAYLIGHT
BEGIN:STANDARD
TZOFFSETFROM:+0200
TZOFFSETTO:+0100
TZNAME:CET
DTSTART:20271031T010000
END:STANDARD
END:VTIMEZONE
BEGIN:VEVENT
DTSTART;TZID=Europe/Berlin:20261114T203000
DTEND;TZID=Europe/Berlin:20261114T203000
DTSTAMP:20260419T212651
CREATED:20260327T080047Z
LAST-MODIFIED:20260331T103916Z
UID:10005743-1794688200-1794688200@www.club-manufaktur.de
SUMMARY:JEREMY PINNELL & BAND (USA)
DESCRIPTION:Jeremy Pinnell wuchs in der Nähe des Ohio River auf und kam schon früh mit einer musikalischen Vielfalt in Berührung\, die so grenzenlos war wie der Himmel über dem Mittleren Westen. \nMit seinem Debütalbum „OH/KY“\, das den Grundstein für seine Karriere legte und stilistisch zwischen Rust-Belt-Roots und rauem\, unverfälschtem Country angesiedelt ist\, machte er erstmals auf sich aufmerksam. In der Folge entwickelte er seinen Sound konsequent weiter und ließ dabei verstärkt die Einflüsse einfließen\, die ihn bereits in seiner Jugend in Kentucky geprägt hatten. \nAuf seinem vierten Album „Decades“ erreicht er eine neue Ebene des eingängigen Songwritings und verbindet die radiotauglichen Refrains mit seinem Gespür für wirkungsvolle Melodien und Texte.\nDiese Qualität hat ihn inzwischen zum Gewinner des Ameripolitan Music Awards gemacht. \nProduziert vom zweifachen GRAMMY-Gewinner Shooter Jennings\, zeigt „Decades“ den Frontmann in nachdenklicher Stimmung\, wobei er die Beschwingtheit seiner Melodien mit der Ernsthaftigkeit seiner bislang persönlichsten Texte in Einklang bringt. Aus diesen Erfahrungen sind Songs über Highways\, harte Lektionen und das Leben selbst entstanden – Stücke\, die er gemeinsam mit seiner Band auf die Bühne der Manufaktur bringen wird. \nPressezitate:\n„Hardscrabble Honky-Tonk vom Feinsten“ – Rolling Stone Magazin \nEintritt:\n18.- Euro Vvk plus Gebühr\n22.- Euro Abendkasse\n17.- Euro Mitglieder
URL:https://www.club-manufaktur.de/event/jeremy-pinnell-usa/
LOCATION:Manufaktur\, Saal\, Hammerschlag 8\, Schorndorf\, 73614\, Deutschland
CATEGORIES:Konzert,Ticket
ATTACH;FMTTYPE=image/jpeg:https://www.club-manufaktur.de/wp-content/uploads/2026/03/jeremy_pinnell_pm.jpeg
END:VEVENT
END:VCALENDAR