BEGIN:VCALENDAR
VERSION:2.0
PRODID:-//Club Manufaktur e.V. aus Schorndorf - ECPv6.15.20//NONSGML v1.0//EN
CALSCALE:GREGORIAN
METHOD:PUBLISH
X-WR-CALNAME:Club Manufaktur e.V. aus Schorndorf
X-ORIGINAL-URL:https://www.club-manufaktur.de
X-WR-CALDESC:Veranstaltungen für Club Manufaktur e.V. aus Schorndorf
REFRESH-INTERVAL;VALUE=DURATION:PT1H
X-Robots-Tag:noindex
X-PUBLISHED-TTL:PT1H
BEGIN:VTIMEZONE
TZID:Europe/Berlin
BEGIN:DAYLIGHT
TZOFFSETFROM:+0100
TZOFFSETTO:+0200
TZNAME:CEST
DTSTART:20250330T010000
END:DAYLIGHT
BEGIN:STANDARD
TZOFFSETFROM:+0200
TZOFFSETTO:+0100
TZNAME:CET
DTSTART:20251026T010000
END:STANDARD
BEGIN:DAYLIGHT
TZOFFSETFROM:+0100
TZOFFSETTO:+0200
TZNAME:CEST
DTSTART:20260329T010000
END:DAYLIGHT
BEGIN:STANDARD
TZOFFSETFROM:+0200
TZOFFSETTO:+0100
TZNAME:CET
DTSTART:20261025T010000
END:STANDARD
BEGIN:DAYLIGHT
TZOFFSETFROM:+0100
TZOFFSETTO:+0200
TZNAME:CEST
DTSTART:20270328T010000
END:DAYLIGHT
BEGIN:STANDARD
TZOFFSETFROM:+0200
TZOFFSETTO:+0100
TZNAME:CET
DTSTART:20271031T010000
END:STANDARD
END:VTIMEZONE
BEGIN:VEVENT
DTSTART;TZID=Europe/Berlin:20261031T200000
DTEND;TZID=Europe/Berlin:20261031T200000
DTSTAMP:20260420T011109
CREATED:20251204T121947Z
LAST-MODIFIED:20251204T121947Z
UID:10005702-1793476800-1793476800@www.club-manufaktur.de
SUMMARY:KITTY\, DAISY & LEWIS
DESCRIPTION:Wenn Kitty\, Daisy und Lewis Durham\, drei Geschwister aus dem Londoner Stadtteil Kentish Town\, musizieren\, dann nehmen sie uns mit auf eine Reise in die Vergangenheit. Mit ihrem Stil aus Swing\, Blues\, Country\, Bluegrass und Rock’n’Roll kommen die drei mit ihrer Band im Oktober nächsten Jahres für acht Konzerte nach Deutschland\, um für unvergessliche Konzertmomente zu sorgen und dabei ihr neues Album live vorzustellen\, auf das der Fan neun lange Jahre warten musste. \nSeit ihrem selbstbetitelten Debüt aus dem Jahr 2008 changieren KITTY\, DAISY & LEWIS gekonnt zwischen den Jahrzehnten. Zu ihren musikalischen Helden gehören seit ihrer – durch Musik aus dem Elternhaus stark geprägten – Kindheit unter anderem Louis Armstrong\, Nina Simone\, Ray Charles\, Sam Cooke oder Rufus Thomas. Auf dem Album\, welches – wie auch alle Nachfolger – mit Equipment aus der damaligen Zeit aufgenommen wurde\, finden sich zahlreiche Interpretationen der Klassiker ihrer Helden wieder\, ebenso wie eigene Produktionen der Geschwister. Die Geschwister sind allesamt Multiinstrumentalist*innen und schaffen unter anderem durch den Einsatz von Kontrabass\, Posaune\, Akkordeon oder Mundharmonika ein vielfältiges Klangbild ihrer Musik. \nDen internationalen Erfolg ihres Debüts setzte das Trio mit den Werken „Smoking In Heaven“ (2011)\, „The Third“ (2015) und dem zuletzt erschienenen „Superscope“ (2017) fort. In den vergangenen Jahren arbeiteten KITTY\, DAISY & LEWIS unerbittlich und stehen heute für ihren einzigartigen und unverkennbaren Retro-Stil. Damit dieser auch auf Tonträgern genau so gerät\, wie sie sich das vorstellen\, konzipierte und baute Lewis Durham\, der Bruder in der Mitte der drei Geschwister\, im Londoner Stadtteil Camden das Durham Sound Studio auf\, dessen Arbeitswerkzeug teils wie aus einem Museum entlehnt wirkt\, aufgrund der Qualität des angeschafften Equipments inzwischen aber großes Renomee besitzt. In diesen Räumlichkeiten produziert Lews Durham seit 2011 nicht nur die eigenen Alben\, sondern auch die vieler anderer Künstler auf der Suche nach einem besonders warmen Retro-Sound. \nAuch deshalb musste der Fan zuletzt viel Geduld haben. Zwar waren KITTY\, DAISY & LEWIS in fast jedem Jahr irgendwo auf dem Globus auf Tournee\, doch auf neue Musik wartete man vergeblich. Nun soll das Warten ein Ende haben: 2026 erscheint nach neun Jahren Pause ihr neues\, derzeit noch unbetiteltes Album. Gefolgt von einer ausgedehnten Europa-Tournee\, die ihren enormen Arbeitsethos belegt: So spielen KITTY\, DAISY & LEWIS ihre acht Deutschland- Shows in Leipzig\, Hamburg\, Berlin\, Nürnberg\, Aschaffenburg\, Köln\, München und Schorndorf ohne einen Off-Day innerhalb von acht Tagen. \nVeranstalter und Tickets – Music Circus Concertbüro \n 
URL:https://www.club-manufaktur.de/event/kitty-daisy-lewis/
LOCATION:Manufaktur\, Saal\, Hammerschlag 8\, Schorndorf\, 73614\, Deutschland
CATEGORIES:Konzert
ATTACH;FMTTYPE=image/jpeg:https://www.club-manufaktur.de/wp-content/uploads/2025/12/KDL-press-shot-collage-2026.jpg
ORGANIZER;CN="Music Circus Concertb%C3%BCro":MAILTO:info@musiccircus.de
END:VEVENT
END:VCALENDAR