BEGIN:VCALENDAR
VERSION:2.0
PRODID:-//Club Manufaktur e.V. aus Schorndorf - ECPv6.15.20//NONSGML v1.0//EN
CALSCALE:GREGORIAN
METHOD:PUBLISH
X-WR-CALNAME:Club Manufaktur e.V. aus Schorndorf
X-ORIGINAL-URL:https://www.club-manufaktur.de
X-WR-CALDESC:Veranstaltungen für Club Manufaktur e.V. aus Schorndorf
REFRESH-INTERVAL;VALUE=DURATION:PT1H
X-Robots-Tag:noindex
X-PUBLISHED-TTL:PT1H
BEGIN:VTIMEZONE
TZID:Europe/Berlin
BEGIN:DAYLIGHT
TZOFFSETFROM:+0100
TZOFFSETTO:+0200
TZNAME:CEST
DTSTART:20250330T010000
END:DAYLIGHT
BEGIN:STANDARD
TZOFFSETFROM:+0200
TZOFFSETTO:+0100
TZNAME:CET
DTSTART:20251026T010000
END:STANDARD
BEGIN:DAYLIGHT
TZOFFSETFROM:+0100
TZOFFSETTO:+0200
TZNAME:CEST
DTSTART:20260329T010000
END:DAYLIGHT
BEGIN:STANDARD
TZOFFSETFROM:+0200
TZOFFSETTO:+0100
TZNAME:CET
DTSTART:20261025T010000
END:STANDARD
BEGIN:DAYLIGHT
TZOFFSETFROM:+0100
TZOFFSETTO:+0200
TZNAME:CEST
DTSTART:20270328T010000
END:DAYLIGHT
BEGIN:STANDARD
TZOFFSETFROM:+0200
TZOFFSETTO:+0100
TZNAME:CET
DTSTART:20271031T010000
END:STANDARD
END:VTIMEZONE
BEGIN:VEVENT
DTSTART;TZID=Europe/Berlin:20261014T203000
DTEND;TZID=Europe/Berlin:20261014T203000
DTSTAMP:20260419T180113
CREATED:20260416T080036Z
LAST-MODIFIED:20260416T085659Z
UID:10005754-1792009800-1792009800@www.club-manufaktur.de
SUMMARY:THE NIGHTINGALES (UK)
DESCRIPTION:Birminghams erste Punk Band\, die Prefects\, waren Teil von The Clashs „White Riot Tour“\, nahmen John Peel Sessions auf und erhielten hervorragende Rezensionen von Medien wie dem Rolling Stone. Nach ihrer Trennung wurde die Band The Nightingales gegründet. John Robb beschreibt sie in seinem Standardwerk über Post Punk („Death To Trad Rock“) als „The misfits’ misfits“\, die in den 80er Jahren Kultstatus in der Musikszene genossen und von John Peel unterstützt wurden. Peel sagte über sie: „Ihre Grandiosität wird erst in einer Zeit weit nach den Achtzigern gewürdigt werden\, wenn wir mit der nötigen Distanz auf diese Zeit zurückschauen können und sich andere\, weitaus bekanntere Bands\, als Scharlatane herausstellen werden. \nIm Jahr 2025 erschien ihr aktuelles Album „The Awful Truth“. Für 2026 ist bereits ein Nachfolger geplant! \nNach der Veröffentlichung von „The Awful Truth“\, wurde die Band offiziell durch die wunderbare Bratschistin Natalie Mason verstärkt\, die zuvor bereits als Gastmusikerin auf der Bühne und bei Aufnahmen mitgewirkt hatte. \nFast auf den Tag genau drei Jahre später kehrt die fünfköpfige Band im Herbst 2026 auf die Bühne der Manufaktur zurück! \nPressezitate:\n„Rock’n’Roll at its best.“ Süddeutsche Zeitung \n„Consistently one of the best live experiences in the country.“ Brighton Noise \n„Unquestionably the greatest band in the world.“ Neil Taylor\, New Musical Express \n„The greatest rock ’n‘ roll band in the world.“ Dave Hill\, The Guardian \n„As usual with Robert Lloyd’s excellent lyrics.“ Mark E. Smith\, The Fall \nEintritt:\n16.- Euro Vvk plus Gebühr\n20.- Euro Abendkasse\n15.- Euro Mitglieder
URL:https://www.club-manufaktur.de/event/the-nightingales-uk/
LOCATION:Manufaktur\, Saal\, Hammerschlag 8\, Schorndorf\, 73614\, Deutschland
CATEGORIES:Konzert,Ticket
ATTACH;FMTTYPE=image/jpeg:https://www.club-manufaktur.de/wp-content/uploads/2026/04/the_nightingales_14_10_2026_by_pm.jpeg
END:VEVENT
END:VCALENDAR