BEGIN:VCALENDAR
VERSION:2.0
PRODID:-//Club Manufaktur e.V. aus Schorndorf - ECPv6.15.20//NONSGML v1.0//EN
CALSCALE:GREGORIAN
METHOD:PUBLISH
X-ORIGINAL-URL:https://www.club-manufaktur.de
X-WR-CALDESC:Veranstaltungen für Club Manufaktur e.V. aus Schorndorf
REFRESH-INTERVAL;VALUE=DURATION:PT1H
X-Robots-Tag:noindex
X-PUBLISHED-TTL:PT1H
BEGIN:VTIMEZONE
TZID:Europe/Berlin
BEGIN:DAYLIGHT
TZOFFSETFROM:+0100
TZOFFSETTO:+0200
TZNAME:CEST
DTSTART:20250330T010000
END:DAYLIGHT
BEGIN:STANDARD
TZOFFSETFROM:+0200
TZOFFSETTO:+0100
TZNAME:CET
DTSTART:20251026T010000
END:STANDARD
BEGIN:DAYLIGHT
TZOFFSETFROM:+0100
TZOFFSETTO:+0200
TZNAME:CEST
DTSTART:20260329T010000
END:DAYLIGHT
BEGIN:STANDARD
TZOFFSETFROM:+0200
TZOFFSETTO:+0100
TZNAME:CET
DTSTART:20261025T010000
END:STANDARD
BEGIN:DAYLIGHT
TZOFFSETFROM:+0100
TZOFFSETTO:+0200
TZNAME:CEST
DTSTART:20270328T010000
END:DAYLIGHT
BEGIN:STANDARD
TZOFFSETFROM:+0200
TZOFFSETTO:+0100
TZNAME:CET
DTSTART:20271031T010000
END:STANDARD
END:VTIMEZONE
BEGIN:VEVENT
DTSTART;TZID=Europe/Berlin:20261010T203000
DTEND;TZID=Europe/Berlin:20261010T203000
DTSTAMP:20260419T180250
CREATED:20260330T070039Z
LAST-MODIFIED:20260330T103821Z
UID:10005749-1791664200-1791664200@www.club-manufaktur.de
SUMMARY:TRISTAN BRUSCH (D)
DESCRIPTION:Nach einem nahezu restlos ausverkauften ersten Teil der „Am Anfang“-Tour kommt Tristan Brusch zurück für eine Zugabe – weil es sich richtig anfühlt. Und weil so viele noch dabei sein wollen. Tristan allein. Mit Gitarre. Mit genau dem\, was zählt: Stimme\, Saiten und Songs\, die direkt treffen\, leise und groß zugleich. „Jeder Abend ist anders. Wer mich sucht\, der findet mich\, wo aus Momenten Erinnerungen werden.“  \nEintritt:\n27.- Euro Vvk plus Gebühr\n35.- Euro Abendkasse\n26.- Euro Mitglieder
URL:https://www.club-manufaktur.de/event/tristan-brusch-d/
LOCATION:Manufaktur\, Saal\, Hammerschlag 8\, Schorndorf\, 73614\, Deutschland
CATEGORIES:Konzert,Ticket
ATTACH;FMTTYPE=image/jpeg:https://www.club-manufaktur.de/wp-content/uploads/2026/03/tristan_brusch_by_tim_cavadini_pm.jpg
END:VEVENT
END:VCALENDAR