BEGIN:VCALENDAR
VERSION:2.0
PRODID:-//Club Manufaktur e.V. aus Schorndorf - ECPv6.15.20//NONSGML v1.0//EN
CALSCALE:GREGORIAN
METHOD:PUBLISH
X-WR-CALNAME:Club Manufaktur e.V. aus Schorndorf
X-ORIGINAL-URL:https://www.club-manufaktur.de
X-WR-CALDESC:Veranstaltungen für Club Manufaktur e.V. aus Schorndorf
REFRESH-INTERVAL;VALUE=DURATION:PT1H
X-Robots-Tag:noindex
X-PUBLISHED-TTL:PT1H
BEGIN:VTIMEZONE
TZID:Europe/Berlin
BEGIN:DAYLIGHT
TZOFFSETFROM:+0100
TZOFFSETTO:+0200
TZNAME:CEST
DTSTART:20240331T010000
END:DAYLIGHT
BEGIN:STANDARD
TZOFFSETFROM:+0200
TZOFFSETTO:+0100
TZNAME:CET
DTSTART:20241027T010000
END:STANDARD
BEGIN:DAYLIGHT
TZOFFSETFROM:+0100
TZOFFSETTO:+0200
TZNAME:CEST
DTSTART:20250330T010000
END:DAYLIGHT
BEGIN:STANDARD
TZOFFSETFROM:+0200
TZOFFSETTO:+0100
TZNAME:CET
DTSTART:20251026T010000
END:STANDARD
BEGIN:DAYLIGHT
TZOFFSETFROM:+0100
TZOFFSETTO:+0200
TZNAME:CEST
DTSTART:20260329T010000
END:DAYLIGHT
BEGIN:STANDARD
TZOFFSETFROM:+0200
TZOFFSETTO:+0100
TZNAME:CET
DTSTART:20261025T010000
END:STANDARD
END:VTIMEZONE
BEGIN:VEVENT
DTSTART;TZID=Europe/Berlin:20250730T180000
DTEND;TZID=Europe/Berlin:20250730T220000
DTSTAMP:20260419T205858
CREATED:20250611T102044Z
LAST-MODIFIED:20250611T102044Z
UID:10005614-1753898400-1753912800@www.club-manufaktur.de
SUMMARY:POP-UP: MANUKNEIPE GOES VEGAN
DESCRIPTION:POP-UP: MANUKNEIPE GOES VEGAN \nPflanzlich. Kreativ. Unkompliziert. \nEinmal im Monat wird die Manukneipe – immer mittwochs – zum veganen Pop-up. \nKeine Regeln\, kein Dogma – einfach gutes Essen. \nWeitere Termine: Homepage & Socials \nClub Manufaktur Kneipe\nHammerschlag 8 · 73614 Schorndorf\n+49 179 4840600\nkneipe@club-manufaktur.de \nVeggie vibes only.\n#manukneipegoesvegan #popupplantpower
URL:https://www.club-manufaktur.de/event/pop-up-manukneipe-goes-vegan-2/
LOCATION:Kneipe
CATEGORIES:Kneipe
ATTACH;FMTTYPE=image/jpeg:https://www.club-manufaktur.de/wp-content/uploads/2021/03/club-kneipe_sonntagessen-2015_16-1-bbTmfn.tmp_.jpg
ORGANIZER;CN="Club Kneipe":MAILTO:kneipe@club-manufaktur.de
END:VEVENT
BEGIN:VEVENT
DTSTART;TZID=Europe/Berlin:20250801T203000
DTEND;TZID=Europe/Berlin:20250801T203000
DTSTAMP:20260419T205858
CREATED:20250527T152602Z
LAST-MODIFIED:20250527T152602Z
UID:10005610-1754080200-1754080200@www.club-manufaktur.de
SUMMARY:AQUASERGE (F)
DESCRIPTION:Aquaserge wurde 2005 gegründet und ist eine experimentelle Popmusikgruppe ohne Grenzen. Sie definiert sich vor allem als Kollektiv und hat sich im Lauf der Zeit immer wieder erneuert und verändert. Sie hat mit mehr als fünfzig Musikern bei mehr als 300 Konzerten auf der ganzen Welt zusammengearbeitet. In den 17 Jahren seiner Tätigkeit hat Aquaserge etwa zehn Alben bei verschiedenen internationalen Labels veröffentlicht (Manimal Vinyl Records\, Chambre 404 (Arista)\, Almost Musique\, Crammed Discs). Aquaserge war ein Septett\, ein Oktett\, ein Quintett\, ein Quartett\, ein Trio. Diese beweglichen Formationen verwandeln die Musik\, machen sie manchmal komplexer und geben einem spezifischen musikalischen Genre Gestalt\, das von Jazz\, Rock\, zeitgenössischer Musikforschung und Klangexperimenten geprägt ist.  \nEintritt:\n20.- Euro Vvk plus Gebühr\n24.- Euro Abendkasse\n19.- Euro Mitglieder \nDirekt vom Büro aus via Post versandte Karten (mit einer Bearbeitungsgebühr von 3€ pro Bestellung) gibt es bis 14 Uhr auf unserer Seite. Falls wir die Tickets nicht mehr rechtzeitig per Post versenden können\, werden sie an der Abendkasse auf deinen Namen hinterlegt.
URL:https://www.club-manufaktur.de/event/aquaserge-f/
LOCATION:Manufaktur\, Saal\, Hammerschlag 8\, Schorndorf\, 73614\, Deutschland
CATEGORIES:Konzert,Ticket
ATTACH;FMTTYPE=image/jpeg:https://www.club-manufaktur.de/wp-content/uploads/2025/05/aquaserge_pm1.jpeg
END:VEVENT
END:VCALENDAR