BEGIN:VCALENDAR
VERSION:2.0
PRODID:-//Club Manufaktur e.V. aus Schorndorf - ECPv6.15.20//NONSGML v1.0//EN
CALSCALE:GREGORIAN
METHOD:PUBLISH
X-WR-CALNAME:Club Manufaktur e.V. aus Schorndorf
X-ORIGINAL-URL:https://www.club-manufaktur.de
X-WR-CALDESC:Veranstaltungen für Club Manufaktur e.V. aus Schorndorf
REFRESH-INTERVAL;VALUE=DURATION:PT1H
X-Robots-Tag:noindex
X-PUBLISHED-TTL:PT1H
BEGIN:VTIMEZONE
TZID:Europe/Berlin
BEGIN:DAYLIGHT
TZOFFSETFROM:+0100
TZOFFSETTO:+0200
TZNAME:CEST
DTSTART:20240331T010000
END:DAYLIGHT
BEGIN:STANDARD
TZOFFSETFROM:+0200
TZOFFSETTO:+0100
TZNAME:CET
DTSTART:20241027T010000
END:STANDARD
BEGIN:DAYLIGHT
TZOFFSETFROM:+0100
TZOFFSETTO:+0200
TZNAME:CEST
DTSTART:20250330T010000
END:DAYLIGHT
BEGIN:STANDARD
TZOFFSETFROM:+0200
TZOFFSETTO:+0100
TZNAME:CET
DTSTART:20251026T010000
END:STANDARD
BEGIN:DAYLIGHT
TZOFFSETFROM:+0100
TZOFFSETTO:+0200
TZNAME:CEST
DTSTART:20260329T010000
END:DAYLIGHT
BEGIN:STANDARD
TZOFFSETFROM:+0200
TZOFFSETTO:+0100
TZNAME:CET
DTSTART:20261025T010000
END:STANDARD
END:VTIMEZONE
BEGIN:VEVENT
DTSTART;TZID=Europe/Berlin:20250708T193000
DTEND;TZID=Europe/Berlin:20250708T193000
DTSTAMP:20260419T222418
CREATED:20250610T143959Z
LAST-MODIFIED:20250610T143959Z
UID:10005613-1752003000-1752003000@www.club-manufaktur.de
SUMMARY:Sturmflut der Lügen – Wie wir unsere Gesellschaft gegen Desinformation wappnen - Referent – Michael Blume
DESCRIPTION:Referent – Michael Blume \nDas digitale Zeitalter hat eine neue Generation von Verschwörungsmythen\, Fake Facts und Desinformationen hervorgebracht\, die unsere Demokratie\, ja uns alle herausfordern und bedrohen.\nEgal ob Coronapandemie\, Energiekrise oder der russische Angriffskrieg: Krisenzeiten begünstigen Verschwörungsglauben und wo Verschwörungsmythen sich verbreiten\, ist Antisemitismus nie weit. Wenn die Pest kam\, brannten die Synagogen. Es erschien stets einfacher\, andere anzugreifen als mit einer diffusen Angst vernünftig umzugehen. Schon zu Beginn der Corona-Pandemie wurde das Virus als „jüdische Biowaffe“ bezeichnet und antisemitische Verschwörungsmythen wurden verbreitet.  \nWir müssen uns als Gesellschaft auf kommende Krisen vorbereiten müssen. Dazu zählt auch der Klimawandel. An der Tragödie im Ahrtal sehen wir\, wie Starkregen ganze Existenzen wegreißen kann. Und durch die anhaltende Trockenheit in anderen Teilen Deutschlands wird Wasser immer mehr zur Mangelware. Wir müssen befürchten\, dass auch dabei Desinformation\, Verschwörungsmythen und sogar Antisemitismus aufflackern werden. Doch wenn wir jetzt schon darüber aufklären\, können wir unsere Demokratie dagegen stark machen. \nDr. Michael Blume\, Religions- und Politikwissenschaftler\, ist Beauftragter gegen Antisemitismus in Baden-Württemberg. Der evangelische Christ ist mit einer Muslimin verheiratet und leitete bis Juni 2020 das Referat »Nichtchristliche Religionen\, Werte\, Minderheiten und Projekte Nordirak« im Staatsministerium Baden-Württemberg. Er hat über Religion und Hirnforschung promoviert und zuletzt das Buch „Verschwörungsmythen – Woher sie kommen\, was sie anrichten\, wie wir ihnen begegnen können“ veröffentlicht. \nEintritt frei\, um Spenden wird gebeten \nVeranstalter – Schorndorfer Bündnis gegen Rassismus und Rechtsextremismus in Kooperation mit dem Forum Politik in der Manufaktur
URL:https://www.club-manufaktur.de/event/sturmflut-der-luegen-wie-wir-unsere-gesellschaft-gegen-desinformation-wappnen-referent-michael-blume/
LOCATION:Manufaktur\, Saal\, Hammerschlag 8\, Schorndorf\, 73614\, Deutschland
CATEGORIES:Politik
END:VEVENT
END:VCALENDAR