BEGIN:VCALENDAR
VERSION:2.0
PRODID:-//Club Manufaktur e.V. aus Schorndorf - ECPv6.15.20//NONSGML v1.0//EN
CALSCALE:GREGORIAN
METHOD:PUBLISH
X-ORIGINAL-URL:https://www.club-manufaktur.de
X-WR-CALDESC:Veranstaltungen für Club Manufaktur e.V. aus Schorndorf
REFRESH-INTERVAL;VALUE=DURATION:PT1H
X-Robots-Tag:noindex
X-PUBLISHED-TTL:PT1H
BEGIN:VTIMEZONE
TZID:Europe/Berlin
BEGIN:DAYLIGHT
TZOFFSETFROM:+0100
TZOFFSETTO:+0200
TZNAME:CEST
DTSTART:20240331T010000
END:DAYLIGHT
BEGIN:STANDARD
TZOFFSETFROM:+0200
TZOFFSETTO:+0100
TZNAME:CET
DTSTART:20241027T010000
END:STANDARD
BEGIN:DAYLIGHT
TZOFFSETFROM:+0100
TZOFFSETTO:+0200
TZNAME:CEST
DTSTART:20250330T010000
END:DAYLIGHT
BEGIN:STANDARD
TZOFFSETFROM:+0200
TZOFFSETTO:+0100
TZNAME:CET
DTSTART:20251026T010000
END:STANDARD
BEGIN:DAYLIGHT
TZOFFSETFROM:+0100
TZOFFSETTO:+0200
TZNAME:CEST
DTSTART:20260329T010000
END:DAYLIGHT
BEGIN:STANDARD
TZOFFSETFROM:+0200
TZOFFSETTO:+0100
TZNAME:CET
DTSTART:20261025T010000
END:STANDARD
END:VTIMEZONE
BEGIN:VEVENT
DTSTART;TZID=Europe/Berlin:20250705T200000
DTEND;TZID=Europe/Berlin:20250705T213000
DTSTAMP:20260419T191507
CREATED:20250512T123957Z
LAST-MODIFIED:20251120T114321Z
UID:10005601-1751745600-1751751000@www.club-manufaktur.de
SUMMARY:WaveTanzen in der Manufaktur - Tanze deine Welle!
DESCRIPTION:WaveTanzen in der Manufaktur – Tanze deine Welle! \nWaveTanzen gibt dir die Möglichkeit\, den ganzen Körper intensiv zu bewegen und dabei emotionale und mentale Anspannung loszulassen.\nDu tanzt für dich und bewegst dich zur Musik fünf verschiedener Rhythmen. Die Musik nimmt dich auf eine Bewegungsreise mit\, bei der du deiner eigenen Verspieltheit\, Neugierde und Inspiration folgen kannst.\nZum Ankommen starten wir im gemeinsamen Anfangskreis. Die Musik beginnt ruhig\, baut sich dann mehr und mehr auf\, findet kraftvolle Höhepunkte und ebbt dann nach und nach wieder sanft ab. Die Kommunikation während des Tanzes in der Gruppe findet nonverbal statt. Im Anschluss an die Bewegung gibt es eine Verabschiedung im Abschlusskreis. \nKosten: Wir bitten um Spenden\nAnmeldung: einfach vorbeikommen! Alle sind willkommen!\nNicht vergessen: Bewegungsfreundliche Kleidung\, wir tanzen in Schläppchen\, Socken oder barfüßig.\nWo: Tanzwerkstatt / Kursraum\nVerantwortliche: Jörg Hielscher\, Claudia Rak-Oelschlegel
URL:https://www.club-manufaktur.de/event/wavetanzen-in-der-manufaktur-tanze-deine-welle-2/2025-07-05/
LOCATION:Kursraum
CATEGORIES:Workshop
ATTACH;FMTTYPE=image/jpeg:https://www.club-manufaktur.de/wp-content/uploads/2025/03/wave-foto.jpg
END:VEVENT
BEGIN:VEVENT
DTSTART;TZID=Europe/Berlin:20250706T110000
DTEND;TZID=Europe/Berlin:20250706T140000
DTSTAMP:20260419T191507
CREATED:20241024T194049Z
LAST-MODIFIED:20241024T194049Z
UID:10005426-1751799600-1751810400@www.club-manufaktur.de
SUMMARY:The Royal Ballet: Ballet to Broadway - Wheeldon Works
DESCRIPTION:Sinnliches zeitgenössisches Ballett trifft in vier unverwechselbaren kurzen Werken auf die Energie des Musiktheaters. Fool’s Paradise\, The Two of Us\, Us\, An American in Paris – vier Ballette\, welche die bemerkenswert breiten choreografischen Kompetenzen von Christopher Wheeldon\, dem Artistic Associate des Royal Ballet\, demonstrieren. \nFool’s Paradise\nDas leuchtende\, schimmernde Fool’s Paradise war die erste der vielen Kollaborationen von Wheeldon und dem Komponisten Joby Talbot. Das Werk wurde 2007 für Wheeldons eigene Balletttruppe Morphoses geschaffen und 2012 vom Royal Ballet uraufgeführt. \nThe Two of Us\nDie wehmütigen Songs von Joni Mitchell geben die Atmosphäre der britischen Premiere von The Two of Us vor. Dieses von tiefer Intimität und Sehnsucht geprägte Duett wurde 2020 für das Festival Fall for Dance in New York kreiert\, und zur ursprünglichen Besetzung zählten unter anderem die amerikanischen Ballettstars Sarah Mearns und David Hallberg. \nUs (Duett)\nUs ist ein zartes\, von zwei Männern getanztes Duett zu der Musik von Keaten Henson\, das 2017 für BalletBoyz geschaffen wurde  \nAn American in Paris (Ballett)\nDas Royal Ballet feiert Wheeldons außergewöhnlichen Erfolg im Bereich Musiktheater mit der Ballettszene aus seinem Tony-Award-gekrönten Musical An American in Paris. Dieses Werk mit seinen jazzigen Gershwin-Melodien ist durch den Film Ein Amerikaner in Paris von 1951 inspiriert\, in dem Gene Kelly und Leslie Caron in den Hauptrollen zu sehen sind. Das Musical wurde mit vier Tony Awards ausgezeichnet. In seiner vollständigen Fassung beschreibt es die aufkeimende Romanze zwischen dem amerikanischen G.I. Jerry Mulligan und einer französischen Ballerina\, Lise Dassin. Der Ballett-Auszug war Wheeldons Interpretation einer der unvergesslichsten Szenen aus dem Film – eine ausgedehnte Sequenz\, in der die beiden Hauptfiguren durch Paris tanzen. \nChoreografie: Christopher Wheeldon\nDirigent: Koen Kessels\nMusik: Joby Talbot\, Joni Mitchell\, Keaton Henson\, George Gershwin\nDauer: 180 Minuten \nNehmen Sie Platz im weltberühmten Opernhaus und genießen Sie höchste Ballettkunst auf der Kinoleinwand!\nAufzeichnung der Kinoübertragung aus dem Royal Opera House London\, inkl. Interviews\, Aufnahmen von den Ballettproben und vieles mehr. \nEintritt: 25 € / 18\,50 € (ermäßigt für SchülerInnen\, StudentInnen und Manu-Mitglieder)\nInkl. 1 Glas Begrüßungssekt oder Saft und Pausenhäppchen \nTicketreservierungen unter info@manukino.de oder 07181-61418
URL:https://www.club-manufaktur.de/event/the-royal-ballet-ballet-to-broadway-wheeldon-works/
LOCATION:Kino Kleine Fluchten\, Hammerschlag 8\, Schorndorf\, 73614\, Deutschland
CATEGORIES:Kino
ATTACH;FMTTYPE=image/jpeg:https://www.club-manufaktur.de/wp-content/uploads/2024/10/Ballet-To-Broadway.jpg
ORGANIZER;CN="Kino Kleine Fluchten":MAILTO:info@manukino.de
END:VEVENT
END:VCALENDAR