BEGIN:VCALENDAR
VERSION:2.0
PRODID:-//Club Manufaktur e.V. aus Schorndorf - ECPv6.15.20//NONSGML v1.0//EN
CALSCALE:GREGORIAN
METHOD:PUBLISH
X-WR-CALNAME:Club Manufaktur e.V. aus Schorndorf
X-ORIGINAL-URL:https://www.club-manufaktur.de
X-WR-CALDESC:Veranstaltungen für Club Manufaktur e.V. aus Schorndorf
REFRESH-INTERVAL;VALUE=DURATION:PT1H
X-Robots-Tag:noindex
X-PUBLISHED-TTL:PT1H
BEGIN:VTIMEZONE
TZID:Europe/Berlin
BEGIN:DAYLIGHT
TZOFFSETFROM:+0100
TZOFFSETTO:+0200
TZNAME:CEST
DTSTART:20240331T010000
END:DAYLIGHT
BEGIN:STANDARD
TZOFFSETFROM:+0200
TZOFFSETTO:+0100
TZNAME:CET
DTSTART:20241027T010000
END:STANDARD
BEGIN:DAYLIGHT
TZOFFSETFROM:+0100
TZOFFSETTO:+0200
TZNAME:CEST
DTSTART:20250330T010000
END:DAYLIGHT
BEGIN:STANDARD
TZOFFSETFROM:+0200
TZOFFSETTO:+0100
TZNAME:CET
DTSTART:20251026T010000
END:STANDARD
BEGIN:DAYLIGHT
TZOFFSETFROM:+0100
TZOFFSETTO:+0200
TZNAME:CEST
DTSTART:20260329T010000
END:DAYLIGHT
BEGIN:STANDARD
TZOFFSETFROM:+0200
TZOFFSETTO:+0100
TZNAME:CET
DTSTART:20261025T010000
END:STANDARD
END:VTIMEZONE
BEGIN:VEVENT
DTSTART;TZID=Europe/Berlin:20250618T180000
DTEND;TZID=Europe/Berlin:20250618T220000
DTSTAMP:20260420T062736
CREATED:20250509T164327Z
LAST-MODIFIED:20250509T191942Z
UID:10005597-1750269600-1750284000@www.club-manufaktur.de
SUMMARY:POP-UP: MANUKNEIPE GOES VEGAN
DESCRIPTION:POP-UP: MANUKNEIPE GOES VEGAN \nPflanzlich. Kreativ. Unkompliziert. \nAb Juni wird die Manukneipe einmal im Monat – immer mittwochs – zum veganen Pop-up. \nKeine Regeln\, kein Dogma – einfach gutes Essen. \nWir starten am 18. Juni 2025. \nWeitere Termine: Homepage & Socials \nClub Manufaktur Kneipe\nHammerschlag 8 · 73614 Schorndorf\n+49 179 4840600\nkneipe@club-manufaktur.de \nVeggie vibes only.\n#manukneipegoesvegan #popupplantpower
URL:https://www.club-manufaktur.de/event/pop-up-manukneipe-goes-vegan/
LOCATION:Kneipe
CATEGORIES:Kneipe
ATTACH;FMTTYPE=image/jpeg:https://www.club-manufaktur.de/wp-content/uploads/2021/03/club-kneipe_sonntagessen-2015_16-1-bbTmfn.tmp_.jpg
ORGANIZER;CN="Club Kneipe":MAILTO:kneipe@club-manufaktur.de
END:VEVENT
BEGIN:VEVENT
DTSTART;TZID=Europe/Berlin:20250619T203000
DTEND;TZID=Europe/Berlin:20250619T203000
DTSTAMP:20260420T062736
CREATED:20250226T150034Z
LAST-MODIFIED:20250527T144203Z
UID:10005568-1750365000-1750365000@www.club-manufaktur.de
SUMMARY:STEREOLAB (UK) - Support: Astrobal
DESCRIPTION:Stereolab ist eine 1990 in London gegründete britische Rockband\, die als Vertreter des Post-Rock gilt und eine Mischung aus Pop\, Rock und Elektronik spielt. Ihr Sound wird durch den Kontrast von Orgelakkorden und dem charakteristischen Gesang von Lætitia Sadier geprägt. Die Band ging aus McCarthy hervor und erlebte viele Besetzungswechsel\, wobei Tim Gane und Lætitia Sadier konstant blieben. Wichtige Mitglieder waren u.a. Joe Dilworth\, Mary Hansen und Sean O’Hagan. 2009 pausierte die Band\, veröffentlichte 2010 jedoch noch das Album Not Music. Seit 2019 ist Stereolab wieder aktiv und veröffentlichte 2021 und 2022 die Alben Switched On Volume 4 und 5. \nPräsentiert: Musikexpress\, MusikBlog\, ByteFM \nEintritt:\n33.- Vvk plus Gebühr\n42.- Abendkasse\n32.- Mitglieder \nDirekt vom Büro aus via Post versandte Karten (mit einer Bearbeitungsgebühr von 3€ pro Bestellung) gibt es bis 14 Uhr auf unserer Seite. Falls wir die Tickets nicht mehr rechtzeitig per Post versenden können\, werden sie an der Abendkasse auf deinen Namen hinterlegt.
URL:https://www.club-manufaktur.de/event/stereolab-uk/
LOCATION:Manufaktur\, Saal\, Hammerschlag 8\, Schorndorf\, 73614\, Deutschland
CATEGORIES:Konzert,Ticket
ATTACH;FMTTYPE=image/jpeg:https://www.club-manufaktur.de/wp-content/uploads/2025/02/stereolab_pm.jpeg
END:VEVENT
BEGIN:VEVENT
DTSTART;TZID=Europe/Berlin:20250621T200000
DTEND;TZID=Europe/Berlin:20250621T200000
DTSTAMP:20260420T062736
CREATED:20250114T125049Z
LAST-MODIFIED:20250617T140931Z
UID:10005556-1750536000-1750536000@www.club-manufaktur.de
SUMMARY:MATTHIAS EGERSDÖRFER - KABARETT - Soloprogramm: langsam
DESCRIPTION:In der Früh fängt es manchmal an\, dass der Himmel ohne Vorwarnung auf dich herunterstürzt. Die Frau hat zu wenig oder zu viel geschlafen. Sie redet drauflos. Unter einer Lawine aus Wörtern wirst du verschüttet. Da hast du noch keinen Schluck Kaffee getrunken. Du bist froh\, dass die Erdanziehungskraft funktioniert und warst gerade dabei\, deine Finger zu zählen. Schlimm an der Situation ist die hohe Geschwindigkeit\, mit der die Wörter gesprochen werden. Schlimm ist das Gerenne der Mitmenschen in den Straßen\, das Rasen der Traktoren über die Felder\, die Hochgeschwindigkeit\, mit der die Nachrichten und Katastrophen blitzen und donnern. Es ist einige Jahre her\, dass der Egers einmal in einer Küche gearbeitet hat. Die Küchenchefin hat in kurzer Zeit dreihundert Mal zu ihm gesagt\, dass er sich beeilen soll. Der Egers hat es versucht.  Aber es ging nicht schneller. Der Egers ist langsam. Er schneidet Zwiebeln langsam\, denkt langsam und spricht meistens nicht besonders schnell. In dieser Langsamkeit hat er auch das neue Programm geschrieben. Das hat sehr lange gedauert. Buchstabe um Buchstabe\, Wort um Wort. Satz um Satz. Mit einer trägen Wucht stemmt sich der Kabarettist darin gegen die Schnelligkeit der Welt. Der ganze Abend feiert die Langsamkeit und deswegen werden auch die Geschichten nicht in erhöhtem Tempo vorgetragen. Aber Sie brauchen sich als Zuschauer keine Sorgen zu machen\, dass Sie wegen der geringen Geschwindigkeit vielleicht müde werden. Weil es gut sein kann\, dass der Egers einmal eine Wut bekommt. Er regt sich ja oft einmal auf wegen Allem und Nichts. Und da wachen Sie dann schon wieder auf.\nRegie : Claudia Schulz \nMatthias Egersdörfer\n1969 in Nürnberg geboren. Kabarettist\, Autor\, Schauspieler und Sänger der Band »Fast zu Fürth«. Zahlreiche Auszeichnungen wurden ihm verliehen\, u. a. das Passauer Scharfrichterbeil\, der Deutsche Kabarettpreis\, der Deutsche Kleinkunstpreis und der österreichische Kabarettpreis. Zusammen mit Jürgen Roth hat Egersdörfer den Briefroman „Die Reise durch Franken“ veröffentlicht\, 2019 ist sein Roman „Vorstadtprinz – Roman meiner Kindheit“ beim Rowohlt Verlag erschienen. Neben vielen CD-Veröffentlichungen\, u. a. „Falten und Kleben“ (2008)\, „Ich mein’s doch nur gut!“ (2011) und „Nachrichten aus dem Hinterhaus“ (2023)\, ist Matthias Egersdörfer auch immer wieder im Fernsehen zu sehen. \nPressezitate:\nKurzum: mal wieder ein theatrales Meisterwerk von Egersdörfer\, diesem so empfindsamen König der Raserei. Süddeutsche Zeitung \n… Mit hauchfeinen Verschiebungen und Brüchen schickt Egersdörfer in seinem Monolog eines melancholischen Misanthropen die Zuschauer auf rasante Gefühlsachterbahnen – bis er schließlich über den Großkotz und Opernliebhaber den Bogen zum Friedfertigen schafft\, der einfach nur seine Ruhe will. Badische Zeitung \nSeine kafkaesken Gedankengänge\, sein freies fränkisches Assoziieren zwischen Karpfen und Amoklauf sucht seines Gleichen. Er ist einfach hingebungsvoll absurd. Fränkischer Tag \nEintritt:\n20.- Euro Vvk plus Gebühr\n24.- Euro Abendkasse\n19.- Euro Mitglieder \nDirekt vom Büro aus via Post versandte Karten (mit einer Bearbeitungsgebühr von 3€ pro Bestellung) gibt es bis 14 Uhr auf unserer Seite. Falls wir die Tickets nicht mehr rechtzeitig per Post versenden können\, werden sie an der Abendkasse auf deinen Namen hinterlegt.
URL:https://www.club-manufaktur.de/event/matthias-egersdoerfer-kabarett-soloprogramm-langsam/
LOCATION:Manufaktur\, Saal\, Hammerschlag 8\, Schorndorf\, 73614\, Deutschland
CATEGORIES:Kabarett,Ticket
ATTACH;FMTTYPE=image/png:https://www.club-manufaktur.de/wp-content/uploads/2025/01/egersdoerfer_plakat.png
END:VEVENT
END:VCALENDAR