BEGIN:VCALENDAR
VERSION:2.0
PRODID:-//Club Manufaktur e.V. aus Schorndorf - ECPv6.15.20//NONSGML v1.0//EN
CALSCALE:GREGORIAN
METHOD:PUBLISH
X-WR-CALNAME:Club Manufaktur e.V. aus Schorndorf
X-ORIGINAL-URL:https://www.club-manufaktur.de
X-WR-CALDESC:Veranstaltungen für Club Manufaktur e.V. aus Schorndorf
REFRESH-INTERVAL;VALUE=DURATION:PT1H
X-Robots-Tag:noindex
X-PUBLISHED-TTL:PT1H
BEGIN:VTIMEZONE
TZID:Europe/Berlin
BEGIN:DAYLIGHT
TZOFFSETFROM:+0100
TZOFFSETTO:+0200
TZNAME:CEST
DTSTART:20240331T010000
END:DAYLIGHT
BEGIN:STANDARD
TZOFFSETFROM:+0200
TZOFFSETTO:+0100
TZNAME:CET
DTSTART:20241027T010000
END:STANDARD
BEGIN:DAYLIGHT
TZOFFSETFROM:+0100
TZOFFSETTO:+0200
TZNAME:CEST
DTSTART:20250330T010000
END:DAYLIGHT
BEGIN:STANDARD
TZOFFSETFROM:+0200
TZOFFSETTO:+0100
TZNAME:CET
DTSTART:20251026T010000
END:STANDARD
BEGIN:DAYLIGHT
TZOFFSETFROM:+0100
TZOFFSETTO:+0200
TZNAME:CEST
DTSTART:20260329T010000
END:DAYLIGHT
BEGIN:STANDARD
TZOFFSETFROM:+0200
TZOFFSETTO:+0100
TZNAME:CET
DTSTART:20261025T010000
END:STANDARD
END:VTIMEZONE
BEGIN:VEVENT
DTSTART;TZID=Europe/Berlin:20250305T203000
DTEND;TZID=Europe/Berlin:20250305T203000
DTSTAMP:20260419T191257
CREATED:20250125T114643Z
LAST-MODIFIED:20250303T141621Z
UID:10005557-1741206600-1741206600@www.club-manufaktur.de
SUMMARY:Fällt leider krankheitsbedingt aus! Wir arbeiten an einem Ersatztermin! - SINEM (D)
DESCRIPTION:Kein Entweder-oder! Sinem\, die Band\, verbindet türkischen Gesang mit New Wave Erinnerungen der 80er Jahre. Arabeske Rhythmen treffen auf minimalistische Synthesizerbässe\, elektronische Klänge und rohe Gitarren. Musikalisch werden Grenzen aufgehoben und Räume für maximale Bewegungsfreiheit geschaffen – auf und vor der Bühne. \nSinem\, die Sängerin\, interpretiert klassische türkische Popsongs neu und kreiert eigene Lieder. Sie stellt eine Verbindung her zu den Erfahrungen der Generation der „Gurbetçiler“\, und macht sie im Hier und Jetzt erlebbar. \nSinem\, das sind Sängerin Sinem\, Tagar (Friends Of Gas) an der Gitarrre und Tom Wu (What Are People For?) an Schlagzeug\, Loops und Produktion. „Ya-veya yok oldu!“ \nEintritt:\n14.- Euro Vvk plus Gebühr\n18.- Euro Abendkasse\n13.- Euro Mitglieder
URL:https://www.club-manufaktur.de/event/sinem-d/
LOCATION:Manufaktur\, Saal\, Hammerschlag 8\, Schorndorf\, 73614\, Deutschland
CATEGORIES:Konzert,Ticket
ATTACH;FMTTYPE=image/jpeg:https://www.club-manufaktur.de/wp-content/uploads/2025/01/sinem_pm1.jpg
END:VEVENT
BEGIN:VEVENT
DTSTART;TZID=Europe/Berlin:20250306T203000
DTEND;TZID=Europe/Berlin:20250306T203000
DTSTAMP:20260419T191257
CREATED:20250109T164000Z
LAST-MODIFIED:20250310T130956Z
UID:10005554-1741293000-1741293000@www.club-manufaktur.de
SUMMARY:MÒS ENSEMBLE (BEL)
DESCRIPTION:Astrid Creve: Voice & Mandoline\nRoos Denayer: Voice & Guitar\nBenjamin Hermans: Saxophone & Clarinets\nArtan Buleshkaj: Guitar\nKobe Boon: Bass & Voice\nSimon Raman: Drums \nDas mòs ensemble ist ein innovatives und grenzüberschreitendes Musikkollektiv\, das sein Publikum mit einer einzigartigen Mischung aus Genres\, fesselnden Performances und einem unermüdlichen Streben nach klanglicher Erkundung fesselt und sich dabei von Indie\, Klassik und Jazz inspirieren lässt. Seit ihrem Debüt im Jahr 2019 hat sich das mòs ensemble schnell als eine treibende Kraft in der belgischen zeitgenössischen Musikszene etabliert. \nPressezitate:\n„Soundtrack-Vibes\, leichtfüßiger Kammerfolk\, sonniger Indiekrautpop\, scharfer Jazzpunk… Check it out!“ (****) – Knack Focus (Belgien) \n„Eine Band\, die sich traut\, diese Art von genialer Musik zu machen\, verdient die größte Bühne und Aufmerksamkeit. mòs ensemble macht das schon seit 3 Alben und sie werden immer besser.“ Written In Music (Belgien) \n„Eine der besten Veröffentlichungen dieses Jahres!“ (über Pets & Therapy) Luminous Dash (Belgien) \nEintritt:\n14.- Euro Vvk plus Gebühr\n18.- Euro Abendkasse\n13.- Euro Mitglieder
URL:https://www.club-manufaktur.de/event/mos-ensemble-bel/
LOCATION:Manufaktur\, Saal\, Hammerschlag 8\, Schorndorf\, 73614\, Deutschland
CATEGORIES:Konzert,Ticket
ATTACH;FMTTYPE=image/jpeg:https://www.club-manufaktur.de/wp-content/uploads/2025/01/mos_ensemble_pm.jpg
END:VEVENT
BEGIN:VEVENT
DTSTART;TZID=Europe/Berlin:20250307T203000
DTEND;TZID=Europe/Berlin:20250307T203000
DTSTAMP:20260419T191257
CREATED:20240424T091851Z
LAST-MODIFIED:20240918T142610Z
UID:10005274-1741379400-1741379400@www.club-manufaktur.de
SUMMARY:THE OUTSKIRTS - Dave Rempis\, Ingebrigt Håker-Flaten\, Frank Rosaly (USA/NO) - Jazz
DESCRIPTION:Dave Rempis – Saxophone\nIngebrigt Håker-Flaten – Kontrabass\nFrank Rosaly – Schlagzeug \nBei seinem Percussion Quartet muss sich Dave Rempis fühlen wie ein einsamer Kämpfer gegen eine Naturgewalt. Als spiele er an gegen das Prasseln des Regens bei einem Unwetter\, gegen die Hagelkörner und gegen das Tosen des Donners. Er hat keine Angst\, er genießt die Situation sogar. Sein Trio The Outskirts ist das Percussion Quartet ohne den zweiten Drummer Tim Daisy – und zeigt das nackte Fundament von Rempis’ Musik. Weniger brutales Höllenfeuer\, dafür scheinen verstärkt Sonny Rollins\, Frank Lowe  und natürlich Peter Brötzmann durch. Hier spielen Seelenverwandte\, die ihre Liebe für tiefgreifende rhythmische Erkundungen kreativ ausleben. Rempis’ kräftiger Tenor reitet neben Håker-Flatens muskulösen Linien\, während Rosalys unendlich dynamische Herangehensweise für ein beständiges Fundament an Schwung sorgt. Dave Rempis war schon mit vielen verschiedenen Bands in der Manufaktur. Waren alle diese Projekte jemals weniger als großartig? Bevor das vorkommt\, fällt uns der Himmel auf den Kopf. \nEintritt:\n22.- Euro Vvk plus Gebühr\n26.- Euro Abendkasse\n21.- Euro Mitglieder \nDirekt vom Büro aus via Post versandte Karten (mit einer Bearbeitungsgebühr von 2\,50€) gibt es hier auf dieser Seite. Falls wir die Tickets nicht mehr rechtzeitig per Post versenden können\, werden sie an der Abendkasse auf deinen Namen hinterlegt.
URL:https://www.club-manufaktur.de/event/the-outskirts-dave-rempis-ingebrigt-haker-flaten-frank-rosaly-usa-no-jazz/
LOCATION:Manufaktur\, Saal\, Hammerschlag 8\, Schorndorf\, 73614\, Deutschland
CATEGORIES:Jazz,Konzert,Ticket
ATTACH;FMTTYPE=image/jpeg:https://www.club-manufaktur.de/wp-content/uploads/2024/04/dave_rempis_ingebrigt_haker_flaten_frank_rosaly.jpg
END:VEVENT
END:VCALENDAR