BEGIN:VCALENDAR
VERSION:2.0
PRODID:-//Club Manufaktur e.V. aus Schorndorf - ECPv6.15.20//NONSGML v1.0//EN
CALSCALE:GREGORIAN
METHOD:PUBLISH
X-ORIGINAL-URL:https://www.club-manufaktur.de
X-WR-CALDESC:Veranstaltungen für Club Manufaktur e.V. aus Schorndorf
REFRESH-INTERVAL;VALUE=DURATION:PT1H
X-Robots-Tag:noindex
X-PUBLISHED-TTL:PT1H
BEGIN:VTIMEZONE
TZID:Europe/Berlin
BEGIN:DAYLIGHT
TZOFFSETFROM:+0100
TZOFFSETTO:+0200
TZNAME:CEST
DTSTART:20240331T010000
END:DAYLIGHT
BEGIN:STANDARD
TZOFFSETFROM:+0200
TZOFFSETTO:+0100
TZNAME:CET
DTSTART:20241027T010000
END:STANDARD
BEGIN:DAYLIGHT
TZOFFSETFROM:+0100
TZOFFSETTO:+0200
TZNAME:CEST
DTSTART:20250330T010000
END:DAYLIGHT
BEGIN:STANDARD
TZOFFSETFROM:+0200
TZOFFSETTO:+0100
TZNAME:CET
DTSTART:20251026T010000
END:STANDARD
BEGIN:DAYLIGHT
TZOFFSETFROM:+0100
TZOFFSETTO:+0200
TZNAME:CEST
DTSTART:20260329T010000
END:DAYLIGHT
BEGIN:STANDARD
TZOFFSETFROM:+0200
TZOFFSETTO:+0100
TZNAME:CET
DTSTART:20261025T010000
END:STANDARD
END:VTIMEZONE
BEGIN:VEVENT
DTSTART;TZID=Europe/Berlin:20250226T203000
DTEND;TZID=Europe/Berlin:20250226T203000
DTSTAMP:20260419T225029
CREATED:20241113T120036Z
LAST-MODIFIED:20250116T111724Z
UID:10005486-1740601800-1740601800@www.club-manufaktur.de
SUMMARY:LES BIG BYRD (SWE)
DESCRIPTION:Die schwedische Supergroup Les Big Byrd besteht aus Jocke Åhlund (Caesars\, Teddybears Stockholm)\, Frans Johansson (ex. Fireside)\, Christian Olsson (ex. Viagra Boys) und Nino Keller (Caesars). \nSie sind für ihren einzigartigen Sound bekannt\, der Elemente aus verschiedenen Genres miteinander verbindet. Ihre Musik lässt sich als eine Mischung aus Psychedelic Rock\, Space Rock und Krautrock beschreiben\, wobei sie oft repetitive\, treibende Rhythmen und halluzinogene Gitarrenriffs verwenden. Der Klang ist oft atmosphärisch\, hypnotisch und von einer gewissen Experimentierfreudigkeit geprägt. Die Band kombiniert dabei elektronische und analoge Klänge und schafft so eine weite\, teils träumerische Klanglandschaft\, die sowohl tanzbar als auch meditativ wirkt. \nPressezitat:\n„Verglichen mit den anderen Psych-Rockern\, die alles mit Fuzz und Hall überziehen\, damit die Songs fertig klingen\, hat Les Big Byrd eine massive Wand der Schönheit geschaffen\, auf die Produzenten wie Brian Eno oder Giorgio Moroder stolz wären\, wenn sie daran beteiligt gewesen wären.“ Far Out Magazine \nEintritt:\n17.- Euro Vvk plus Gebühr\n21.- Euro Abendkasse\n16.- Euro Mitglieder
URL:https://www.club-manufaktur.de/event/les-big-byrd-swe-2/
LOCATION:Manufaktur\, Saal\, Hammerschlag 8\, Schorndorf\, 73614\, Deutschland
CATEGORIES:Konzert,Ticket
ATTACH;FMTTYPE=image/jpeg:https://www.club-manufaktur.de/wp-content/uploads/2024/11/les_big_byrd_by_jenny_kaelmann.jpeg
END:VEVENT
END:VCALENDAR