BEGIN:VCALENDAR
VERSION:2.0
PRODID:-//Club Manufaktur e.V. aus Schorndorf - ECPv6.15.20//NONSGML v1.0//EN
CALSCALE:GREGORIAN
METHOD:PUBLISH
X-ORIGINAL-URL:https://www.club-manufaktur.de
X-WR-CALDESC:Veranstaltungen für Club Manufaktur e.V. aus Schorndorf
REFRESH-INTERVAL;VALUE=DURATION:PT1H
X-Robots-Tag:noindex
X-PUBLISHED-TTL:PT1H
BEGIN:VTIMEZONE
TZID:Europe/Berlin
BEGIN:DAYLIGHT
TZOFFSETFROM:+0100
TZOFFSETTO:+0200
TZNAME:CEST
DTSTART:20230326T010000
END:DAYLIGHT
BEGIN:STANDARD
TZOFFSETFROM:+0200
TZOFFSETTO:+0100
TZNAME:CET
DTSTART:20231029T010000
END:STANDARD
BEGIN:DAYLIGHT
TZOFFSETFROM:+0100
TZOFFSETTO:+0200
TZNAME:CEST
DTSTART:20240331T010000
END:DAYLIGHT
BEGIN:STANDARD
TZOFFSETFROM:+0200
TZOFFSETTO:+0100
TZNAME:CET
DTSTART:20241027T010000
END:STANDARD
BEGIN:DAYLIGHT
TZOFFSETFROM:+0100
TZOFFSETTO:+0200
TZNAME:CEST
DTSTART:20250330T010000
END:DAYLIGHT
BEGIN:STANDARD
TZOFFSETFROM:+0200
TZOFFSETTO:+0100
TZNAME:CET
DTSTART:20251026T010000
END:STANDARD
END:VTIMEZONE
BEGIN:VEVENT
DTSTART;TZID=Europe/Berlin:20240818T100000
DTEND;TZID=Europe/Berlin:20240818T100000
DTSTAMP:20260420T100141
CREATED:20240711T170113Z
LAST-MODIFIED:20240814T132204Z
UID:10005353-1723975200-1723975200@www.club-manufaktur.de
SUMMARY:AUSGEBUCHT! - Frühstücksbuffet in der Club Kneipe
DESCRIPTION:Alle Plätze sind bereits belegt. \nAm Sonntag\, den 18.8. ab 10 Uhr erwartet Euch endlich wieder unser Frühstücksbuffet mit allerlei Köstlichkeiten. Bei sonnigem Wetter gemütlich unter den Kastanienbäumen im Biergarten. \nDa die Plätze begrenzt sind\, bitten wir um Voranmeldung per Email oder direkt vor Ort in der Kneipe. \nPreis pro Person: 19 Euro inklusive Kaffee oder Tee vom Buffet\n(Kinder zahlen 1 Euro pro Lebensjahr) \nWir freuen uns auf Euch!
URL:https://www.club-manufaktur.de/event/fruehstuecksbuffet-in-der-club-kneipe-4/
LOCATION:Kneipe
CATEGORIES:Kneipe
ATTACH;FMTTYPE=image/jpeg:https://www.club-manufaktur.de/wp-content/uploads/2023/02/IMG-20221218-WA0004.jpg
ORGANIZER;CN="Club Kneipe":MAILTO:kneipe@club-manufaktur.de
END:VEVENT
END:VCALENDAR