BEGIN:VCALENDAR
VERSION:2.0
PRODID:-//Club Manufaktur e.V. aus Schorndorf - ECPv6.15.20//NONSGML v1.0//EN
CALSCALE:GREGORIAN
METHOD:PUBLISH
X-WR-CALNAME:Club Manufaktur e.V. aus Schorndorf
X-ORIGINAL-URL:https://www.club-manufaktur.de
X-WR-CALDESC:Veranstaltungen für Club Manufaktur e.V. aus Schorndorf
REFRESH-INTERVAL;VALUE=DURATION:PT1H
X-Robots-Tag:noindex
X-PUBLISHED-TTL:PT1H
BEGIN:VTIMEZONE
TZID:Europe/Berlin
BEGIN:DAYLIGHT
TZOFFSETFROM:+0100
TZOFFSETTO:+0200
TZNAME:CEST
DTSTART:20230326T010000
END:DAYLIGHT
BEGIN:STANDARD
TZOFFSETFROM:+0200
TZOFFSETTO:+0100
TZNAME:CET
DTSTART:20231029T010000
END:STANDARD
BEGIN:DAYLIGHT
TZOFFSETFROM:+0100
TZOFFSETTO:+0200
TZNAME:CEST
DTSTART:20240331T010000
END:DAYLIGHT
BEGIN:STANDARD
TZOFFSETFROM:+0200
TZOFFSETTO:+0100
TZNAME:CET
DTSTART:20241027T010000
END:STANDARD
BEGIN:DAYLIGHT
TZOFFSETFROM:+0100
TZOFFSETTO:+0200
TZNAME:CEST
DTSTART:20250330T010000
END:DAYLIGHT
BEGIN:STANDARD
TZOFFSETFROM:+0200
TZOFFSETTO:+0100
TZNAME:CET
DTSTART:20251026T010000
END:STANDARD
END:VTIMEZONE
BEGIN:VEVENT
DTSTART;TZID=Europe/Berlin:20240730T203000
DTEND;TZID=Europe/Berlin:20240730T203000
DTSTAMP:20260420T001448
CREATED:20240402T080053Z
LAST-MODIFIED:20240422T121944Z
UID:10005229-1722371400-1722371400@www.club-manufaktur.de
SUMMARY:HOTLINE TNT (USA)
DESCRIPTION:Will Anderson glaubt an die wahre Liebe – sowohl als Konzept als auch als Katalysator\, als Bestreben und Inspiration. In seinen 34 Jahren hat der Gründer und Architekt von Hotline TNT diese Liebe vielleicht ein halbes Dutzend Mal gefunden. Jedes Mal war ein enormer Kraftakt nötig\, wie ein Umzug quer durchs Land oder einfach nur das ehrliche Eingeständnis seiner aufkeimenden Anziehung. Es ist eine hoffnungsvolle und verletzliche Art zu existieren\, eine Art\, die dafür sorgt\, dass es im Falle einer Trennung möglichst viele blaue Flecken gibt. Und so ist es für Anderson bisher immer ausgegangen\, egal ob die Luft langsam aus einem einst vollen Ballon entwichen ist oder ob er einfach geplatzt ist und die aufgeblähten Gefühle in einem Augenblick ausgestoßen wurden. \nDiese Spannung ist das Gehirn\, das Blut und das schlagende Herz von Cartwheel\, der zweiten LP von Hotline TNT und ein endlos romantisches Zeugnis über das Streben nach etwas\, das für immer dem Zugriff entgleitet. Als Nebenprodukt von Andersons jahrzehntelanger Suche nach dem wogenden Sound\, der ihm schon lange im Kopf herumschwirrt\, ist Hotline TNT in den letzten vier Jahren durch die lose Verbindung mit einer fieberhaften Welle des Shoegaze-Revivalismus aufgefallen. Und Hotline TNT hat in der Tat die zu erwartenden Prüfsteine im Gepäck: himmelstürmende Gitarren\, die in fluoreszierenden Nebelschwaden aus Verzerrung baden\, aufgeblasene Drums\, die hämmern\, als wollten sie einer Betonkiste entkommen\, und honigsüßer Gesang\, der sich in lebensnaher Mimesis über das chaotische Durcheinander zu erheben versucht. \nPressezitat:\n„Will Anderson amplifies everyday heartbreak with towering shoegaze and supersized power-pop anthems that demand to be played loud.“ Pitchfork\, Best New Music\, 8\,4 von 10 Punkte. \nEintritt:\n15.- Euro Vvk plus Gebühr\n19.- Euro Abendkasse\n11.- Euro Mitglieder \nDirekt vom Büro aus via Post versandte Karten (mit einer Bearbeitungsgebühr von 2\,50€) gibt es hier auf dieser Seite. Falls wir die Tickets nicht mehr rechtzeitig per Post versenden können\, werden sie an der Abendkasse auf deinen Namen hinterlegt.
URL:https://www.club-manufaktur.de/event/hotline-tnt-usa/
LOCATION:Manufaktur\, Saal\, Hammerschlag 8\, Schorndorf\, 73614\, Deutschland
CATEGORIES:Konzert,Ticket
ATTACH;FMTTYPE=image/jpeg:https://www.club-manufaktur.de/wp-content/uploads/2024/04/hotline_tnt_pm.jpg
END:VEVENT
BEGIN:VEVENT
DTSTART;TZID=Europe/Berlin:20240803T203000
DTEND;TZID=Europe/Berlin:20240803T203000
DTSTAMP:20260420T001448
CREATED:20240411T070021Z
LAST-MODIFIED:20240805T133710Z
UID:10005220-1722717000-1722717000@www.club-manufaktur.de
SUMMARY:BLACK MOUNTAIN (CAN)
DESCRIPTION:Großartige Konzerte auf der ganzen Welt haben gereicht\, um Black Mountain aus Vancouver bereits als eine legendäre Band einzuordnen. Aus der Künstlerkommune „Black Mountain Army“ erwachsen\, feiert die fünfköpfige Formation um Frontmann und kreativen Kopf Stephen McBean nicht nur musikalisch die Psychedelik der Goldenen Jahre der Rockmusik. Namen wie Can\, Led Zeppelin\, Pink Floyd\, Velvet Underground drängen sich trotz ganz eigener Stilausrichtung auf und auch in der gesamten Lebenseinstellung der Band werden alte Hippie-Ideale gelebt. Konsequent verweigern sie sich daher bis heute dem Interesse großer Plattenfirmen und vertrauen ihre Alben lieber dem Indie-Label Jagjaguwar an. \nFast aus dem Nichts kam im Mai 2019 die Nachricht\, dass Black Mountain ein neues Album veröffentlichen. „Destroyer“ hat es überraschenderweise sogar geschafft\, in die Top 100 der deutschen Albumcharts einzusteigen. Es ist ein unmissverständlich ambitioniertes Album\, aufgenommen von einer Gruppe von Musikern\, die auf dem Höhepunkt ihres Könnens operieren. \nDer druckvolle Sound ihrer Livekonzerte beeindruckt auch andere Musiker und führte unter anderem zu Auftritten im Vorprogramm der 2005er US-Tour von Coldplay. \nNach einer etwas ruhigeren Zeit in den letzten Jahren kommen Stephen McBean\, Amber Webber\, Matt Camirand\, Jeremy Schmidt und Joshua Wells aka Black Mountain jetzt noch einmal zurück und geben ein Konzert in der wunderschönen Manufaktur in Schorndorf. \nEintritt:\n27.- Euro Vvk plus Gebühr\n32.- Euro Abendkasse\n19.- Euro Mitglieder \nDirekt vom Büro aus via Post versandte Karten (mit einer Bearbeitungsgebühr von 2\,50€) gibt es hier auf dieser Seite. Falls wir die Tickets nicht mehr rechtzeitig per Post versenden können\, werden sie an der Abendkasse auf deinen Namen hinterlegt.
URL:https://www.club-manufaktur.de/event/black-mountain-can/
LOCATION:Manufaktur\, Saal\, Hammerschlag 8\, Schorndorf\, 73614\, Deutschland
CATEGORIES:Konzert,Ticket
ATTACH;FMTTYPE=image/jpeg:https://www.club-manufaktur.de/wp-content/uploads/2024/04/black_mountain_pm.jpg
END:VEVENT
END:VCALENDAR