BEGIN:VCALENDAR
VERSION:2.0
PRODID:-//Club Manufaktur e.V. aus Schorndorf - ECPv6.15.20//NONSGML v1.0//EN
CALSCALE:GREGORIAN
METHOD:PUBLISH
X-ORIGINAL-URL:https://www.club-manufaktur.de
X-WR-CALDESC:Veranstaltungen für Club Manufaktur e.V. aus Schorndorf
REFRESH-INTERVAL;VALUE=DURATION:PT1H
X-Robots-Tag:noindex
X-PUBLISHED-TTL:PT1H
BEGIN:VTIMEZONE
TZID:Europe/Berlin
BEGIN:DAYLIGHT
TZOFFSETFROM:+0100
TZOFFSETTO:+0200
TZNAME:CEST
DTSTART:20230326T010000
END:DAYLIGHT
BEGIN:STANDARD
TZOFFSETFROM:+0200
TZOFFSETTO:+0100
TZNAME:CET
DTSTART:20231029T010000
END:STANDARD
BEGIN:DAYLIGHT
TZOFFSETFROM:+0100
TZOFFSETTO:+0200
TZNAME:CEST
DTSTART:20240331T010000
END:DAYLIGHT
BEGIN:STANDARD
TZOFFSETFROM:+0200
TZOFFSETTO:+0100
TZNAME:CET
DTSTART:20241027T010000
END:STANDARD
BEGIN:DAYLIGHT
TZOFFSETFROM:+0100
TZOFFSETTO:+0200
TZNAME:CEST
DTSTART:20250330T010000
END:DAYLIGHT
BEGIN:STANDARD
TZOFFSETFROM:+0200
TZOFFSETTO:+0100
TZNAME:CET
DTSTART:20251026T010000
END:STANDARD
END:VTIMEZONE
BEGIN:VEVENT
DTSTART;TZID=Europe/Berlin:20240716T220000
DTEND;TZID=Europe/Berlin:20240716T220000
DTSTAMP:20260419T204728
CREATED:20240613T131042Z
LAST-MODIFIED:20240613T131042Z
UID:10005343-1721167200-1721167200@www.club-manufaktur.de
SUMMARY:Schowo-Handballer-Disko
DESCRIPTION:Schowo-Handballer-Disko
URL:https://www.club-manufaktur.de/event/schowo-handballer-disko-6/2024-07-16/
LOCATION:Manufaktur\, Saal\, Hammerschlag 8\, Schorndorf\, 73614\, Deutschland
CATEGORIES:Party
ATTACH;FMTTYPE=image/jpeg:https://www.club-manufaktur.de/wp-content/uploads/2021/03/tmp_8a5cf2cb68d1718d0a2548833bcf8a64_Disco-iZ9hDG.tmp_.jpg
END:VEVENT
BEGIN:VEVENT
DTSTART;TZID=Europe/Berlin:20240717T203000
DTEND;TZID=Europe/Berlin:20240717T203000
DTSTAMP:20260419T204728
CREATED:20240212T150029Z
LAST-MODIFIED:20240710T172503Z
UID:10005135-1721248200-1721248200@www.club-manufaktur.de
SUMMARY:WAXAHATCHEE & BAND (USA) - Support: Anna St. Louis
DESCRIPTION:Katie Crutchfield ist eine echte Überzeugungstäterin. Seit mehr als einem Jahrzehnt hüpft die 35-jährige Amerikanerin auf den Platten ihres Projekts Waxahatchee im Dunstkreis von Americana und Indie mit bemerkenswerter Selbstverständlichkeit von Genre zu Genre und folgt dabei jenseits von flüchtigen Trends und den Versuchungen des schnellen Erfolges unbeirrt und unerschrocken ihrer eigenen Muse. Gesegnet mit einer unverwechselbaren Stimme\, die ehrlich und nah mit typischem Südstaaten-Charm betört\, ist sie auch in ihrer Melodieführung so eigen\, dass ihre Musik nach einem halben Dutzend Platten inzwischen praktisch referenzlos ist. Für ihre kommende Tour\, auf der sie im Juli gemeinsam mit ihrer Band in Köln\, Schorndorf\, Berlin und Hamburg Station machen wird\, hat die ursprünglich aus Alabama stammende\, inzwischen in Kansas heimische Künstlerin ihr famoses neues Album „Tigers Blood“ im Gepäck\, auf dem sie entschlossener und selbstsicherer klingt denn je und der Wahrheit furchtlos ins Auge blickt. \nKatie Crutchfield kann bereits auf eine beeindruckende Karriere zurückblicken\, die sie in den letzten zwölf Jahren von der Intimität und Verletzlichkeit des Waxahatchee-Lo-Fi-Folk-Erstlings „American Weekend“ zu deutlich wuchtigeren\, grenzüberschreitenden Indierock-Produktionen und zurück zum 2020er-Glanzlicht „Saint Cloud“ geführt hat\, das von genau dem Americana-Crooner-Flair geprägt war\, das nun auch auf „Tigers Blood“ im Zentrum steht. „Ich schätze mich glücklich\, dass ich mich im Kleinen stets neu erfinden kann\, ohne dabei meine natürlichen Talente aufs Spiel zu setzen“\, sagte Crutchfield vor einigen Jahren einmal\, und tatsächlich spürt man auch bei ihren Konzerten\, dass sie sich für ihr Tun nie verbiegen muss. Mit tiefempfundenen Emotionen\, den mitten aus dem Leben gegriffenen und doch hart erkämpften Weisheiten ihrer Songtexte und ihrem unaufgeregten\, unaffektierten Auftreten ist es für Crutchfield so auch auf der Bühne ein Leichtes\, mit Einzigartigkeit zu faszinieren und zu begeistern. \nPressezitate:\n„a record that feels like it’s going to be one of 2024’s landmark releases.“ Rolling Stone \n„a fiery and biting country-rock foot-stomper that allows Crutchfield to channel some serious had-it-up-to-here attitude.“ New York Times \n„Crutchfield elevates Waxahatchee to a fortified\, admirable form on a new album that’s as immediate as the all-timer lead single „Right Back To It“ Pitchfork \n“a showcase of Katie in the peak of her powers” DIY \n„Some of the best alt-country of the decade“ Paste Magazine \nPräsentiert von: Kulturnews\, laut.de\, Bedroomdisco & ByteFM \n\n\nEintritt:\n25.- Euro Vvk plus Gebühr\n30.- Euro Abendkasse\n18.- Euro Mitglieder \nDirekt vom Büro aus via Post versandte Karten (mit einer Bearbeitungsgebühr von 2\,50€) gibt es hier auf dieser Seite. Falls wir die Tickets nicht mehr rechtzeitig per Post versenden können\, werden sie an der Abendkasse auf deinen Namen hinterlegt.
URL:https://www.club-manufaktur.de/event/waxahatchee-usa-2/
LOCATION:Manufaktur\, Saal\, Hammerschlag 8\, Schorndorf\, 73614\, Deutschland
CATEGORIES:Konzert,Ticket
ATTACH;FMTTYPE=image/jpeg:https://www.club-manufaktur.de/wp-content/uploads/2024/02/waxahatchee_by_molly_matalon.jpg
END:VEVENT
BEGIN:VEVENT
DTSTART;TZID=Europe/Berlin:20240721T110000
DTEND;TZID=Europe/Berlin:20240721T130000
DTSTAMP:20260419T204728
CREATED:20240701T115603Z
LAST-MODIFIED:20240715T140707Z
UID:10005349-1721559600-1721566800@www.club-manufaktur.de
SUMMARY:Workshop Flashmob im Rahmen der Tanzmeile
DESCRIPTION:Workshop Flashmob im Rahmen der Tanzmeile \nDa bewegt sich was! \nEin Workshop für tanzfreudige Menschen von 9-99 Jahre. \nWenn du Lust hast beim Flashmob zum Auftakt der Tanzmeile am 7. September in der der Schorndorfer Weststadt mitzumachen oder einfach in Gemeinschaft mit netten Leuten tanzen möchtest bist du hier genau richtig! Im zweistündigen Workshop kannst du dich tänzerisch erproben und eine kurze Choreografie erlernen\, welche beim Flashmob aufgeführt werden soll! \nManufaktur/Tanzwerkstatt Schorndorf\, Hammerschlag 8\, Kursraum \nLeitung: Claudia Rak-Oelschlegel \nDie Teilnahme ist kostenlos. Anmeldung bis zum 10.7. unter info@club-manufaktur.de \nMitbringen: Bewegungsfreundliche Kleidung\, Lust zu tanzen!
URL:https://www.club-manufaktur.de/event/workshop-flashmob-im-rahmen-der-tanzmeile/
LOCATION:Kursraum
CATEGORIES:Konzert
ATTACH;FMTTYPE=image/jpeg:https://www.club-manufaktur.de/wp-content/uploads/2024/07/manu50j-094.jpg
END:VEVENT
END:VCALENDAR