BEGIN:VCALENDAR
VERSION:2.0
PRODID:-//Club Manufaktur e.V. aus Schorndorf - ECPv6.15.20//NONSGML v1.0//EN
CALSCALE:GREGORIAN
METHOD:PUBLISH
X-WR-CALNAME:Club Manufaktur e.V. aus Schorndorf
X-ORIGINAL-URL:https://www.club-manufaktur.de
X-WR-CALDESC:Veranstaltungen für Club Manufaktur e.V. aus Schorndorf
REFRESH-INTERVAL;VALUE=DURATION:PT1H
X-Robots-Tag:noindex
X-PUBLISHED-TTL:PT1H
BEGIN:VTIMEZONE
TZID:Europe/Berlin
BEGIN:DAYLIGHT
TZOFFSETFROM:+0100
TZOFFSETTO:+0200
TZNAME:CEST
DTSTART:20220327T010000
END:DAYLIGHT
BEGIN:STANDARD
TZOFFSETFROM:+0200
TZOFFSETTO:+0100
TZNAME:CET
DTSTART:20221030T010000
END:STANDARD
BEGIN:DAYLIGHT
TZOFFSETFROM:+0100
TZOFFSETTO:+0200
TZNAME:CEST
DTSTART:20230326T010000
END:DAYLIGHT
BEGIN:STANDARD
TZOFFSETFROM:+0200
TZOFFSETTO:+0100
TZNAME:CET
DTSTART:20231029T010000
END:STANDARD
BEGIN:DAYLIGHT
TZOFFSETFROM:+0100
TZOFFSETTO:+0200
TZNAME:CEST
DTSTART:20240331T010000
END:DAYLIGHT
BEGIN:STANDARD
TZOFFSETFROM:+0200
TZOFFSETTO:+0100
TZNAME:CET
DTSTART:20241027T010000
END:STANDARD
END:VTIMEZONE
BEGIN:VEVENT
DTSTART;TZID=Europe/Berlin:20231213T190000
DTEND;TZID=Europe/Berlin:20231213T190000
DTSTAMP:20260419T205853
CREATED:20231113T120048Z
LAST-MODIFIED:20231113T120048Z
UID:10004989-1702494000-1702494000@www.club-manufaktur.de
SUMMARY:Anatomie eines Falls
DESCRIPTION:Frankreich 2023\, 151 Min.\, von Justine Triet mit Sandra Hüller\, Swann Arlaud\, Milo Machado Graner\, Antoine Reinartz\, Samuel Theis\, Jehnny Beth\, Saadia Bentaïeb\, Camille Rutherford \nNachdem der Mann einer bekannten Schriftstellerin auf mysteriöse Weise ums Leben gekommen ist und der gemeinsame blinde Sohn nur bedingt als Zeuge taugt\, gerät die Autorin in einem Prozess unter Mordverdacht. Der Film greift zwar teilweise auf Elemente aus Krimis und Gerichtsdramen zurück\, widmet sich im Kern aber mit analytischer Präzision der Verzerrung der Wirklichkeit\, die durch Interpretationen\, unterschiedliche Perspektiven und selektive Wahrnehmung entsteht. Eine glänzend gespielte\, geduldig inszenierte und konsequent ambivalent gehaltene Reflexion über die Unmöglichkeit allgemeingültiger Wahrheit und eindeutiger moralischer Urteile. \nIn Cannes mit der Goldenen Palme ausgezeichnet \n\n 
URL:https://www.club-manufaktur.de/event/anatomie-eines-falls/2023-12-13/
LOCATION:Kino Kleine Fluchten\, Hammerschlag 8\, Schorndorf\, 73614\, Deutschland
CATEGORIES:Kino
ORGANIZER;CN="Kino Kleine Fluchten":MAILTO:info@manukino.de
END:VEVENT
BEGIN:VEVENT
DTSTART;TZID=Europe/Berlin:20231214T183000
DTEND;TZID=Europe/Berlin:20231214T183000
DTSTAMP:20260419T205853
CREATED:20231113T121222Z
LAST-MODIFIED:20231113T121222Z
UID:10004997-1702578600-1702578600@www.club-manufaktur.de
SUMMARY:Vermeer – Reise ins Licht
DESCRIPTION:Niederlande 2023\, 79 Min.\, von Suzanne Raes \nDer niederländische Maler Jan Vermeer (1632-1675) galt als Genie des Barock. Von März bis Juni 2023 waren im Rijksmuseum in Amsterdam 28 seiner 37 überlieferten Werke zu sehen. Der aufschlussreiche Dokumentarfilm zeichnet die Vorbereitung der Ausstellung nach und das Bemühen um die teils weltweit verstreuten Bilder sowie die Debatten um die Authentizität bestimmter Gemälde\, deren Autorschaft umstritten ist. In Interviews mit den Kuratoren der Ausstellung gelingt es\, in die faszinierenden Mikrokosmen der Gemälde einzutauchen und das Geheimnis der mysteriösen „Sphinx von Delft“ ein wenig zu entschlüsseln.
URL:https://www.club-manufaktur.de/event/vermeer-reise-ins-licht/2023-12-14/
LOCATION:Kino Kleine Fluchten\, Hammerschlag 8\, Schorndorf\, 73614\, Deutschland
CATEGORIES:Kino
ORGANIZER;CN="Kino Kleine Fluchten":MAILTO:info@manukino.de
END:VEVENT
BEGIN:VEVENT
DTSTART;TZID=Europe/Berlin:20231214T200000
DTEND;TZID=Europe/Berlin:20231214T200000
DTSTAMP:20260419T205854
CREATED:20230202T152127Z
LAST-MODIFIED:20231123T164150Z
UID:10004433-1702584000-1702584000@www.club-manufaktur.de
SUMMARY:MATTHIAS EGERSDÖRFER - Nachrichten aus dem Hinterhaus (Kabarett)
DESCRIPTION:Gehen sie durch die große Eingangstür des Mietshauses\, dann geradeaus weiter durch das Tor. Jetzt stehen sie im Hinterhof\, links neben ihnen die Abfalleimer\, die riechen mal weniger\, mal mehr. Schreiten sie am besten zügig weiter\, rechts herum\, vorbei an der alten Kastanie\, die ihre Äste in das bisschen Himmel reckt. Gleich dahinter befindet sich der Eingang zum Hinterhaus. Über ein schmales Treppenhaus kommen Sie in den zweiten Stock hinauf. Vor Ihnen befindet sich nun die rote Eingangstür. Dahinter haust der Egers mit der Frau. Treten Sie ein! Hinten in der Wohnung\, da liegt er im Bett und träumt seine lustigen Nachrichten. Im Wohnzimmersessel sitze er und schüttelt den Kopf deswegen. Kommen Sie mit in die Küche\, da hat er gerade ein Käsebrot gegessen\, man kann den Käse noch riechen. Jetzt lehnt er sich zum Küchenfenster hinaus. Sie können ihm direkt über die Schulter blicken. Man hört die alte Frau Schlitzbier aus dem Vorderhaus husten. Einen Stock darunter plärren die Bahulgenkinder und die Kindsmutter; es geht um die Feuerkäfer vom Bub\, die im Bett herumlaufen\, sie plärren so laut\, dass einem schier die Synapsen aus dem Ohr herausfallen. Schnell schließt der Egersdörfer das Fenster wieder und da hat er Sie entdeckt. Doch sie brauchen keine Angst zu haben\, er tut ihnen nichts. Er kocht ihnen sogar einen Kaffee. Sie müssen sich nur zu ihm an den Küchentisch setzen und ihm zuhören und schon erzählt er Ihnen\, was es mit dem Husten und den Käfern auf sich hat und welche Nachrichten aus dem Hinterhaus es noch gibt. Er ist ein guter Erzähler und sie das perfekte Publikum.  \nEintritt:\n18.- Euro Vvk plus Gebühr\n22.- Euro Abendkasse\n13.- Euro Mitglieder \nDirekt vom Büro aus via Post versandte Karten (mit einer Bearbeitungsgebühr von 2\,50€) gibt es hier auf dieser Seite. Falls wir die Tickets nicht mehr rechtzeitig per Post versenden können\, werden sie an der Abendkasse auf deinen Namen hinterlegt.
URL:https://www.club-manufaktur.de/event/matthias-egersdoerfer-nachrichten-aus-dem-hinterhaus-kabarett/
LOCATION:Manufaktur\, Saal\, Hammerschlag 8\, Schorndorf\, 73614\, Deutschland
CATEGORIES:Konzert,Ticket
END:VEVENT
BEGIN:VEVENT
DTSTART;TZID=Europe/Berlin:20231214T203000
DTEND;TZID=Europe/Berlin:20231214T203000
DTSTAMP:20260419T205854
CREATED:20231125T162128Z
LAST-MODIFIED:20231212T095518Z
UID:10005018-1702585800-1702585800@www.club-manufaktur.de
SUMMARY:The Quiet Girl
DESCRIPTION:Irland 2022\, 95 Min.\, von Colm Bairéad mit Carrie Crowley\, Andrew Bennett\, Catherine Clinch \nAls erneut Nachwuchs ins Haus steht\, wird ein von der Familie vernachlässigtes irisches Mädchen über die Sommerferien zu Verwandten geschickt. Dort erfährt es eine Wärme und Zuneigung\, die es aus seiner schmerzhaften Erstarrung befreien. Und doch gibt es auch in der Idylle der irischen Provinz Schmerz und Verlust. Der leise\, zurückhaltende Film über eine Kindheit und die Poesie eines Sommers benötigt nur wenige Dialoge und nähert sich mit sensibler Bildsprache der Wahrnehmung seiner Hauptfigur an. Wohltuend unaufdringlich fügt das Drama dem Kino eine seltene Erzählung über die Perspektive eines jungen Mädchens hinzu.
URL:https://www.club-manufaktur.de/event/the-quiet-girl-2/2023-12-14/
LOCATION:Kino Kleine Fluchten\, Hammerschlag 8\, Schorndorf\, 73614\, Deutschland
CATEGORIES:Kino
ORGANIZER;CN="Kino Kleine Fluchten":MAILTO:info@manukino.de
END:VEVENT
BEGIN:VEVENT
DTSTART;TZID=Europe/Berlin:20231215T183000
DTEND;TZID=Europe/Berlin:20231215T183000
DTSTAMP:20260419T205854
CREATED:20231113T121222Z
LAST-MODIFIED:20231113T121222Z
UID:10004998-1702665000-1702665000@www.club-manufaktur.de
SUMMARY:Vermeer – Reise ins Licht
DESCRIPTION:Niederlande 2023\, 79 Min.\, von Suzanne Raes \nDer niederländische Maler Jan Vermeer (1632-1675) galt als Genie des Barock. Von März bis Juni 2023 waren im Rijksmuseum in Amsterdam 28 seiner 37 überlieferten Werke zu sehen. Der aufschlussreiche Dokumentarfilm zeichnet die Vorbereitung der Ausstellung nach und das Bemühen um die teils weltweit verstreuten Bilder sowie die Debatten um die Authentizität bestimmter Gemälde\, deren Autorschaft umstritten ist. In Interviews mit den Kuratoren der Ausstellung gelingt es\, in die faszinierenden Mikrokosmen der Gemälde einzutauchen und das Geheimnis der mysteriösen „Sphinx von Delft“ ein wenig zu entschlüsseln.
URL:https://www.club-manufaktur.de/event/vermeer-reise-ins-licht/2023-12-15/
LOCATION:Kino Kleine Fluchten\, Hammerschlag 8\, Schorndorf\, 73614\, Deutschland
CATEGORIES:Kino
ORGANIZER;CN="Kino Kleine Fluchten":MAILTO:info@manukino.de
END:VEVENT
BEGIN:VEVENT
DTSTART;TZID=Europe/Berlin:20231215T203000
DTEND;TZID=Europe/Berlin:20231215T203000
DTSTAMP:20260419T205854
CREATED:20230627T140013Z
LAST-MODIFIED:20231123T164145Z
UID:10004791-1702672200-1702672200@www.club-manufaktur.de
SUMMARY:SLOW PULP (USA) - Support: Packs (CAN)
DESCRIPTION:Slow Pulp ist ein in Wisconsin gegründetes und in Chicago ansässiges Rockquartett. Irgendwo zwischen Hymne und Wiegenlied\, deutet ihre Musik auf ein Durcheinander widersprüchlicher Emotionen hin\, die in sanftem und doch prägnanten Witz verpackt sind. \nPräsentiert von: Diffus\, Visions\, Bedroomdisco & ByteFM \nEintritt:\n16.- Euro Vvk plus Gebühr\n20.- Euro Abendkasse\n12.- Euro Mitglieder \nDirekt vom Büro aus via Post versandte Karten (mit einer Bearbeitungsgebühr von 2\,50€) gibt es hier auf dieser Seite. Falls wir die Tickets nicht mehr rechtzeitig per Post versenden können\, werden sie an der Abendkasse auf deinen Namen hinterlegt.
URL:https://www.club-manufaktur.de/event/slow-pulp-usa/
LOCATION:Manufaktur\, Saal\, Hammerschlag 8\, Schorndorf\, 73614\, Deutschland
CATEGORIES:Konzert,Ticket
ATTACH;FMTTYPE=image/jpeg:https://www.club-manufaktur.de/wp-content/uploads/2023/06/slow_pulp_alexa_viscius.jpg
END:VEVENT
BEGIN:VEVENT
DTSTART;TZID=Europe/Berlin:20231215T203000
DTEND;TZID=Europe/Berlin:20231215T203000
DTSTAMP:20260419T205854
CREATED:20231125T162128Z
LAST-MODIFIED:20231212T095518Z
UID:10004990-1702672200-1702672200@www.club-manufaktur.de
SUMMARY:The Quiet Girl
DESCRIPTION:Irland 2022\, 95 Min.\, von Colm Bairéad mit Carrie Crowley\, Andrew Bennett\, Catherine Clinch \nAls erneut Nachwuchs ins Haus steht\, wird ein von der Familie vernachlässigtes irisches Mädchen über die Sommerferien zu Verwandten geschickt. Dort erfährt es eine Wärme und Zuneigung\, die es aus seiner schmerzhaften Erstarrung befreien. Und doch gibt es auch in der Idylle der irischen Provinz Schmerz und Verlust. Der leise\, zurückhaltende Film über eine Kindheit und die Poesie eines Sommers benötigt nur wenige Dialoge und nähert sich mit sensibler Bildsprache der Wahrnehmung seiner Hauptfigur an. Wohltuend unaufdringlich fügt das Drama dem Kino eine seltene Erzählung über die Perspektive eines jungen Mädchens hinzu.
URL:https://www.club-manufaktur.de/event/the-quiet-girl-2/2023-12-15/
LOCATION:Kino Kleine Fluchten\, Hammerschlag 8\, Schorndorf\, 73614\, Deutschland
CATEGORIES:Kino
ORGANIZER;CN="Kino Kleine Fluchten":MAILTO:info@manukino.de
END:VEVENT
BEGIN:VEVENT
DTSTART;TZID=Europe/Berlin:20231216T183000
DTEND;TZID=Europe/Berlin:20231216T183000
DTSTAMP:20260419T205854
CREATED:20231113T121222Z
LAST-MODIFIED:20231113T121222Z
UID:10004999-1702751400-1702751400@www.club-manufaktur.de
SUMMARY:Vermeer – Reise ins Licht
DESCRIPTION:Niederlande 2023\, 79 Min.\, von Suzanne Raes \nDer niederländische Maler Jan Vermeer (1632-1675) galt als Genie des Barock. Von März bis Juni 2023 waren im Rijksmuseum in Amsterdam 28 seiner 37 überlieferten Werke zu sehen. Der aufschlussreiche Dokumentarfilm zeichnet die Vorbereitung der Ausstellung nach und das Bemühen um die teils weltweit verstreuten Bilder sowie die Debatten um die Authentizität bestimmter Gemälde\, deren Autorschaft umstritten ist. In Interviews mit den Kuratoren der Ausstellung gelingt es\, in die faszinierenden Mikrokosmen der Gemälde einzutauchen und das Geheimnis der mysteriösen „Sphinx von Delft“ ein wenig zu entschlüsseln.
URL:https://www.club-manufaktur.de/event/vermeer-reise-ins-licht/2023-12-16/
LOCATION:Kino Kleine Fluchten\, Hammerschlag 8\, Schorndorf\, 73614\, Deutschland
CATEGORIES:Kino
ORGANIZER;CN="Kino Kleine Fluchten":MAILTO:info@manukino.de
END:VEVENT
BEGIN:VEVENT
DTSTART;TZID=Europe/Berlin:20231216T203000
DTEND;TZID=Europe/Berlin:20231216T203000
DTSTAMP:20260419T205854
CREATED:20231113T120831Z
LAST-MODIFIED:20231125T162035Z
UID:10004993-1702758600-1702758600@www.club-manufaktur.de
SUMMARY:The Quiet Girl
DESCRIPTION:Irland 2022\, 95 Min.\, von Colm Bairéad mit Carrie Crowley\, Andrew Bennett\, Catherine Clinch \nAls erneut Nachwuchs ins Haus steht\, wird ein von der Familie vernachlässigtes irisches Mädchen über die Sommerferien zu Verwandten geschickt. Dort erfährt es eine Wärme und Zuneigung\, die es aus seiner schmerzhaften Erstarrung befreien. Und doch gibt es auch in der Idylle der irischen Provinz Schmerz und Verlust. Der leise\, zurückhaltende Film über eine Kindheit und die Poesie eines Sommers benötigt nur wenige Dialoge und nähert sich mit sensibler Bildsprache der Wahrnehmung seiner Hauptfigur an. Wohltuend unaufdringlich fügt das Drama dem Kino eine seltene Erzählung über die Perspektive eines jungen Mädchens hinzu.
URL:https://www.club-manufaktur.de/event/the-quiet-girl/2023-12-16/
LOCATION:Kino Kleine Fluchten\, Hammerschlag 8\, Schorndorf\, 73614\, Deutschland
CATEGORIES:Kino
ORGANIZER;CN="Kino Kleine Fluchten":MAILTO:info@manukino.de
END:VEVENT
BEGIN:VEVENT
DTSTART;TZID=Europe/Berlin:20231216T220000
DTEND;TZID=Europe/Berlin:20231216T220000
DTSTAMP:20260419T205854
CREATED:20230920T150559Z
LAST-MODIFIED:20230920T150559Z
UID:10004889-1702764000-1702764000@www.club-manufaktur.de
SUMMARY:80er-90er-2000er Party feat. DJ Major Tom
DESCRIPTION:Tanzflächenglück mit den Hymnen aus 3 Jahrzehnten. Die Zeitreise in die Musikepoche beinhaltet die prägendsten und tanzbarsten Songs dieser Zeit. Lasst euch mittragen\, verbringt mit uns den Abend im Musikhimmel der 80er\, 90er und 2000er! \nEinlass ab 22 Uhr!\nEinlass ab 18 Jahren!
URL:https://www.club-manufaktur.de/event/80er-90er-2000er-party-feat-dj-major-tom-9/2023-12-16/
LOCATION:Manufaktur\, Saal\, Hammerschlag 8\, Schorndorf\, 73614\, Deutschland
CATEGORIES:Party
ATTACH;FMTTYPE=image/jpeg:https://www.club-manufaktur.de/wp-content/uploads/2021/03/tmp_b0e16da779751b96e05b93cf2e1ee9c4_Disco-zjkodv.tmp_.jpg
END:VEVENT
BEGIN:VEVENT
DTSTART;TZID=Europe/Berlin:20231217T170000
DTEND;TZID=Europe/Berlin:20231217T170000
DTSTAMP:20260419T205854
CREATED:20231113T121222Z
LAST-MODIFIED:20231113T121222Z
UID:10005000-1702832400-1702832400@www.club-manufaktur.de
SUMMARY:Vermeer – Reise ins Licht
DESCRIPTION:Niederlande 2023\, 79 Min.\, von Suzanne Raes \nDer niederländische Maler Jan Vermeer (1632-1675) galt als Genie des Barock. Von März bis Juni 2023 waren im Rijksmuseum in Amsterdam 28 seiner 37 überlieferten Werke zu sehen. Der aufschlussreiche Dokumentarfilm zeichnet die Vorbereitung der Ausstellung nach und das Bemühen um die teils weltweit verstreuten Bilder sowie die Debatten um die Authentizität bestimmter Gemälde\, deren Autorschaft umstritten ist. In Interviews mit den Kuratoren der Ausstellung gelingt es\, in die faszinierenden Mikrokosmen der Gemälde einzutauchen und das Geheimnis der mysteriösen „Sphinx von Delft“ ein wenig zu entschlüsseln.
URL:https://www.club-manufaktur.de/event/vermeer-reise-ins-licht/2023-12-17/
LOCATION:Kino Kleine Fluchten\, Hammerschlag 8\, Schorndorf\, 73614\, Deutschland
CATEGORIES:Kino
ORGANIZER;CN="Kino Kleine Fluchten":MAILTO:info@manukino.de
END:VEVENT
BEGIN:VEVENT
DTSTART;TZID=Europe/Berlin:20231217T190000
DTEND;TZID=Europe/Berlin:20231217T190000
DTSTAMP:20260419T205854
CREATED:20231113T120831Z
LAST-MODIFIED:20231125T162035Z
UID:10004994-1702839600-1702839600@www.club-manufaktur.de
SUMMARY:The Quiet Girl
DESCRIPTION:Irland 2022\, 95 Min.\, von Colm Bairéad mit Carrie Crowley\, Andrew Bennett\, Catherine Clinch \nAls erneut Nachwuchs ins Haus steht\, wird ein von der Familie vernachlässigtes irisches Mädchen über die Sommerferien zu Verwandten geschickt. Dort erfährt es eine Wärme und Zuneigung\, die es aus seiner schmerzhaften Erstarrung befreien. Und doch gibt es auch in der Idylle der irischen Provinz Schmerz und Verlust. Der leise\, zurückhaltende Film über eine Kindheit und die Poesie eines Sommers benötigt nur wenige Dialoge und nähert sich mit sensibler Bildsprache der Wahrnehmung seiner Hauptfigur an. Wohltuend unaufdringlich fügt das Drama dem Kino eine seltene Erzählung über die Perspektive eines jungen Mädchens hinzu.
URL:https://www.club-manufaktur.de/event/the-quiet-girl/2023-12-17/
LOCATION:Kino Kleine Fluchten\, Hammerschlag 8\, Schorndorf\, 73614\, Deutschland
CATEGORIES:Kino
ORGANIZER;CN="Kino Kleine Fluchten":MAILTO:info@manukino.de
END:VEVENT
END:VCALENDAR