BEGIN:VCALENDAR
VERSION:2.0
PRODID:-//Club Manufaktur e.V. aus Schorndorf - ECPv6.15.20//NONSGML v1.0//EN
CALSCALE:GREGORIAN
METHOD:PUBLISH
X-WR-CALNAME:Club Manufaktur e.V. aus Schorndorf
X-ORIGINAL-URL:https://www.club-manufaktur.de
X-WR-CALDESC:Veranstaltungen für Club Manufaktur e.V. aus Schorndorf
REFRESH-INTERVAL;VALUE=DURATION:PT1H
X-Robots-Tag:noindex
X-PUBLISHED-TTL:PT1H
BEGIN:VTIMEZONE
TZID:Europe/Berlin
BEGIN:DAYLIGHT
TZOFFSETFROM:+0100
TZOFFSETTO:+0200
TZNAME:CEST
DTSTART:20220327T010000
END:DAYLIGHT
BEGIN:STANDARD
TZOFFSETFROM:+0200
TZOFFSETTO:+0100
TZNAME:CET
DTSTART:20221030T010000
END:STANDARD
BEGIN:DAYLIGHT
TZOFFSETFROM:+0100
TZOFFSETTO:+0200
TZNAME:CEST
DTSTART:20230326T010000
END:DAYLIGHT
BEGIN:STANDARD
TZOFFSETFROM:+0200
TZOFFSETTO:+0100
TZNAME:CET
DTSTART:20231029T010000
END:STANDARD
BEGIN:DAYLIGHT
TZOFFSETFROM:+0100
TZOFFSETTO:+0200
TZNAME:CEST
DTSTART:20240331T010000
END:DAYLIGHT
BEGIN:STANDARD
TZOFFSETFROM:+0200
TZOFFSETTO:+0100
TZNAME:CET
DTSTART:20241027T010000
END:STANDARD
END:VTIMEZONE
BEGIN:VEVENT
DTSTART;TZID=Europe/Berlin:20231206T183000
DTEND;TZID=Europe/Berlin:20231206T183000
DTSTAMP:20260419T150902
CREATED:20231112T141621Z
LAST-MODIFIED:20231112T141621Z
UID:10004979-1701887400-1701887400@www.club-manufaktur.de
SUMMARY:Anselm – Das Rauschen der Zeit
DESCRIPTION:Deutschland 2023\, 93 Min.\, von Wim Wenders \nEin poetischer Blick des Regisseurs Wim Wenders auf die Werke und Gedanken seines Freundes Anselm Kiefer. In einer Mischung aus Spielhandlung\, historischen Fernsehaufzeichnungen und Interview-Sequenzen vermittelt der Film einen schlaglichthaften Blick auf den in Deutschland lange Zeit umstrittenen „Erschaffer“ grotesk-brachialer Skulpturen und Bilderwelten\, die sich mit Krieg\, Gewalt und den Nachwirkungen der NS-Zeit beschäftigen. \nBei uns nicht in 3D. \n\n 
URL:https://www.club-manufaktur.de/event/anselm-das-rauschen-der-zeit/2023-12-06/
LOCATION:Kino Kleine Fluchten\, Hammerschlag 8\, Schorndorf\, 73614\, Deutschland
CATEGORIES:Kino
ORGANIZER;CN="Kino Kleine Fluchten":MAILTO:info@manukino.de
END:VEVENT
BEGIN:VEVENT
DTSTART;TZID=Europe/Berlin:20231206T203000
DTEND;TZID=Europe/Berlin:20231206T203000
DTSTAMP:20260419T150902
CREATED:20231112T142032Z
LAST-MODIFIED:20231112T142032Z
UID:10004984-1701894600-1701894600@www.club-manufaktur.de
SUMMARY:Die Theorie von Allem
DESCRIPTION:Deutschland / Österreich / Schweiz 2023\, 118 Min.\, von Timm Kröger mit Jan Bülow\, Olivia Ross\, Hanns Zischler\, Gottfried Breitfuß \nEin junger Doktorand und sein Doktorvater reisen in den 1960er-Jahren zu einem Hotel in den Alpen\, in dem ein Physiker-Kongress stattfindet. Vor Ort ereignen sich mysteriöse Vorgänge. Der junge Wissenschaftler\, der sich mit der Vielweltentheorie beschäftigt\, wird von einer faszinierenden Pianistin abgelenkt\, die plötzlich verschwindet. Als einer der Professoren tot im Schnee liegt\, der Doktorand den Toten aber alsbald dabei beobachtet\, wie der quicklebendig im Zimmer der Pianistin stöbert\, wird deutlich\, dass hier etwas nicht im Lot ist. Das könnte auch mit den alten Stollen zu tun haben\, die sich in der Nähe des Hotels befinden. Ein stilistisch fesselndes\, anspielungsreiches Mystery-Drama in Schwarz-weiß\, das ans Noir-Kino der 1940er- und 1950er-Jahre anschließt und mittels des Multiversum-Motivs suggestiv von existenzieller Ungewissheit erzählt. \n\n 
URL:https://www.club-manufaktur.de/event/die-theorie-von-allem/2023-12-06/
LOCATION:Kino Kleine Fluchten\, Hammerschlag 8\, Schorndorf\, 73614\, Deutschland
CATEGORIES:Kino
ORGANIZER;CN="Kino Kleine Fluchten":MAILTO:info@manukino.de
END:VEVENT
BEGIN:VEVENT
DTSTART;TZID=Europe/Berlin:20231207T190000
DTEND;TZID=Europe/Berlin:20231207T190000
DTSTAMP:20260419T150902
CREATED:20231113T120048Z
LAST-MODIFIED:20231113T120048Z
UID:10004985-1701975600-1701975600@www.club-manufaktur.de
SUMMARY:Anatomie eines Falls
DESCRIPTION:Frankreich 2023\, 151 Min.\, von Justine Triet mit Sandra Hüller\, Swann Arlaud\, Milo Machado Graner\, Antoine Reinartz\, Samuel Theis\, Jehnny Beth\, Saadia Bentaïeb\, Camille Rutherford \nNachdem der Mann einer bekannten Schriftstellerin auf mysteriöse Weise ums Leben gekommen ist und der gemeinsame blinde Sohn nur bedingt als Zeuge taugt\, gerät die Autorin in einem Prozess unter Mordverdacht. Der Film greift zwar teilweise auf Elemente aus Krimis und Gerichtsdramen zurück\, widmet sich im Kern aber mit analytischer Präzision der Verzerrung der Wirklichkeit\, die durch Interpretationen\, unterschiedliche Perspektiven und selektive Wahrnehmung entsteht. Eine glänzend gespielte\, geduldig inszenierte und konsequent ambivalent gehaltene Reflexion über die Unmöglichkeit allgemeingültiger Wahrheit und eindeutiger moralischer Urteile. \nIn Cannes mit der Goldenen Palme ausgezeichnet \n\n 
URL:https://www.club-manufaktur.de/event/anatomie-eines-falls/2023-12-07/
LOCATION:Kino Kleine Fluchten\, Hammerschlag 8\, Schorndorf\, 73614\, Deutschland
CATEGORIES:Kino
ORGANIZER;CN="Kino Kleine Fluchten":MAILTO:info@manukino.de
END:VEVENT
BEGIN:VEVENT
DTSTART;TZID=Europe/Berlin:20231208T190000
DTEND;TZID=Europe/Berlin:20231208T190000
DTSTAMP:20260419T150902
CREATED:20231113T120048Z
LAST-MODIFIED:20231113T120048Z
UID:10004986-1702062000-1702062000@www.club-manufaktur.de
SUMMARY:Anatomie eines Falls
DESCRIPTION:Frankreich 2023\, 151 Min.\, von Justine Triet mit Sandra Hüller\, Swann Arlaud\, Milo Machado Graner\, Antoine Reinartz\, Samuel Theis\, Jehnny Beth\, Saadia Bentaïeb\, Camille Rutherford \nNachdem der Mann einer bekannten Schriftstellerin auf mysteriöse Weise ums Leben gekommen ist und der gemeinsame blinde Sohn nur bedingt als Zeuge taugt\, gerät die Autorin in einem Prozess unter Mordverdacht. Der Film greift zwar teilweise auf Elemente aus Krimis und Gerichtsdramen zurück\, widmet sich im Kern aber mit analytischer Präzision der Verzerrung der Wirklichkeit\, die durch Interpretationen\, unterschiedliche Perspektiven und selektive Wahrnehmung entsteht. Eine glänzend gespielte\, geduldig inszenierte und konsequent ambivalent gehaltene Reflexion über die Unmöglichkeit allgemeingültiger Wahrheit und eindeutiger moralischer Urteile. \nIn Cannes mit der Goldenen Palme ausgezeichnet \n\n 
URL:https://www.club-manufaktur.de/event/anatomie-eines-falls/2023-12-08/
LOCATION:Kino Kleine Fluchten\, Hammerschlag 8\, Schorndorf\, 73614\, Deutschland
CATEGORIES:Kino
ORGANIZER;CN="Kino Kleine Fluchten":MAILTO:info@manukino.de
END:VEVENT
BEGIN:VEVENT
DTSTART;TZID=Europe/Berlin:20231208T213000
DTEND;TZID=Europe/Berlin:20231208T213000
DTSTAMP:20260419T150902
CREATED:20231201T153639Z
LAST-MODIFIED:20231201T154055Z
UID:10005015-1702071000-1702071000@www.club-manufaktur.de
SUMMARY:Delicious Soul Explosion feat. DJX
DESCRIPTION:Die legendäre Soul Partyreihe lädt zu Funk & Soul ein. \n 
URL:https://www.club-manufaktur.de/event/delicious-soul-explosion-feat-djx-3/
LOCATION:Manufaktur\, Saal\, Hammerschlag 8\, Schorndorf\, 73614\, Deutschland
CATEGORIES:Party
ATTACH;FMTTYPE=image/jpeg:https://www.club-manufaktur.de/wp-content/uploads/2021/03/tmp_754b1c4c6620f5d8b0a38f4a225a5f56_Disco-FX1pfj.tmp_.jpg
END:VEVENT
BEGIN:VEVENT
DTSTART;TZID=Europe/Berlin:20231209T190000
DTEND;TZID=Europe/Berlin:20231209T190000
DTSTAMP:20260419T150902
CREATED:20231113T120048Z
LAST-MODIFIED:20231113T120048Z
UID:10004987-1702148400-1702148400@www.club-manufaktur.de
SUMMARY:Anatomie eines Falls
DESCRIPTION:Frankreich 2023\, 151 Min.\, von Justine Triet mit Sandra Hüller\, Swann Arlaud\, Milo Machado Graner\, Antoine Reinartz\, Samuel Theis\, Jehnny Beth\, Saadia Bentaïeb\, Camille Rutherford \nNachdem der Mann einer bekannten Schriftstellerin auf mysteriöse Weise ums Leben gekommen ist und der gemeinsame blinde Sohn nur bedingt als Zeuge taugt\, gerät die Autorin in einem Prozess unter Mordverdacht. Der Film greift zwar teilweise auf Elemente aus Krimis und Gerichtsdramen zurück\, widmet sich im Kern aber mit analytischer Präzision der Verzerrung der Wirklichkeit\, die durch Interpretationen\, unterschiedliche Perspektiven und selektive Wahrnehmung entsteht. Eine glänzend gespielte\, geduldig inszenierte und konsequent ambivalent gehaltene Reflexion über die Unmöglichkeit allgemeingültiger Wahrheit und eindeutiger moralischer Urteile. \nIn Cannes mit der Goldenen Palme ausgezeichnet \n\n 
URL:https://www.club-manufaktur.de/event/anatomie-eines-falls/2023-12-09/
LOCATION:Kino Kleine Fluchten\, Hammerschlag 8\, Schorndorf\, 73614\, Deutschland
CATEGORIES:Kino
ORGANIZER;CN="Kino Kleine Fluchten":MAILTO:info@manukino.de
END:VEVENT
BEGIN:VEVENT
DTSTART;TZID=Europe/Berlin:20231210T170000
DTEND;TZID=Europe/Berlin:20231210T170000
DTSTAMP:20260419T150902
CREATED:20231113T120048Z
LAST-MODIFIED:20231113T120048Z
UID:10004988-1702227600-1702227600@www.club-manufaktur.de
SUMMARY:Anatomie eines Falls
DESCRIPTION:Frankreich 2023\, 151 Min.\, von Justine Triet mit Sandra Hüller\, Swann Arlaud\, Milo Machado Graner\, Antoine Reinartz\, Samuel Theis\, Jehnny Beth\, Saadia Bentaïeb\, Camille Rutherford \nNachdem der Mann einer bekannten Schriftstellerin auf mysteriöse Weise ums Leben gekommen ist und der gemeinsame blinde Sohn nur bedingt als Zeuge taugt\, gerät die Autorin in einem Prozess unter Mordverdacht. Der Film greift zwar teilweise auf Elemente aus Krimis und Gerichtsdramen zurück\, widmet sich im Kern aber mit analytischer Präzision der Verzerrung der Wirklichkeit\, die durch Interpretationen\, unterschiedliche Perspektiven und selektive Wahrnehmung entsteht. Eine glänzend gespielte\, geduldig inszenierte und konsequent ambivalent gehaltene Reflexion über die Unmöglichkeit allgemeingültiger Wahrheit und eindeutiger moralischer Urteile. \nIn Cannes mit der Goldenen Palme ausgezeichnet \n\n 
URL:https://www.club-manufaktur.de/event/anatomie-eines-falls/2023-12-10/
LOCATION:Kino Kleine Fluchten\, Hammerschlag 8\, Schorndorf\, 73614\, Deutschland
CATEGORIES:Kino
ORGANIZER;CN="Kino Kleine Fluchten":MAILTO:info@manukino.de
END:VEVENT
END:VCALENDAR