BEGIN:VCALENDAR
VERSION:2.0
PRODID:-//Club Manufaktur e.V. aus Schorndorf - ECPv6.15.20//NONSGML v1.0//EN
CALSCALE:GREGORIAN
METHOD:PUBLISH
X-WR-CALNAME:Club Manufaktur e.V. aus Schorndorf
X-ORIGINAL-URL:https://www.club-manufaktur.de
X-WR-CALDESC:Veranstaltungen für Club Manufaktur e.V. aus Schorndorf
REFRESH-INTERVAL;VALUE=DURATION:PT1H
X-Robots-Tag:noindex
X-PUBLISHED-TTL:PT1H
BEGIN:VTIMEZONE
TZID:Europe/Berlin
BEGIN:DAYLIGHT
TZOFFSETFROM:+0100
TZOFFSETTO:+0200
TZNAME:CEST
DTSTART:20220327T010000
END:DAYLIGHT
BEGIN:STANDARD
TZOFFSETFROM:+0200
TZOFFSETTO:+0100
TZNAME:CET
DTSTART:20221030T010000
END:STANDARD
BEGIN:DAYLIGHT
TZOFFSETFROM:+0100
TZOFFSETTO:+0200
TZNAME:CEST
DTSTART:20230326T010000
END:DAYLIGHT
BEGIN:STANDARD
TZOFFSETFROM:+0200
TZOFFSETTO:+0100
TZNAME:CET
DTSTART:20231029T010000
END:STANDARD
BEGIN:DAYLIGHT
TZOFFSETFROM:+0100
TZOFFSETTO:+0200
TZNAME:CEST
DTSTART:20240331T010000
END:DAYLIGHT
BEGIN:STANDARD
TZOFFSETFROM:+0200
TZOFFSETTO:+0100
TZNAME:CET
DTSTART:20241027T010000
END:STANDARD
END:VTIMEZONE
BEGIN:VEVENT
DTSTART;TZID=Europe/Berlin:20231128T200000
DTEND;TZID=Europe/Berlin:20231128T200000
DTSTAMP:20260419T205856
CREATED:20230207T090048Z
LAST-MODIFIED:20231125T181558Z
UID:10004432-1701201600-1701201600@www.club-manufaktur.de
SUMMARY:AUSVERKAUFT! - EL HOTZO liest aus und spricht über "Mindset"
DESCRIPTION:Unsere Kneipe hat ab 18.00 Uhr geöffnet! \nDie Veranstaltung ist AUSVERKAUFT! \nSebastian Hotz\, vielen besser bekannt als EL HOTZO\, ist so etwas wie der Shooting-Star der sozialen Medien in Deutschland. Egal ob Twitter oder Instagram\, jeder ist schon einmal über einen seiner tausenden humorvollen Posts gestolpert. Mit über 1.200.000 Instagram Follower*innen und über 450.000 Twitter Follower*innen erreicht EL HOTZO täglich über eine Millionen Menschen und gilt mittlerweile durch seine kritischen\, satirischen und gesellschaftskritischen Tweets als das Sprachrohr der jüngeren Generation. Mit “Mindset” erscheint nun sein Debüt als Autor\, ein Roman über Männer\, die keine Zeit und Lust haben\, an ihrer Durchschnittlichkeit zu verzweifeln\, und eine Gesellschaft\, die deren Ausflüchte irgendwie bewältigen muss. Als ob es nicht schon genug Probleme gäbe. \nEintritt:\nDie Veranstaltung ist AUSVERKAUFT!\n22.- Euro plus Gebühr / Vvk ausschließlich über Love Your Artist
URL:https://www.club-manufaktur.de/event/el-hotzo-liest-aus-und-spricht-ueber-mindset/
LOCATION:Manufaktur\, Saal\, Hammerschlag 8\, Schorndorf\, 73614\, Deutschland
CATEGORIES:Lesung,Politik
END:VEVENT
BEGIN:VEVENT
DTSTART;TZID=Europe/Berlin:20231129T183000
DTEND;TZID=Europe/Berlin:20231129T183000
DTSTAMP:20260419T205856
CREATED:20231021T123931Z
LAST-MODIFIED:20231021T123931Z
UID:10004965-1701282600-1701282600@www.club-manufaktur.de
SUMMARY:Heaven Can Wait – Wir leben jetzt
DESCRIPTION:Deutschland 2023\, 103 Min.\, von Sven Halfar \nMit Leidenschaft und viel Power eroberte der Hamburger Chor „Heaven Can Wait“ die Bühnen der Stadt. Niemand in diesem Chor ist jünger als 70\, die älteste Sängerin zählt 97 Jahre. Das Repertoire ist ungewöhnlich\, da keine klassischen Chorstücke\, sondern deutschsprachige Pop-Songs gesungen werden. Der Film porträtiert die außergewöhnliche Gemeinschaft\, er begleitet den Chor auf Proben und bei Vorstellungen\, stellt einzelne Mitglieder vor\, aber auch den engagierten Chorleiter. Mit optimistischer Färbung und einer positiven Grundhaltung vermittelt der Film\, dass es für Lebensfreude und Vitalität kein Ablaufdatum gibt. \n\n 
URL:https://www.club-manufaktur.de/event/heaven-can-wait-wir-leben-jetzt/2023-11-29/
LOCATION:Kino Kleine Fluchten\, Hammerschlag 8\, Schorndorf\, 73614\, Deutschland
CATEGORIES:Kino
ORGANIZER;CN="Kino Kleine Fluchten":MAILTO:info@manukino.de
END:VEVENT
BEGIN:VEVENT
DTSTART;TZID=Europe/Berlin:20231129T203000
DTEND;TZID=Europe/Berlin:20231129T203000
DTSTAMP:20260419T205856
CREATED:20231021T122627Z
LAST-MODIFIED:20231021T122627Z
UID:10004957-1701289800-1701289800@www.club-manufaktur.de
SUMMARY:Lost King
DESCRIPTION:Großbritannien 2022\, 108 Min.\, von Stephen Frears mit Sally Hawkins\, Steve Coogan\, Harry Lloyd \nIn einer Phase persönlicher und beruflicher Krisen stößt eine Britin auf Hinweise\, dass die Todesumstände des als Tyrann verschrienen Monarchen Richard III. anders als in der anerkannten Geschichtsschreibung sein könnten. Mit viel Elan geht sie daran\, das Grab des Königs zu finden\, wobei ihr Historiker und Archäologen mit Skepsis begegnen. Das auf der Geschichte der Amateurhistorikerin Philippa Langley beruhende komödiantische Drama setzt auf eine spannende Geschichte und eine universale Botschaft gegen die Voreingenommenheit. Der versiert inszenierte Unterhaltungsfilm nimmt dabei ganz die Position der Hauptfigur ein und lockert ihren Kampf für ihre Überzeugung mit verschmitzten Einfällen auf.
URL:https://www.club-manufaktur.de/event/lost-king/2023-11-29/
LOCATION:Kino Kleine Fluchten\, Hammerschlag 8\, Schorndorf\, 73614\, Deutschland
CATEGORIES:Kino
ORGANIZER;CN="Kino Kleine Fluchten":MAILTO:info@manukino.de
END:VEVENT
BEGIN:VEVENT
DTSTART;TZID=Europe/Berlin:20231130T183000
DTEND;TZID=Europe/Berlin:20231130T183000
DTSTAMP:20260419T205856
CREATED:20231112T141621Z
LAST-MODIFIED:20231112T141621Z
UID:10004975-1701369000-1701369000@www.club-manufaktur.de
SUMMARY:Anselm – Das Rauschen der Zeit
DESCRIPTION:Deutschland 2023\, 93 Min.\, von Wim Wenders \nEin poetischer Blick des Regisseurs Wim Wenders auf die Werke und Gedanken seines Freundes Anselm Kiefer. In einer Mischung aus Spielhandlung\, historischen Fernsehaufzeichnungen und Interview-Sequenzen vermittelt der Film einen schlaglichthaften Blick auf den in Deutschland lange Zeit umstrittenen „Erschaffer“ grotesk-brachialer Skulpturen und Bilderwelten\, die sich mit Krieg\, Gewalt und den Nachwirkungen der NS-Zeit beschäftigen. \nBei uns nicht in 3D. \n\n 
URL:https://www.club-manufaktur.de/event/anselm-das-rauschen-der-zeit/2023-11-30/
LOCATION:Kino Kleine Fluchten\, Hammerschlag 8\, Schorndorf\, 73614\, Deutschland
CATEGORIES:Kino
ORGANIZER;CN="Kino Kleine Fluchten":MAILTO:info@manukino.de
END:VEVENT
BEGIN:VEVENT
DTSTART;TZID=Europe/Berlin:20231130T203000
DTEND;TZID=Europe/Berlin:20231130T203000
DTSTAMP:20260419T205856
CREATED:20231112T142032Z
LAST-MODIFIED:20231112T142032Z
UID:10004980-1701376200-1701376200@www.club-manufaktur.de
SUMMARY:Die Theorie von Allem
DESCRIPTION:Deutschland / Österreich / Schweiz 2023\, 118 Min.\, von Timm Kröger mit Jan Bülow\, Olivia Ross\, Hanns Zischler\, Gottfried Breitfuß \nEin junger Doktorand und sein Doktorvater reisen in den 1960er-Jahren zu einem Hotel in den Alpen\, in dem ein Physiker-Kongress stattfindet. Vor Ort ereignen sich mysteriöse Vorgänge. Der junge Wissenschaftler\, der sich mit der Vielweltentheorie beschäftigt\, wird von einer faszinierenden Pianistin abgelenkt\, die plötzlich verschwindet. Als einer der Professoren tot im Schnee liegt\, der Doktorand den Toten aber alsbald dabei beobachtet\, wie der quicklebendig im Zimmer der Pianistin stöbert\, wird deutlich\, dass hier etwas nicht im Lot ist. Das könnte auch mit den alten Stollen zu tun haben\, die sich in der Nähe des Hotels befinden. Ein stilistisch fesselndes\, anspielungsreiches Mystery-Drama in Schwarz-weiß\, das ans Noir-Kino der 1940er- und 1950er-Jahre anschließt und mittels des Multiversum-Motivs suggestiv von existenzieller Ungewissheit erzählt. \n\n 
URL:https://www.club-manufaktur.de/event/die-theorie-von-allem/2023-11-30/
LOCATION:Kino Kleine Fluchten\, Hammerschlag 8\, Schorndorf\, 73614\, Deutschland
CATEGORIES:Kino
ORGANIZER;CN="Kino Kleine Fluchten":MAILTO:info@manukino.de
END:VEVENT
BEGIN:VEVENT
DTSTART;TZID=Europe/Berlin:20231201T183000
DTEND;TZID=Europe/Berlin:20231201T183000
DTSTAMP:20260419T205856
CREATED:20231112T141621Z
LAST-MODIFIED:20231112T141621Z
UID:10004976-1701455400-1701455400@www.club-manufaktur.de
SUMMARY:Anselm – Das Rauschen der Zeit
DESCRIPTION:Deutschland 2023\, 93 Min.\, von Wim Wenders \nEin poetischer Blick des Regisseurs Wim Wenders auf die Werke und Gedanken seines Freundes Anselm Kiefer. In einer Mischung aus Spielhandlung\, historischen Fernsehaufzeichnungen und Interview-Sequenzen vermittelt der Film einen schlaglichthaften Blick auf den in Deutschland lange Zeit umstrittenen „Erschaffer“ grotesk-brachialer Skulpturen und Bilderwelten\, die sich mit Krieg\, Gewalt und den Nachwirkungen der NS-Zeit beschäftigen. \nBei uns nicht in 3D. \n\n 
URL:https://www.club-manufaktur.de/event/anselm-das-rauschen-der-zeit/2023-12-01/
LOCATION:Kino Kleine Fluchten\, Hammerschlag 8\, Schorndorf\, 73614\, Deutschland
CATEGORIES:Kino
ORGANIZER;CN="Kino Kleine Fluchten":MAILTO:info@manukino.de
END:VEVENT
BEGIN:VEVENT
DTSTART;TZID=Europe/Berlin:20231201T203000
DTEND;TZID=Europe/Berlin:20231201T203000
DTSTAMP:20260419T205856
CREATED:20230824T155727Z
LAST-MODIFIED:20231123T164154Z
UID:10004845-1701462600-1701462600@www.club-manufaktur.de
SUMMARY:TREVOR WATTS / JOHN EDWARDS / TOLLEF OSTVANG (GB/N) - JAZZ
DESCRIPTION:Trevor Watts ist eine der letzten lebenden Legenden aus der Gründungszeit des Free Jazz. Er steht in einer Reihe mit Peter Brötzmann und Evan Parker (das ist keine Übertreibung!). Und er hat Zeiten erlebt\, als  diese Musik auf erbitterten Widerstand stieß. Zusammen mit dem Schlagzeuger John Stevens gründete er die wichtigste britische Band überhaupt\, das Spontaneous Music Ensemble (SME). Für ihn ging es immer darum\, etwas anderes zu spielen und neue Entdeckungen zu machen. Sein Album „Prayer for Peace“ mit seinem Trio Amalgam ist eine der besten Saxophon-Trio-Aufnahmen aller Zeiten. In die Manufaktur kommt er tatsächlich zum ersten Mal\, zusammen mit dem vielleicht weltweit besten Free Jazz Bassisten überhaupt\, John Edwards. Komplettiert wird das Trio von Tollef Ostvang\, diesem so unscheinbaren und doch wunderbaren Schlagzeuger aus Norwegen. Watts’ Eleganz und Wildheit werden also kombiniert mit Einfallsreichtum und Raffinesse. Das Trio ist der lebende Beweis\, welch verblüffende Art von Musik mit nur drei Instrumenten möglich ist. \nEintritt:\n22.- Euro Vvk plus Gebühr\n26.- Euro Abendkasse\n16.- Euro Mitglieder \nDirekt vom Büro aus via Post versandte Karten (mit einer Bearbeitungsgebühr von 2\,50€) gibt es hier auf dieser Seite. Falls wir die Tickets nicht mehr rechtzeitig per Post versenden können\, werden sie an der Abendkasse auf deinen Namen hinterlegt.
URL:https://www.club-manufaktur.de/event/trevor-watts-john-edwards-tollef-ostvang-gb-n-jazz/
LOCATION:Manufaktur\, Saal\, Hammerschlag 8\, Schorndorf\, 73614\, Deutschland
CATEGORIES:Jazz,Ticket
ATTACH;FMTTYPE=image/jpeg:https://www.club-manufaktur.de/wp-content/uploads/2023/08/tollef_ostvang_trevor_watts_john_edwards_pm.jpg
END:VEVENT
BEGIN:VEVENT
DTSTART;TZID=Europe/Berlin:20231201T203000
DTEND;TZID=Europe/Berlin:20231201T203000
DTSTAMP:20260419T205856
CREATED:20231112T142032Z
LAST-MODIFIED:20231112T142032Z
UID:10004981-1701462600-1701462600@www.club-manufaktur.de
SUMMARY:Die Theorie von Allem
DESCRIPTION:Deutschland / Österreich / Schweiz 2023\, 118 Min.\, von Timm Kröger mit Jan Bülow\, Olivia Ross\, Hanns Zischler\, Gottfried Breitfuß \nEin junger Doktorand und sein Doktorvater reisen in den 1960er-Jahren zu einem Hotel in den Alpen\, in dem ein Physiker-Kongress stattfindet. Vor Ort ereignen sich mysteriöse Vorgänge. Der junge Wissenschaftler\, der sich mit der Vielweltentheorie beschäftigt\, wird von einer faszinierenden Pianistin abgelenkt\, die plötzlich verschwindet. Als einer der Professoren tot im Schnee liegt\, der Doktorand den Toten aber alsbald dabei beobachtet\, wie der quicklebendig im Zimmer der Pianistin stöbert\, wird deutlich\, dass hier etwas nicht im Lot ist. Das könnte auch mit den alten Stollen zu tun haben\, die sich in der Nähe des Hotels befinden. Ein stilistisch fesselndes\, anspielungsreiches Mystery-Drama in Schwarz-weiß\, das ans Noir-Kino der 1940er- und 1950er-Jahre anschließt und mittels des Multiversum-Motivs suggestiv von existenzieller Ungewissheit erzählt. \n\n 
URL:https://www.club-manufaktur.de/event/die-theorie-von-allem/2023-12-01/
LOCATION:Kino Kleine Fluchten\, Hammerschlag 8\, Schorndorf\, 73614\, Deutschland
CATEGORIES:Kino
ORGANIZER;CN="Kino Kleine Fluchten":MAILTO:info@manukino.de
END:VEVENT
BEGIN:VEVENT
DTSTART;TZID=Europe/Berlin:20231202T183000
DTEND;TZID=Europe/Berlin:20231202T183000
DTSTAMP:20260419T205856
CREATED:20231112T141621Z
LAST-MODIFIED:20231112T141621Z
UID:10004977-1701541800-1701541800@www.club-manufaktur.de
SUMMARY:Anselm – Das Rauschen der Zeit
DESCRIPTION:Deutschland 2023\, 93 Min.\, von Wim Wenders \nEin poetischer Blick des Regisseurs Wim Wenders auf die Werke und Gedanken seines Freundes Anselm Kiefer. In einer Mischung aus Spielhandlung\, historischen Fernsehaufzeichnungen und Interview-Sequenzen vermittelt der Film einen schlaglichthaften Blick auf den in Deutschland lange Zeit umstrittenen „Erschaffer“ grotesk-brachialer Skulpturen und Bilderwelten\, die sich mit Krieg\, Gewalt und den Nachwirkungen der NS-Zeit beschäftigen. \nBei uns nicht in 3D. \n\n 
URL:https://www.club-manufaktur.de/event/anselm-das-rauschen-der-zeit/2023-12-02/
LOCATION:Kino Kleine Fluchten\, Hammerschlag 8\, Schorndorf\, 73614\, Deutschland
CATEGORIES:Kino
ORGANIZER;CN="Kino Kleine Fluchten":MAILTO:info@manukino.de
END:VEVENT
BEGIN:VEVENT
DTSTART;TZID=Europe/Berlin:20231202T203000
DTEND;TZID=Europe/Berlin:20231202T203000
DTSTAMP:20260419T205856
CREATED:20230119T163435Z
LAST-MODIFIED:20231128T221231Z
UID:10004428-1701549000-1701549000@www.club-manufaktur.de
SUMMARY:FÄLLT LEIDER AUS! Doppelkonzert: VALTAVA (D) & LEOPARD (D)
DESCRIPTION:DAS KONZERT FÄLLT LEIDER KRANKHEITSBEDINGT AUS! \nVon freien\, experimentellen\, noisigen Parts bis zu straighten Garage-Punk-Momenten mit treibenden Drums\, dazu markanten Basslines und wilden Gitarrensounds überrascht Valtava live immer wieder aufs Neue. Eine musikalische Wundertüte halt. \nLEOPARD wurde 2020 in Berlin gegründet und macht krachende\, knisternde und auf Krawall gebürstete Musik abseits von ironischer Distanz und Mackertum. Im Gepäck hat die Band ihr sensationelles Debütalbum „Überleben“\, das am 1.9.2023 veröffentlicht wurde. \nEintritt frei. Hut geht rum.
URL:https://www.club-manufaktur.de/event/valtava-d-2/
LOCATION:Manufaktur\, Saal\, Hammerschlag 8\, Schorndorf\, 73614\, Deutschland
CATEGORIES:Konzert
ATTACH;FMTTYPE=image/jpeg:https://www.club-manufaktur.de/wp-content/uploads/2023/01/valtava_neu_pm.jpg
END:VEVENT
BEGIN:VEVENT
DTSTART;TZID=Europe/Berlin:20231202T203000
DTEND;TZID=Europe/Berlin:20231202T203000
DTSTAMP:20260419T205856
CREATED:20231112T142032Z
LAST-MODIFIED:20231112T142032Z
UID:10004982-1701549000-1701549000@www.club-manufaktur.de
SUMMARY:Die Theorie von Allem
DESCRIPTION:Deutschland / Österreich / Schweiz 2023\, 118 Min.\, von Timm Kröger mit Jan Bülow\, Olivia Ross\, Hanns Zischler\, Gottfried Breitfuß \nEin junger Doktorand und sein Doktorvater reisen in den 1960er-Jahren zu einem Hotel in den Alpen\, in dem ein Physiker-Kongress stattfindet. Vor Ort ereignen sich mysteriöse Vorgänge. Der junge Wissenschaftler\, der sich mit der Vielweltentheorie beschäftigt\, wird von einer faszinierenden Pianistin abgelenkt\, die plötzlich verschwindet. Als einer der Professoren tot im Schnee liegt\, der Doktorand den Toten aber alsbald dabei beobachtet\, wie der quicklebendig im Zimmer der Pianistin stöbert\, wird deutlich\, dass hier etwas nicht im Lot ist. Das könnte auch mit den alten Stollen zu tun haben\, die sich in der Nähe des Hotels befinden. Ein stilistisch fesselndes\, anspielungsreiches Mystery-Drama in Schwarz-weiß\, das ans Noir-Kino der 1940er- und 1950er-Jahre anschließt und mittels des Multiversum-Motivs suggestiv von existenzieller Ungewissheit erzählt. \n\n 
URL:https://www.club-manufaktur.de/event/die-theorie-von-allem/2023-12-02/
LOCATION:Kino Kleine Fluchten\, Hammerschlag 8\, Schorndorf\, 73614\, Deutschland
CATEGORIES:Kino
ORGANIZER;CN="Kino Kleine Fluchten":MAILTO:info@manukino.de
END:VEVENT
BEGIN:VEVENT
DTSTART;TZID=Europe/Berlin:20231203T170000
DTEND;TZID=Europe/Berlin:20231203T170000
DTSTAMP:20260419T205856
CREATED:20231112T141621Z
LAST-MODIFIED:20231112T141621Z
UID:10004978-1701622800-1701622800@www.club-manufaktur.de
SUMMARY:Anselm – Das Rauschen der Zeit
DESCRIPTION:Deutschland 2023\, 93 Min.\, von Wim Wenders \nEin poetischer Blick des Regisseurs Wim Wenders auf die Werke und Gedanken seines Freundes Anselm Kiefer. In einer Mischung aus Spielhandlung\, historischen Fernsehaufzeichnungen und Interview-Sequenzen vermittelt der Film einen schlaglichthaften Blick auf den in Deutschland lange Zeit umstrittenen „Erschaffer“ grotesk-brachialer Skulpturen und Bilderwelten\, die sich mit Krieg\, Gewalt und den Nachwirkungen der NS-Zeit beschäftigen. \nBei uns nicht in 3D. \n\n 
URL:https://www.club-manufaktur.de/event/anselm-das-rauschen-der-zeit/2023-12-03/
LOCATION:Kino Kleine Fluchten\, Hammerschlag 8\, Schorndorf\, 73614\, Deutschland
CATEGORIES:Kino
ORGANIZER;CN="Kino Kleine Fluchten":MAILTO:info@manukino.de
END:VEVENT
BEGIN:VEVENT
DTSTART;TZID=Europe/Berlin:20231203T190000
DTEND;TZID=Europe/Berlin:20231203T190000
DTSTAMP:20260419T205856
CREATED:20231112T142032Z
LAST-MODIFIED:20231112T142032Z
UID:10004983-1701630000-1701630000@www.club-manufaktur.de
SUMMARY:Die Theorie von Allem
DESCRIPTION:Deutschland / Österreich / Schweiz 2023\, 118 Min.\, von Timm Kröger mit Jan Bülow\, Olivia Ross\, Hanns Zischler\, Gottfried Breitfuß \nEin junger Doktorand und sein Doktorvater reisen in den 1960er-Jahren zu einem Hotel in den Alpen\, in dem ein Physiker-Kongress stattfindet. Vor Ort ereignen sich mysteriöse Vorgänge. Der junge Wissenschaftler\, der sich mit der Vielweltentheorie beschäftigt\, wird von einer faszinierenden Pianistin abgelenkt\, die plötzlich verschwindet. Als einer der Professoren tot im Schnee liegt\, der Doktorand den Toten aber alsbald dabei beobachtet\, wie der quicklebendig im Zimmer der Pianistin stöbert\, wird deutlich\, dass hier etwas nicht im Lot ist. Das könnte auch mit den alten Stollen zu tun haben\, die sich in der Nähe des Hotels befinden. Ein stilistisch fesselndes\, anspielungsreiches Mystery-Drama in Schwarz-weiß\, das ans Noir-Kino der 1940er- und 1950er-Jahre anschließt und mittels des Multiversum-Motivs suggestiv von existenzieller Ungewissheit erzählt. \n\n 
URL:https://www.club-manufaktur.de/event/die-theorie-von-allem/2023-12-03/
LOCATION:Kino Kleine Fluchten\, Hammerschlag 8\, Schorndorf\, 73614\, Deutschland
CATEGORIES:Kino
ORGANIZER;CN="Kino Kleine Fluchten":MAILTO:info@manukino.de
END:VEVENT
END:VCALENDAR