BEGIN:VCALENDAR
VERSION:2.0
PRODID:-//Club Manufaktur e.V. aus Schorndorf - ECPv6.15.20//NONSGML v1.0//EN
CALSCALE:GREGORIAN
METHOD:PUBLISH
X-ORIGINAL-URL:https://www.club-manufaktur.de
X-WR-CALDESC:Veranstaltungen für Club Manufaktur e.V. aus Schorndorf
REFRESH-INTERVAL;VALUE=DURATION:PT1H
X-Robots-Tag:noindex
X-PUBLISHED-TTL:PT1H
BEGIN:VTIMEZONE
TZID:Europe/Berlin
BEGIN:DAYLIGHT
TZOFFSETFROM:+0100
TZOFFSETTO:+0200
TZNAME:CEST
DTSTART:20220327T010000
END:DAYLIGHT
BEGIN:STANDARD
TZOFFSETFROM:+0200
TZOFFSETTO:+0100
TZNAME:CET
DTSTART:20221030T010000
END:STANDARD
BEGIN:DAYLIGHT
TZOFFSETFROM:+0100
TZOFFSETTO:+0200
TZNAME:CEST
DTSTART:20230326T010000
END:DAYLIGHT
BEGIN:STANDARD
TZOFFSETFROM:+0200
TZOFFSETTO:+0100
TZNAME:CET
DTSTART:20231029T010000
END:STANDARD
BEGIN:DAYLIGHT
TZOFFSETFROM:+0100
TZOFFSETTO:+0200
TZNAME:CEST
DTSTART:20240331T010000
END:DAYLIGHT
BEGIN:STANDARD
TZOFFSETFROM:+0200
TZOFFSETTO:+0100
TZNAME:CET
DTSTART:20241027T010000
END:STANDARD
END:VTIMEZONE
BEGIN:VEVENT
DTSTART;VALUE=DATE:20230925
DTEND;VALUE=DATE:20230926
DTSTAMP:20260419T210139
CREATED:20220212T131450Z
LAST-MODIFIED:20230516T073636Z
UID:10004740-1695600000-1695686399@www.club-manufaktur.de
SUMMARY:Spielfrei
DESCRIPTION:Heute gibt es leider keine Vorstellung.
URL:https://www.club-manufaktur.de/event/spielfrei-4/2023-09-25/
LOCATION:Kino Kleine Fluchten\, Hammerschlag 8\, Schorndorf\, 73614\, Deutschland
CATEGORIES:Kino
ATTACH;FMTTYPE=image/jpeg:https://www.club-manufaktur.de/wp-content/uploads/2021/03/MG_1352.jpg
ORGANIZER;CN="Kino Kleine Fluchten":MAILTO:info@manukino.de
END:VEVENT
BEGIN:VEVENT
DTSTART;TZID=Europe/Berlin:20230927T183000
DTEND;TZID=Europe/Berlin:20230927T183000
DTSTAMP:20260419T210139
CREATED:20230827T075001Z
LAST-MODIFIED:20230827T075001Z
UID:10004860-1695839400-1695839400@www.club-manufaktur.de
SUMMARY:Im Herzen jung
DESCRIPTION:Frankreich / Belgien 2021\, 114 Min.\, von Carine Tardieu mit Fanny Ardant\, Melvil Poupaud\, Cécile de France \nMit starken Bildern erzählt Carine Tardieu von einer Liebe\, die im Grunde nicht sein darf\, aber sich eben doch Bahn bricht. Der Altersunterschied zwischen den beiden Protagonisten mag groß sein\, aber wenn das Herz liebt\, dann ist es wieder jung. Ein feinfühliges Drama\, das allen Figuren gerecht wird und in seiner Erzählweise sehr wahrhaftig ist.
URL:https://www.club-manufaktur.de/event/im-herzen-jung/2023-09-27/
LOCATION:Kino Kleine Fluchten\, Hammerschlag 8\, Schorndorf\, 73614\, Deutschland
CATEGORIES:Kino
ORGANIZER;CN="Kino Kleine Fluchten":MAILTO:info@manukino.de
END:VEVENT
BEGIN:VEVENT
DTSTART;TZID=Europe/Berlin:20230927T193000
DTEND;TZID=Europe/Berlin:20230927T193000
DTSTAMP:20260419T210139
CREATED:20230531T172422Z
LAST-MODIFIED:20230601T092951Z
UID:10004783-1695843000-1695843000@www.club-manufaktur.de
SUMMARY:Georgiana Banita liest aus und diskutiert über Phantombilder
DESCRIPTION:Georgiana Banita\nliest aus und diskutiert über:\nPhantombilder\nDie Polizei und der Verdächtige Fremde \nEine kulturhistorische Analyse von Polizeigewalt und institutionellem Rassismus – und ein Plädoyer für eine konstruktive Debatte\nWas die Politik vor sich herschiebt\, hat Georgiana Banita zumindest angestoßen: Sie hat zahlreiche Fälle von tödlicher Polizeigewalt in den USA und in Deutschland untersucht. Ihr Fazit: Die Lage verschärft sich stetig\, Reformen wären dringend nötig. Und leider droht die Entwicklung auch bei uns in die Richtung „amerikanischer Verhältnisse“ zu gehen.\nOb es um den Gebrauch von Schusswaffen\, Racial Profiling\, Rasterfahndung oder KI-gestützte Kriminalitätsprognosen geht\, um Abschiebung\, Grenz- oder Infektionsschutz: Die Abwehr des „verdächtigen Fremden“ ist Logik und Praxis polizeilicher Arbeit. Die Opfer sind schwarz\, oder migrantisch oder weichen auf andere Weise von der gesellschaftlichen Norm ab.  \nDr. Georgiana Banita\, geboren 1980 in Bârlad\, Rumänien\, Studium der Anglistik und Germanistik an den Universitäten Iași und Konstanz\, Promotion in Amerikanistik an der Universität Konstanz\, Habilitation an der Universität Bamberg\, an der sie auch als Privatdozentin lehrt. Forschungsschwerpunkte unter anderem Nordamerikanische Literatur und Kultur\, Polizeikultur und Migration\, Terrorismus und Krieg gegen den Terror in der zeitgenössischen Literatur.\nPressestimmen:\n „Georgiana Banitas Buch ist eine wache Analyse von Handlungsmustern\, ein engagierter Aufruf zu Eigenverantwortung und dringend notwendigen Reformen und – last but not least – eine Solidarisierung mit den Opfern.“ Ralph Gerstenberg\, Deutschlandfunk\n„Georgiana Banita schlägt vor\, anstatt in mehr Technik für die Polizei in mehr soziale Maßnahmen beispielsweise für jugendliche Migranten zu investieren: Bleibt zu hoffen\, dass dieser durch das Buch gut begründete Vorschlag bis in die Politik vordringt.“ Eva Karnofsky\, SWR 2\n„Phantombilder ist aber weit von einem Polizei-Bashing entfernt. Die Autorin beteuert ihre Wertschätzung für alle Polizistinnen und Polizisten\, die sich täglich verantwortungsbewusst für unsere Sicherheit einsetzen. Ihre Analyse überzeugt jedenfalls mit wissenschaftlich fundierten Argumenten und statistisch belegten Beobachtungen. Gerade deshalb könnten manche Leser sich am Ende schwer tun\, Banitas Glauben an die Reformierbarkeit der Polizei zu teilen.“ Nicolle Adhiambo Odongo\, Falter \nEintritt frei.\nDer Spendenhut geht rum.
URL:https://www.club-manufaktur.de/event/georgiana-banita-liest-aus-und-diskutiert-ueber-phantombilder/
LOCATION:Manufaktur\, Saal\, Hammerschlag 8\, Schorndorf\, 73614\, Deutschland
CATEGORIES:Lesung,Politik
END:VEVENT
BEGIN:VEVENT
DTSTART;TZID=Europe/Berlin:20230927T203000
DTEND;TZID=Europe/Berlin:20230927T203000
DTSTAMP:20260419T210139
CREATED:20230827T080047Z
LAST-MODIFIED:20230827T080047Z
UID:10004865-1695846600-1695846600@www.club-manufaktur.de
SUMMARY:Past Lives
DESCRIPTION:106 Min.\, von Celine Song mit Greta Lee\, Teo Yoo\, John Magaro\, Moon Seung-ah\, Leem Seung-min\, Ji Hye Yoon\, Won Young Choi u. a. \n„Past Lives – In einem anderen Leben“ ist eine echte Entdeckung\, eine kluge Meditation über zwischenmenschliche Beziehungen\, die Erfahrungen von Migranten und unsere Existenz im Allgemeinen. Warum schematisch\, wenn es auch aufrichtig und wahrhaftig geht\, scheint sich die Drehbuchautorin und Regisseurin gedacht zu haben und zeigt Hollywood\, wie man wirkliche Emotionen abbildet\, nicht irgendwelche sattsam eingeübten Gefühlsmuster.
URL:https://www.club-manufaktur.de/event/past-lives/2023-09-27/
LOCATION:Kino Kleine Fluchten\, Hammerschlag 8\, Schorndorf\, 73614\, Deutschland
CATEGORIES:Kino
ORGANIZER;CN="Kino Kleine Fluchten":MAILTO:info@manukino.de
END:VEVENT
BEGIN:VEVENT
DTSTART;TZID=Europe/Berlin:20230928T180000
DTEND;TZID=Europe/Berlin:20230928T180000
DTSTAMP:20260419T210139
CREATED:20230827T081342Z
LAST-MODIFIED:20230827T081342Z
UID:10004871-1695924000-1695924000@www.club-manufaktur.de
SUMMARY:Dear Memories - Eine Reise mit dem Magnum-Fotografen Thomas Hoepker
DESCRIPTION:Deutschland / Schweiz 2021\, 102 Min.\, von Nahul Lopez \nAls bei dem Fotografen Thomas Hoepker 2017 Alzheimer diagnostiziert wird\, zieht er sich nicht zurück\, sondern beschließt\, so lange wie möglich weiterzuarbeiten. Zusammen mit seiner Frau Christine Kruchen reist er 2020 auf den Spuren einer früheren Reportage noch einmal quer durch die USA. Der Film dokumentiert diesen Trip und zeichnet dabei mit viel Sinn für Landschaften\, Stimmungen und Farben ein beeindruckendes Bild des innerlich zerrissenen Landes. Es ist aber auch eine tief in Hoepkers Werk und Denken einführende Hommage und überdies ein feinfühliger\, höchst intimer Bericht über ein Leben mit Alzheimer. \nIm Anschluss besteht Gelegenheit\, sich über den Film auszutauschen oder persönliche Anliegen zum Themenkreis mit Herrn Thomas Herrmann\, Sozialplaner und Demenzfachberater am LRA Waiblingen\, anzusprechen. \nEine Veranstaltung von: Gute Nachbarschaft im Mühlenviertel \n 
URL:https://www.club-manufaktur.de/event/dear-memories-eine-reise-mit-dem-magnum-fotografen-thomas-hoepker/
LOCATION:Kino Kleine Fluchten\, Hammerschlag 8\, Schorndorf\, 73614\, Deutschland
CATEGORIES:Kino
ORGANIZER;CN="Kino Kleine Fluchten":MAILTO:info@manukino.de
END:VEVENT
BEGIN:VEVENT
DTSTART;TZID=Europe/Berlin:20230928T204500
DTEND;TZID=Europe/Berlin:20230928T204500
DTSTAMP:20260419T210139
CREATED:20230828T131955Z
LAST-MODIFIED:20230828T132553Z
UID:10004876-1695933900-1695933900@www.club-manufaktur.de
SUMMARY:20.000 Arten von Bienen
DESCRIPTION:Spanien 2022\, 130 Min.\, von Estibaliz Urresola Solaguren mit Sofía Otero\, Patricia López Arnaiz\, Ane Gabarain \nEinfühlsame und sensible Geschichte um ein Kind\, das auf Identitätssuche ist\, damit aber auch an die Grenzen dessen stößt\, was sein Umfeld als richtig oder falsch betrachtet. Ein zurückhaltender\, sehr gelungener Film.
URL:https://www.club-manufaktur.de/event/20-000-arten-von-bienen/2023-09-28/
LOCATION:Kino Kleine Fluchten\, Hammerschlag 8\, Schorndorf\, 73614\, Deutschland
CATEGORIES:Kino
END:VEVENT
BEGIN:VEVENT
DTSTART;TZID=Europe/Berlin:20230929T183000
DTEND;TZID=Europe/Berlin:20230929T183000
DTSTAMP:20260419T210139
CREATED:20230827T080047Z
LAST-MODIFIED:20230827T080047Z
UID:10004866-1696012200-1696012200@www.club-manufaktur.de
SUMMARY:Past Lives
DESCRIPTION:106 Min.\, von Celine Song mit Greta Lee\, Teo Yoo\, John Magaro\, Moon Seung-ah\, Leem Seung-min\, Ji Hye Yoon\, Won Young Choi u. a. \n„Past Lives – In einem anderen Leben“ ist eine echte Entdeckung\, eine kluge Meditation über zwischenmenschliche Beziehungen\, die Erfahrungen von Migranten und unsere Existenz im Allgemeinen. Warum schematisch\, wenn es auch aufrichtig und wahrhaftig geht\, scheint sich die Drehbuchautorin und Regisseurin gedacht zu haben und zeigt Hollywood\, wie man wirkliche Emotionen abbildet\, nicht irgendwelche sattsam eingeübten Gefühlsmuster.
URL:https://www.club-manufaktur.de/event/past-lives/2023-09-29/
LOCATION:Kino Kleine Fluchten\, Hammerschlag 8\, Schorndorf\, 73614\, Deutschland
CATEGORIES:Kino
ORGANIZER;CN="Kino Kleine Fluchten":MAILTO:info@manukino.de
END:VEVENT
BEGIN:VEVENT
DTSTART;TZID=Europe/Berlin:20230929T203000
DTEND;TZID=Europe/Berlin:20230929T203000
DTSTAMP:20260419T210139
CREATED:20230828T132727Z
LAST-MODIFIED:20230828T132727Z
UID:10004877-1696019400-1696019400@www.club-manufaktur.de
SUMMARY:20.000 Arten von Bienen
DESCRIPTION:Spanien 2022\, 130 Min.\, von Estibaliz Urresola Solaguren mit Sofía Otero\, Patricia López Arnaiz\, Ane Gabarain \nEinfühlsame und sensible Geschichte um ein Kind\, das auf Identitätssuche ist\, damit aber auch an die Grenzen dessen stößt\, was sein Umfeld als richtig oder falsch betrachtet. Ein zurückhaltender\, sehr gelungener Film.
URL:https://www.club-manufaktur.de/event/20-000-arten-von-bienen-2/
LOCATION:Kino Kleine Fluchten\, Hammerschlag 8\, Schorndorf\, 73614\, Deutschland
CATEGORIES:Kino
END:VEVENT
BEGIN:VEVENT
DTSTART;TZID=Europe/Berlin:20230930T183000
DTEND;TZID=Europe/Berlin:20230930T183000
DTSTAMP:20260419T210139
CREATED:20230827T080047Z
LAST-MODIFIED:20230827T080047Z
UID:10004867-1696098600-1696098600@www.club-manufaktur.de
SUMMARY:Past Lives
DESCRIPTION:106 Min.\, von Celine Song mit Greta Lee\, Teo Yoo\, John Magaro\, Moon Seung-ah\, Leem Seung-min\, Ji Hye Yoon\, Won Young Choi u. a. \n„Past Lives – In einem anderen Leben“ ist eine echte Entdeckung\, eine kluge Meditation über zwischenmenschliche Beziehungen\, die Erfahrungen von Migranten und unsere Existenz im Allgemeinen. Warum schematisch\, wenn es auch aufrichtig und wahrhaftig geht\, scheint sich die Drehbuchautorin und Regisseurin gedacht zu haben und zeigt Hollywood\, wie man wirkliche Emotionen abbildet\, nicht irgendwelche sattsam eingeübten Gefühlsmuster.
URL:https://www.club-manufaktur.de/event/past-lives/2023-09-30/
LOCATION:Kino Kleine Fluchten\, Hammerschlag 8\, Schorndorf\, 73614\, Deutschland
CATEGORIES:Kino
ORGANIZER;CN="Kino Kleine Fluchten":MAILTO:info@manukino.de
END:VEVENT
BEGIN:VEVENT
DTSTART;TZID=Europe/Berlin:20230930T203000
DTEND;TZID=Europe/Berlin:20230930T203000
DTSTAMP:20260419T210139
CREATED:20230828T132846Z
LAST-MODIFIED:20230828T132846Z
UID:10004878-1696105800-1696105800@www.club-manufaktur.de
SUMMARY:20.000 Arten von Bienen
DESCRIPTION:Spanien 2022\, 130 Min.\, von Estibaliz Urresola Solaguren mit Sofía Otero\, Patricia López Arnaiz\, Ane Gabarain \nEinfühlsame und sensible Geschichte um ein Kind\, das auf Identitätssuche ist\, damit aber auch an die Grenzen dessen stößt\, was sein Umfeld als richtig oder falsch betrachtet. Ein zurückhaltender\, sehr gelungener Film.
URL:https://www.club-manufaktur.de/event/20-000-arten-von-bienen-3/
LOCATION:Kino Kleine Fluchten\, Hammerschlag 8\, Schorndorf\, 73614\, Deutschland
CATEGORIES:Kino
END:VEVENT
BEGIN:VEVENT
DTSTART;TZID=Europe/Berlin:20231001T170000
DTEND;TZID=Europe/Berlin:20231001T170000
DTSTAMP:20260419T210139
CREATED:20230921T080247Z
LAST-MODIFIED:20230921T080247Z
UID:10004916-1696179600-1696179600@www.club-manufaktur.de
SUMMARY:Die toten Vögel sind oben
DESCRIPTION:Deutschland 2022\, 83 Min.\, von Sönje Storm \nIn ihrer Doku „Die toten Vögel sind oben“ befasst sich Regisseurin Sönje Storm mit dem beeindruckenden Nachlass ihres Urgroßvaters\, Jürgen Friedrich Mahrt. Dieser begab sich von der Front direkt in die Natur: Im Ersten Weltkrieg als Luftaufklärer an der Westfront tätig\, beobachtete und dokumentierte Mahrt nach seiner Rückkehr die Natur und Tierwelt. Mit seinen Erkenntnissen über die Fragilität von Ökosystemen und den Zusammenhang zwischen landschaftlich-klimatischer Veränderung und der Artenvielfalt war er seiner Zeit weit voraus. Ein erhellender\, informativer Film über einen beachtenswerten Menschen\, souverän und filmisch detailliert umgesetzt.
URL:https://www.club-manufaktur.de/event/die-toten-voegel-sind-oben-2/2023-10-01/
LOCATION:Kino Kleine Fluchten\, Hammerschlag 8\, Schorndorf\, 73614\, Deutschland
CATEGORIES:Kino
ORGANIZER;CN="Kino Kleine Fluchten":MAILTO:info@manukino.de
END:VEVENT
BEGIN:VEVENT
DTSTART;TZID=Europe/Berlin:20231001T183000
DTEND;TZID=Europe/Berlin:20231001T183000
DTSTAMP:20260419T210139
CREATED:20230827T080047Z
LAST-MODIFIED:20230827T080047Z
UID:10004868-1696185000-1696185000@www.club-manufaktur.de
SUMMARY:Past Lives
DESCRIPTION:106 Min.\, von Celine Song mit Greta Lee\, Teo Yoo\, John Magaro\, Moon Seung-ah\, Leem Seung-min\, Ji Hye Yoon\, Won Young Choi u. a. \n„Past Lives – In einem anderen Leben“ ist eine echte Entdeckung\, eine kluge Meditation über zwischenmenschliche Beziehungen\, die Erfahrungen von Migranten und unsere Existenz im Allgemeinen. Warum schematisch\, wenn es auch aufrichtig und wahrhaftig geht\, scheint sich die Drehbuchautorin und Regisseurin gedacht zu haben und zeigt Hollywood\, wie man wirkliche Emotionen abbildet\, nicht irgendwelche sattsam eingeübten Gefühlsmuster.
URL:https://www.club-manufaktur.de/event/past-lives/2023-10-01/
LOCATION:Kino Kleine Fluchten\, Hammerschlag 8\, Schorndorf\, 73614\, Deutschland
CATEGORIES:Kino
ORGANIZER;CN="Kino Kleine Fluchten":MAILTO:info@manukino.de
END:VEVENT
BEGIN:VEVENT
DTSTART;TZID=Europe/Berlin:20231001T203000
DTEND;TZID=Europe/Berlin:20231001T203000
DTSTAMP:20260419T210139
CREATED:20230828T132853Z
LAST-MODIFIED:20230921T071319Z
UID:10004879-1696192200-1696192200@www.club-manufaktur.de
SUMMARY:20.000 Arten von Bienen
DESCRIPTION:Spanien 2022\, 130 Min.\, von Estibaliz Urresola Solaguren mit Sofía Otero\, Patricia López Arnaiz\, Ane Gabarain \nEinfühlsame und sensible Geschichte um ein Kind\, das auf Identitätssuche ist\, damit aber auch an die Grenzen dessen stößt\, was sein Umfeld als richtig oder falsch betrachtet. Ein zurückhaltender\, sehr gelungener Film.
URL:https://www.club-manufaktur.de/event/20-000-arten-von-bienen-4/2023-10-01/
LOCATION:Kino Kleine Fluchten\, Hammerschlag 8\, Schorndorf\, 73614\, Deutschland
CATEGORIES:Kino
END:VEVENT
END:VCALENDAR