BEGIN:VCALENDAR
VERSION:2.0
PRODID:-//Club Manufaktur e.V. aus Schorndorf - ECPv6.15.20//NONSGML v1.0//EN
CALSCALE:GREGORIAN
METHOD:PUBLISH
X-ORIGINAL-URL:https://www.club-manufaktur.de
X-WR-CALDESC:Veranstaltungen für Club Manufaktur e.V. aus Schorndorf
REFRESH-INTERVAL;VALUE=DURATION:PT1H
X-Robots-Tag:noindex
X-PUBLISHED-TTL:PT1H
BEGIN:VTIMEZONE
TZID:Europe/Berlin
BEGIN:DAYLIGHT
TZOFFSETFROM:+0100
TZOFFSETTO:+0200
TZNAME:CEST
DTSTART:20210328T010000
END:DAYLIGHT
BEGIN:STANDARD
TZOFFSETFROM:+0200
TZOFFSETTO:+0100
TZNAME:CET
DTSTART:20211031T010000
END:STANDARD
BEGIN:DAYLIGHT
TZOFFSETFROM:+0100
TZOFFSETTO:+0200
TZNAME:CEST
DTSTART:20220327T010000
END:DAYLIGHT
BEGIN:STANDARD
TZOFFSETFROM:+0200
TZOFFSETTO:+0100
TZNAME:CET
DTSTART:20221030T010000
END:STANDARD
BEGIN:DAYLIGHT
TZOFFSETFROM:+0100
TZOFFSETTO:+0200
TZNAME:CEST
DTSTART:20230326T010000
END:DAYLIGHT
BEGIN:STANDARD
TZOFFSETFROM:+0200
TZOFFSETTO:+0100
TZNAME:CET
DTSTART:20231029T010000
END:STANDARD
END:VTIMEZONE
BEGIN:VEVENT
DTSTART;TZID=Europe/Berlin:20221106T140000
DTEND;TZID=Europe/Berlin:20221231T220000
DTSTAMP:20260420T225511
CREATED:20221010T150855Z
LAST-MODIFIED:20221010T150855Z
UID:10003775-1667743200-1672524000@www.club-manufaktur.de
SUMMARY:Neun Quadrate - Gez Zirkelbach
DESCRIPTION:Die Ausstellung kann vom 6.11. bis 31.12.2022 in der Manufaktur während den Öffnungszeiten besichtigt werden. \nAusstellungseröffnung am 6.11.2022 um 14.00 Uhr \nBilderwand\nSonntag\, 6.11. – 31.12.2022 \nVernissage am Sonntag\, 6.11.2022 um 14.00 Uhr\nEinführung – Gez Zirkelbach\nMusik – Luís Zirkelbach \nNeun Quadrate \nNeun Quadrate ist eine Ausstellung an der Bilderwand von dem Künstler Gez Zirkelbach\, der mit neun Menschen aus verschiedenen Kontexten je ein Bild geschaffen hat – auf je 100 x 100 cm Leinwand.\nEs geht dabei um Annäherung und Auseinandersetzung mit künstlerischen Mitteln. Themen wie Freude an Farben und Formen sind ebenso Inhalt\, wie Geschlechterverhältnisse\, Sehnsucht nach Geborgenheit\, Frieden\, Flucht und Krieg.\nExperimentelle Malerei mit Pinsel und Spray\, Collagen\, Decollagen mit Texten\, Relikten Zeichnungen bis hin zur Concept Art sind so entstanden.\nDie beteiligten Künstler*innen sind Sam Acker\, Angelika Fischer\, Andrea Fordinal\, Marlen Lang\, Stefan Mayer\, die Geschwister Maja und Mahla Rahimi\, Katja Welbers\, Clara Zirkelbach-Glück\, Luís Zirkelbach. \nDie Ausstellung ist vom Land Baden-Württemberg gefördert und entstand in Zusammenarbeit mit Angelika Fischer und Stefan Mayer.
URL:https://www.club-manufaktur.de/event/neun-quadrate-gez-zirkelbach/
LOCATION:Bilderwand\, Hammerschlag 8\, Schorndorf\, 73614
CATEGORIES:Bilderwand
ATTACH;FMTTYPE=image/jpeg:https://www.club-manufaktur.de/wp-content/uploads/2022/10/Hundert-1-scaled.jpg
END:VEVENT
BEGIN:VEVENT
DTSTART;VALUE=DATE:20221226
DTEND;VALUE=DATE:20221227
DTSTAMP:20260420T225511
CREATED:20220212T131450Z
LAST-MODIFIED:20230516T073636Z
UID:10004662-1672012800-1672099199@www.club-manufaktur.de
SUMMARY:Spielfrei
DESCRIPTION:Heute gibt es leider keine Vorstellung.
URL:https://www.club-manufaktur.de/event/spielfrei-4/2022-12-26/
LOCATION:Kino Kleine Fluchten\, Hammerschlag 8\, Schorndorf\, 73614\, Deutschland
CATEGORIES:Kino
ATTACH;FMTTYPE=image/jpeg:https://www.club-manufaktur.de/wp-content/uploads/2021/03/MG_1352.jpg
ORGANIZER;CN="Kino Kleine Fluchten":MAILTO:info@manukino.de
END:VEVENT
BEGIN:VEVENT
DTSTART;VALUE=DATE:20221227
DTEND;VALUE=DATE:20221228
DTSTAMP:20260420T225511
CREATED:20220212T131450Z
LAST-MODIFIED:20230516T073636Z
UID:10004663-1672099200-1672185599@www.club-manufaktur.de
SUMMARY:Spielfrei
DESCRIPTION:Heute gibt es leider keine Vorstellung.
URL:https://www.club-manufaktur.de/event/spielfrei-4/2022-12-27/
LOCATION:Kino Kleine Fluchten\, Hammerschlag 8\, Schorndorf\, 73614\, Deutschland
CATEGORIES:Kino
ATTACH;FMTTYPE=image/jpeg:https://www.club-manufaktur.de/wp-content/uploads/2021/03/MG_1352.jpg
ORGANIZER;CN="Kino Kleine Fluchten":MAILTO:info@manukino.de
END:VEVENT
BEGIN:VEVENT
DTSTART;TZID=Europe/Berlin:20221228T183000
DTEND;TZID=Europe/Berlin:20221228T183000
DTSTAMP:20260420T225511
CREATED:20221118T091335Z
LAST-MODIFIED:20221118T094309Z
UID:10004303-1672252200-1672252200@www.club-manufaktur.de
SUMMARY:Tenor – Eine Stimme\, Zwei Welten
DESCRIPTION:Musik und Klassenkampf: Das wäre eine passende Kurzbeschreibung für diese begeisterungswürdige Dramödie mit Märchen-Touch\, in der ein ziemlich cooler Rapper als klassisches Gesangstalent entdeckt wird. \nWenn es um die Verbindung von ernsthaften sozialen Themen mit Humor und moderner Kinounterhaltung geht\, liegen die französischen Filmschaffenden zurzeit ganz weit vorne. Und sie können es eben auch richtig gut – mit Eleganz und Esprit\, mit Spaß\, Dramatik und opulenten Bildern. Ein Fest für alle Sinne!
URL:https://www.club-manufaktur.de/event/tenor-eine-stimme-zwei-welten/2022-12-28/
LOCATION:Kino Kleine Fluchten\, Hammerschlag 8\, Schorndorf\, 73614\, Deutschland
CATEGORIES:Kino
ORGANIZER;CN="Kino Kleine Fluchten":MAILTO:info@manukino.de
END:VEVENT
BEGIN:VEVENT
DTSTART;TZID=Europe/Berlin:20221228T203000
DTEND;TZID=Europe/Berlin:20221228T203000
DTSTAMP:20260420T225511
CREATED:20221118T091949Z
LAST-MODIFIED:20221118T091949Z
UID:10004313-1672259400-1672259400@www.club-manufaktur.de
SUMMARY:See How They Run
DESCRIPTION:USA 2022\, 95 Min.\, von Tom George mit Sam Rockwell\, Saoirse Ronan\, Adrien Brody \nFilme wie „See How They Run“ gibt es viel zu selten. Solche\, die ein gewisses\, altmodisches Flair haben. Deren Figuren Seele haben\, die im Umgang miteinander einfach spritzig sind. Ja\, auch Who-done-it-Krimis\, bei denen man miträtseln kann\, wer der Killer ist. Hier geht es um einen Mord\, der nach einem Theaterstück stattfindet. Die Ermittlung führen ein altgedienter Polizist und eine Anfängerin\, die gerne zu vorschnellen Schlüssen kommt. Das ist amüsant\, zum Schmunzeln\, und einfach grandios gespielt.
URL:https://www.club-manufaktur.de/event/see-how-they-run/2022-12-28/
LOCATION:Kino Kleine Fluchten\, Hammerschlag 8\, Schorndorf\, 73614\, Deutschland
CATEGORIES:Kino
ORGANIZER;CN="Kino Kleine Fluchten":MAILTO:info@manukino.de
END:VEVENT
BEGIN:VEVENT
DTSTART;TZID=Europe/Berlin:20221229T183000
DTEND;TZID=Europe/Berlin:20221229T183000
DTSTAMP:20260420T225511
CREATED:20221118T091335Z
LAST-MODIFIED:20221118T094309Z
UID:10004304-1672338600-1672338600@www.club-manufaktur.de
SUMMARY:Tenor – Eine Stimme\, Zwei Welten
DESCRIPTION:Musik und Klassenkampf: Das wäre eine passende Kurzbeschreibung für diese begeisterungswürdige Dramödie mit Märchen-Touch\, in der ein ziemlich cooler Rapper als klassisches Gesangstalent entdeckt wird. \nWenn es um die Verbindung von ernsthaften sozialen Themen mit Humor und moderner Kinounterhaltung geht\, liegen die französischen Filmschaffenden zurzeit ganz weit vorne. Und sie können es eben auch richtig gut – mit Eleganz und Esprit\, mit Spaß\, Dramatik und opulenten Bildern. Ein Fest für alle Sinne!
URL:https://www.club-manufaktur.de/event/tenor-eine-stimme-zwei-welten/2022-12-29/
LOCATION:Kino Kleine Fluchten\, Hammerschlag 8\, Schorndorf\, 73614\, Deutschland
CATEGORIES:Kino
ORGANIZER;CN="Kino Kleine Fluchten":MAILTO:info@manukino.de
END:VEVENT
BEGIN:VEVENT
DTSTART;TZID=Europe/Berlin:20221229T203000
DTEND;TZID=Europe/Berlin:20221229T203000
DTSTAMP:20260420T225511
CREATED:20221118T091949Z
LAST-MODIFIED:20221118T091949Z
UID:10004314-1672345800-1672345800@www.club-manufaktur.de
SUMMARY:See How They Run
DESCRIPTION:USA 2022\, 95 Min.\, von Tom George mit Sam Rockwell\, Saoirse Ronan\, Adrien Brody \nFilme wie „See How They Run“ gibt es viel zu selten. Solche\, die ein gewisses\, altmodisches Flair haben. Deren Figuren Seele haben\, die im Umgang miteinander einfach spritzig sind. Ja\, auch Who-done-it-Krimis\, bei denen man miträtseln kann\, wer der Killer ist. Hier geht es um einen Mord\, der nach einem Theaterstück stattfindet. Die Ermittlung führen ein altgedienter Polizist und eine Anfängerin\, die gerne zu vorschnellen Schlüssen kommt. Das ist amüsant\, zum Schmunzeln\, und einfach grandios gespielt.
URL:https://www.club-manufaktur.de/event/see-how-they-run/2022-12-29/
LOCATION:Kino Kleine Fluchten\, Hammerschlag 8\, Schorndorf\, 73614\, Deutschland
CATEGORIES:Kino
ORGANIZER;CN="Kino Kleine Fluchten":MAILTO:info@manukino.de
END:VEVENT
BEGIN:VEVENT
DTSTART;TZID=Europe/Berlin:20221230T183000
DTEND;TZID=Europe/Berlin:20221230T183000
DTSTAMP:20260420T225511
CREATED:20221118T091335Z
LAST-MODIFIED:20221118T094309Z
UID:10004305-1672425000-1672425000@www.club-manufaktur.de
SUMMARY:Tenor – Eine Stimme\, Zwei Welten
DESCRIPTION:Musik und Klassenkampf: Das wäre eine passende Kurzbeschreibung für diese begeisterungswürdige Dramödie mit Märchen-Touch\, in der ein ziemlich cooler Rapper als klassisches Gesangstalent entdeckt wird. \nWenn es um die Verbindung von ernsthaften sozialen Themen mit Humor und moderner Kinounterhaltung geht\, liegen die französischen Filmschaffenden zurzeit ganz weit vorne. Und sie können es eben auch richtig gut – mit Eleganz und Esprit\, mit Spaß\, Dramatik und opulenten Bildern. Ein Fest für alle Sinne!
URL:https://www.club-manufaktur.de/event/tenor-eine-stimme-zwei-welten/2022-12-30/
LOCATION:Kino Kleine Fluchten\, Hammerschlag 8\, Schorndorf\, 73614\, Deutschland
CATEGORIES:Kino
ORGANIZER;CN="Kino Kleine Fluchten":MAILTO:info@manukino.de
END:VEVENT
BEGIN:VEVENT
DTSTART;TZID=Europe/Berlin:20221230T203000
DTEND;TZID=Europe/Berlin:20221230T203000
DTSTAMP:20260420T225511
CREATED:20221118T091949Z
LAST-MODIFIED:20221118T091949Z
UID:10004315-1672432200-1672432200@www.club-manufaktur.de
SUMMARY:See How They Run
DESCRIPTION:USA 2022\, 95 Min.\, von Tom George mit Sam Rockwell\, Saoirse Ronan\, Adrien Brody \nFilme wie „See How They Run“ gibt es viel zu selten. Solche\, die ein gewisses\, altmodisches Flair haben. Deren Figuren Seele haben\, die im Umgang miteinander einfach spritzig sind. Ja\, auch Who-done-it-Krimis\, bei denen man miträtseln kann\, wer der Killer ist. Hier geht es um einen Mord\, der nach einem Theaterstück stattfindet. Die Ermittlung führen ein altgedienter Polizist und eine Anfängerin\, die gerne zu vorschnellen Schlüssen kommt. Das ist amüsant\, zum Schmunzeln\, und einfach grandios gespielt.
URL:https://www.club-manufaktur.de/event/see-how-they-run/2022-12-30/
LOCATION:Kino Kleine Fluchten\, Hammerschlag 8\, Schorndorf\, 73614\, Deutschland
CATEGORIES:Kino
ORGANIZER;CN="Kino Kleine Fluchten":MAILTO:info@manukino.de
END:VEVENT
END:VCALENDAR