BEGIN:VCALENDAR
VERSION:2.0
PRODID:-//Club Manufaktur e.V. aus Schorndorf - ECPv6.15.20//NONSGML v1.0//EN
CALSCALE:GREGORIAN
METHOD:PUBLISH
X-ORIGINAL-URL:https://www.club-manufaktur.de
X-WR-CALDESC:Veranstaltungen für Club Manufaktur e.V. aus Schorndorf
REFRESH-INTERVAL;VALUE=DURATION:PT1H
X-Robots-Tag:noindex
X-PUBLISHED-TTL:PT1H
BEGIN:VTIMEZONE
TZID:Europe/Berlin
BEGIN:DAYLIGHT
TZOFFSETFROM:+0100
TZOFFSETTO:+0200
TZNAME:CEST
DTSTART:20210328T010000
END:DAYLIGHT
BEGIN:STANDARD
TZOFFSETFROM:+0200
TZOFFSETTO:+0100
TZNAME:CET
DTSTART:20211031T010000
END:STANDARD
BEGIN:DAYLIGHT
TZOFFSETFROM:+0100
TZOFFSETTO:+0200
TZNAME:CEST
DTSTART:20220327T010000
END:DAYLIGHT
BEGIN:STANDARD
TZOFFSETFROM:+0200
TZOFFSETTO:+0100
TZNAME:CET
DTSTART:20221030T010000
END:STANDARD
BEGIN:DAYLIGHT
TZOFFSETFROM:+0100
TZOFFSETTO:+0200
TZNAME:CEST
DTSTART:20230326T010000
END:DAYLIGHT
BEGIN:STANDARD
TZOFFSETFROM:+0200
TZOFFSETTO:+0100
TZNAME:CET
DTSTART:20231029T010000
END:STANDARD
END:VTIMEZONE
BEGIN:VEVENT
DTSTART;TZID=Europe/Berlin:20221106T140000
DTEND;TZID=Europe/Berlin:20221231T220000
DTSTAMP:20260419T221747
CREATED:20221010T150855Z
LAST-MODIFIED:20221010T150855Z
UID:10003775-1667743200-1672524000@www.club-manufaktur.de
SUMMARY:Neun Quadrate - Gez Zirkelbach
DESCRIPTION:Die Ausstellung kann vom 6.11. bis 31.12.2022 in der Manufaktur während den Öffnungszeiten besichtigt werden. \nAusstellungseröffnung am 6.11.2022 um 14.00 Uhr \nBilderwand\nSonntag\, 6.11. – 31.12.2022 \nVernissage am Sonntag\, 6.11.2022 um 14.00 Uhr\nEinführung – Gez Zirkelbach\nMusik – Luís Zirkelbach \nNeun Quadrate \nNeun Quadrate ist eine Ausstellung an der Bilderwand von dem Künstler Gez Zirkelbach\, der mit neun Menschen aus verschiedenen Kontexten je ein Bild geschaffen hat – auf je 100 x 100 cm Leinwand.\nEs geht dabei um Annäherung und Auseinandersetzung mit künstlerischen Mitteln. Themen wie Freude an Farben und Formen sind ebenso Inhalt\, wie Geschlechterverhältnisse\, Sehnsucht nach Geborgenheit\, Frieden\, Flucht und Krieg.\nExperimentelle Malerei mit Pinsel und Spray\, Collagen\, Decollagen mit Texten\, Relikten Zeichnungen bis hin zur Concept Art sind so entstanden.\nDie beteiligten Künstler*innen sind Sam Acker\, Angelika Fischer\, Andrea Fordinal\, Marlen Lang\, Stefan Mayer\, die Geschwister Maja und Mahla Rahimi\, Katja Welbers\, Clara Zirkelbach-Glück\, Luís Zirkelbach. \nDie Ausstellung ist vom Land Baden-Württemberg gefördert und entstand in Zusammenarbeit mit Angelika Fischer und Stefan Mayer.
URL:https://www.club-manufaktur.de/event/neun-quadrate-gez-zirkelbach/
LOCATION:Bilderwand\, Hammerschlag 8\, Schorndorf\, 73614
CATEGORIES:Bilderwand
ATTACH;FMTTYPE=image/jpeg:https://www.club-manufaktur.de/wp-content/uploads/2022/10/Hundert-1-scaled.jpg
END:VEVENT
BEGIN:VEVENT
DTSTART;VALUE=DATE:20221114
DTEND;VALUE=DATE:20221115
DTSTAMP:20260419T221747
CREATED:20220212T131450Z
LAST-MODIFIED:20230516T073636Z
UID:10003400-1668384000-1668470399@www.club-manufaktur.de
SUMMARY:Spielfrei
DESCRIPTION:Heute gibt es leider keine Vorstellung.
URL:https://www.club-manufaktur.de/event/spielfrei-4/2022-11-14/
LOCATION:Kino Kleine Fluchten\, Hammerschlag 8\, Schorndorf\, 73614\, Deutschland
CATEGORIES:Kino
ATTACH;FMTTYPE=image/jpeg:https://www.club-manufaktur.de/wp-content/uploads/2021/03/MG_1352.jpg
ORGANIZER;CN="Kino Kleine Fluchten":MAILTO:info@manukino.de
END:VEVENT
BEGIN:VEVENT
DTSTART;VALUE=DATE:20221115
DTEND;VALUE=DATE:20221116
DTSTAMP:20260419T221747
CREATED:20220212T131450Z
LAST-MODIFIED:20230516T073636Z
UID:10003401-1668470400-1668556799@www.club-manufaktur.de
SUMMARY:Spielfrei
DESCRIPTION:Heute gibt es leider keine Vorstellung.
URL:https://www.club-manufaktur.de/event/spielfrei-4/2022-11-15/
LOCATION:Kino Kleine Fluchten\, Hammerschlag 8\, Schorndorf\, 73614\, Deutschland
CATEGORIES:Kino
ATTACH;FMTTYPE=image/jpeg:https://www.club-manufaktur.de/wp-content/uploads/2021/03/MG_1352.jpg
ORGANIZER;CN="Kino Kleine Fluchten":MAILTO:info@manukino.de
END:VEVENT
BEGIN:VEVENT
DTSTART;TZID=Europe/Berlin:20221116T190000
DTEND;TZID=Europe/Berlin:20221116T190000
DTSTAMP:20260419T221747
CREATED:20221018T074846Z
LAST-MODIFIED:20221018T074846Z
UID:10003792-1668625200-1668625200@www.club-manufaktur.de
SUMMARY:Triangle of Sadness
DESCRIPTION:Schweden/Frankreich/Deutschland/GB/Türkei 2022\, 147 Min.\, von Ruben Östlund mit Woody Harrelson\, Harris Dickinson\, Charlbi Dean\, Dolly De Leon\, Vicki Berlin\, Iris Berben\, Sunnyi Melles\, Henrik Dorsin \nZwei Mal hintereinander die Goldene Palme beim Festival von Cannes zu gewinnen ist eine bemerkenswerte Leistung. Nachdem er 2017 für seine Kunst-Satire „The Square“ ausgezeichnet wurde\, war es nun „Triangle of Sadness“\, eine Art-Reichen-Satire\, für die der Schwede Ruben Östlund prämiert wurde. \nEin junges Model-Paar in der Krise begibt sich auf eine Kreuzfahrt mit dekadenten Superreichen und strandet nach einem Angriff durch Piraten auf einer einsamen Insel\, wo sich die bisherige Gesellschaftshierarchie plötzlich umdreht. Eine Satire über soziale Ungleichheit und festgefahrene Rollenbilder\, die eher nummernartig als mit einer herkömmlichen Handlung versucht\, die Verlogenheit des Kapitalismus vorzuführen.
URL:https://www.club-manufaktur.de/event/triangle-of-sadness/2022-11-16/
LOCATION:Kino Kleine Fluchten\, Hammerschlag 8\, Schorndorf\, 73614\, Deutschland
CATEGORIES:Kino
ORGANIZER;CN="Kino Kleine Fluchten":MAILTO:info@manukino.de
END:VEVENT
BEGIN:VEVENT
DTSTART;TZID=Europe/Berlin:20221117T183000
DTEND;TZID=Europe/Berlin:20221117T183000
DTSTAMP:20260419T221747
CREATED:20221018T075456Z
LAST-MODIFIED:20221018T075456Z
UID:10003793-1668709800-1668709800@www.club-manufaktur.de
SUMMARY:Liebe\, D-Mark und Tod – Ask\, Mark ve Ölüm
DESCRIPTION:Ein sehr unterhaltsamer\, toll recherchierter Film mit einem bittersüßen Beigeschmack: Es geht um die vielfältige Musikkultur von türkischstämmigen Migranten in Deutschland\, die sich in den letzten 60 Jahren – und weitgehend unbeachtet von der deutschen Bevölkerung – entwickelt und ständig verändert hat.\nCem Kaya ist es gelungen\, für seinen sehr dichten und sehr musikalischen Film eine Unmenge von Musikerinnen und Musikern vor die Kamera zu holen und ihre Werke zu präsentieren. Vom Protestsong bis zum Schlager\, vom Chanson bis zum Hard Rock ist alles dabei – ein sehr sehenswertes Kaleidoskop\, das im besten Sinne des Wortes zum Nachdenken anregt.
URL:https://www.club-manufaktur.de/event/liebe-d-mark-und-tod-ask-mark-ve-oeluem/2022-11-17/
LOCATION:Kino Kleine Fluchten\, Hammerschlag 8\, Schorndorf\, 73614\, Deutschland
CATEGORIES:Kino
ORGANIZER;CN="Kino Kleine Fluchten":MAILTO:info@manukino.de
END:VEVENT
BEGIN:VEVENT
DTSTART;TZID=Europe/Berlin:20221117T203000
DTEND;TZID=Europe/Berlin:20221117T203000
DTSTAMP:20260419T221747
CREATED:20221018T080103Z
LAST-MODIFIED:20221018T080103Z
UID:10003797-1668717000-1668717000@www.club-manufaktur.de
SUMMARY:Was dein Herz dir sagt – Adieu\, ihr Idioten
DESCRIPTION:Eine gelungene Satire auf die moderne Welt mit einem Hauch von Bonnie & Clyde\, ein Road Movie steckt auch noch drin und eine Buddystory mit ein paar Slapstick-Elementen um drei vollkommen gegensätzliche Personen\, die das Schicksal zusammenbringt: die Friseurin Suze\, der IT-Nerd JB und der blinde Archivar Blin. Zu dritt machen sie sich auf die Suche nach Suzes verlorenem Sohn\, verfolgt von der Polizei und von dem Wissen\, dass sie eigentlich Versager sind.\nDie erfreulich durchgeknallte Tragikomödie ist vieles\, z. B. ziemlich anspruchsvoll\, aber eines ganz gewiss nicht: langweilig. Virginie Efira führt das brillante Darstellerensemble an\, Albert Dupontel als JB und Nicholas Marié als Blin sind ihre Partner in einem gagreichen Film voller Überraschungen\, mit prachtvoll coolen Dialogen und vielen wunderbar fiesen\, kleinen Details. Dafür gab es einen regelrechten Preisregen bei der César-Vergabe u. a. für Regie\, Drehbuch und den Film insgesamt.
URL:https://www.club-manufaktur.de/event/was-dein-herz-dir-sagt-adieu-ihr-idioten/2022-11-17/
LOCATION:Kino Kleine Fluchten\, Hammerschlag 8\, Schorndorf\, 73614\, Deutschland
CATEGORIES:Kino
ORGANIZER;CN="Kino Kleine Fluchten":MAILTO:info@manukino.de
END:VEVENT
BEGIN:VEVENT
DTSTART;TZID=Europe/Berlin:20221118T183000
DTEND;TZID=Europe/Berlin:20221118T183000
DTSTAMP:20260419T221747
CREATED:20221018T075456Z
LAST-MODIFIED:20221018T075456Z
UID:10003794-1668796200-1668796200@www.club-manufaktur.de
SUMMARY:Liebe\, D-Mark und Tod – Ask\, Mark ve Ölüm
DESCRIPTION:Ein sehr unterhaltsamer\, toll recherchierter Film mit einem bittersüßen Beigeschmack: Es geht um die vielfältige Musikkultur von türkischstämmigen Migranten in Deutschland\, die sich in den letzten 60 Jahren – und weitgehend unbeachtet von der deutschen Bevölkerung – entwickelt und ständig verändert hat.\nCem Kaya ist es gelungen\, für seinen sehr dichten und sehr musikalischen Film eine Unmenge von Musikerinnen und Musikern vor die Kamera zu holen und ihre Werke zu präsentieren. Vom Protestsong bis zum Schlager\, vom Chanson bis zum Hard Rock ist alles dabei – ein sehr sehenswertes Kaleidoskop\, das im besten Sinne des Wortes zum Nachdenken anregt.
URL:https://www.club-manufaktur.de/event/liebe-d-mark-und-tod-ask-mark-ve-oeluem/2022-11-18/
LOCATION:Kino Kleine Fluchten\, Hammerschlag 8\, Schorndorf\, 73614\, Deutschland
CATEGORIES:Kino
ORGANIZER;CN="Kino Kleine Fluchten":MAILTO:info@manukino.de
END:VEVENT
BEGIN:VEVENT
DTSTART;TZID=Europe/Berlin:20221118T203000
DTEND;TZID=Europe/Berlin:20221118T203000
DTSTAMP:20260419T221747
CREATED:20221018T080103Z
LAST-MODIFIED:20221018T080103Z
UID:10003798-1668803400-1668803400@www.club-manufaktur.de
SUMMARY:Was dein Herz dir sagt – Adieu\, ihr Idioten
DESCRIPTION:Eine gelungene Satire auf die moderne Welt mit einem Hauch von Bonnie & Clyde\, ein Road Movie steckt auch noch drin und eine Buddystory mit ein paar Slapstick-Elementen um drei vollkommen gegensätzliche Personen\, die das Schicksal zusammenbringt: die Friseurin Suze\, der IT-Nerd JB und der blinde Archivar Blin. Zu dritt machen sie sich auf die Suche nach Suzes verlorenem Sohn\, verfolgt von der Polizei und von dem Wissen\, dass sie eigentlich Versager sind.\nDie erfreulich durchgeknallte Tragikomödie ist vieles\, z. B. ziemlich anspruchsvoll\, aber eines ganz gewiss nicht: langweilig. Virginie Efira führt das brillante Darstellerensemble an\, Albert Dupontel als JB und Nicholas Marié als Blin sind ihre Partner in einem gagreichen Film voller Überraschungen\, mit prachtvoll coolen Dialogen und vielen wunderbar fiesen\, kleinen Details. Dafür gab es einen regelrechten Preisregen bei der César-Vergabe u. a. für Regie\, Drehbuch und den Film insgesamt.
URL:https://www.club-manufaktur.de/event/was-dein-herz-dir-sagt-adieu-ihr-idioten/2022-11-18/
LOCATION:Kino Kleine Fluchten\, Hammerschlag 8\, Schorndorf\, 73614\, Deutschland
CATEGORIES:Kino
ORGANIZER;CN="Kino Kleine Fluchten":MAILTO:info@manukino.de
END:VEVENT
BEGIN:VEVENT
DTSTART;TZID=Europe/Berlin:20221119T183000
DTEND;TZID=Europe/Berlin:20221119T183000
DTSTAMP:20260419T221747
CREATED:20221018T075456Z
LAST-MODIFIED:20221018T075456Z
UID:10003795-1668882600-1668882600@www.club-manufaktur.de
SUMMARY:Liebe\, D-Mark und Tod – Ask\, Mark ve Ölüm
DESCRIPTION:Ein sehr unterhaltsamer\, toll recherchierter Film mit einem bittersüßen Beigeschmack: Es geht um die vielfältige Musikkultur von türkischstämmigen Migranten in Deutschland\, die sich in den letzten 60 Jahren – und weitgehend unbeachtet von der deutschen Bevölkerung – entwickelt und ständig verändert hat.\nCem Kaya ist es gelungen\, für seinen sehr dichten und sehr musikalischen Film eine Unmenge von Musikerinnen und Musikern vor die Kamera zu holen und ihre Werke zu präsentieren. Vom Protestsong bis zum Schlager\, vom Chanson bis zum Hard Rock ist alles dabei – ein sehr sehenswertes Kaleidoskop\, das im besten Sinne des Wortes zum Nachdenken anregt.
URL:https://www.club-manufaktur.de/event/liebe-d-mark-und-tod-ask-mark-ve-oeluem/2022-11-19/
LOCATION:Kino Kleine Fluchten\, Hammerschlag 8\, Schorndorf\, 73614\, Deutschland
CATEGORIES:Kino
ORGANIZER;CN="Kino Kleine Fluchten":MAILTO:info@manukino.de
END:VEVENT
BEGIN:VEVENT
DTSTART;TZID=Europe/Berlin:20221119T203000
DTEND;TZID=Europe/Berlin:20221119T203000
DTSTAMP:20260419T221747
CREATED:20220427T100043Z
LAST-MODIFIED:20220929T115514Z
UID:10003557-1668889800-1668889800@www.club-manufaktur.de
SUMMARY:DIE STERNE (D)
DESCRIPTION:Das neue Album von Die Sterne heißt „Hallo Euphoria“\, und da fragt man sich natürlich gleich\, ob die noch alle Tassen im Schrank haben. Denn Euphorie ist von allen Gefühlen\, die man derzeit so haben kann\, das unwahrscheinlichste. Dann hört man die zehn neuen Lieder\, und spätestens vierzig Minuten später\, wenn die Streicher vom letzten Stück – dem traurigsten Sterne-Song aller Zeiten – verklungen sind\, spürt man sie\, die Euphorie. \nAber nicht als hysterisches Hurra oder zynisches Nach-uns-die-Sintflut\, sondern als zarte Erhebung in der Herzgegend bei leichtem Hirnflimmern und irritierend guter Laune. Auf dem neuen Album von Die Sterne kommen mehrere Dinge zusammen: Die Musik macht glücklich\, die Texte sind dermaßen treffende Kommentare zum Zustand unserer Zeit\, dass man sie sich irgendwohin tätowieren will\, und eine neue Band wächst über sich hinaus. \nDamit werden auf jeden Fall die wenigsten gerechnet haben\, dass Die Sterne 32 Jahre nach Gründung noch mal so einen Knaller bringen. Und das nicht im Sinn von Alterswerk. „Hallo Euphoria“ könnte auch als Debüt durchgehen\, so frisch\, leicht und relevant wie das Ding um die Ecke biegt. \nMusikalisch ist „Hallo Euphoria“ typisch Die Sterne\, aber weitergedacht und freigedreht. Es gibt den Funk\, die Licks und Riffs\, das sexy Eckige\, aber nun auch Streicherharmonien und so was Treibendes auf der Autobahn zwischen Köln und Düsseldorf – Krautpop\, Baby. Die Band lässt es konzentriert verspielt und oberlässig laufen\, mit Kraut und Funk und kurzen Schlenkern zur Bongo oder zum Schönklang. Der Sänger erzählt liebevoll und irgendwie verschmitzt davon\, wie es ist\, heute hier am Leben zu sein\, und das geht gut zusammen\, da will man mit. \nPräsentiert von: ByteFm\, taz\, Kaput.de \nEintritt:\n22.- Euro Vvk plus Gebühr\n26.- Euro Abendkasse\n16.- Euro Mitglieder \nDirekt vom Büro aus via Post versandte Karten (mit einer Bearbeitungsgebühr von 2\,50€) gibt es hier auf dieser Seite.
URL:https://www.club-manufaktur.de/event/die-sterne-d-2/
LOCATION:Manufaktur\, Saal\, Hammerschlag 8\, Schorndorf\, 73614\, Deutschland
CATEGORIES:Konzert
ATTACH;FMTTYPE=image/jpeg:https://www.club-manufaktur.de/wp-content/uploads/2022/04/die_sterne_by_brigitta_jahn.jpg
END:VEVENT
BEGIN:VEVENT
DTSTART;TZID=Europe/Berlin:20221119T203000
DTEND;TZID=Europe/Berlin:20221119T203000
DTSTAMP:20260419T221747
CREATED:20221018T080103Z
LAST-MODIFIED:20221018T080103Z
UID:10003799-1668889800-1668889800@www.club-manufaktur.de
SUMMARY:Was dein Herz dir sagt – Adieu\, ihr Idioten
DESCRIPTION:Eine gelungene Satire auf die moderne Welt mit einem Hauch von Bonnie & Clyde\, ein Road Movie steckt auch noch drin und eine Buddystory mit ein paar Slapstick-Elementen um drei vollkommen gegensätzliche Personen\, die das Schicksal zusammenbringt: die Friseurin Suze\, der IT-Nerd JB und der blinde Archivar Blin. Zu dritt machen sie sich auf die Suche nach Suzes verlorenem Sohn\, verfolgt von der Polizei und von dem Wissen\, dass sie eigentlich Versager sind.\nDie erfreulich durchgeknallte Tragikomödie ist vieles\, z. B. ziemlich anspruchsvoll\, aber eines ganz gewiss nicht: langweilig. Virginie Efira führt das brillante Darstellerensemble an\, Albert Dupontel als JB und Nicholas Marié als Blin sind ihre Partner in einem gagreichen Film voller Überraschungen\, mit prachtvoll coolen Dialogen und vielen wunderbar fiesen\, kleinen Details. Dafür gab es einen regelrechten Preisregen bei der César-Vergabe u. a. für Regie\, Drehbuch und den Film insgesamt.
URL:https://www.club-manufaktur.de/event/was-dein-herz-dir-sagt-adieu-ihr-idioten/2022-11-19/
LOCATION:Kino Kleine Fluchten\, Hammerschlag 8\, Schorndorf\, 73614\, Deutschland
CATEGORIES:Kino
ORGANIZER;CN="Kino Kleine Fluchten":MAILTO:info@manukino.de
END:VEVENT
BEGIN:VEVENT
DTSTART;TZID=Europe/Berlin:20221120T183000
DTEND;TZID=Europe/Berlin:20221120T183000
DTSTAMP:20260419T221747
CREATED:20221018T075456Z
LAST-MODIFIED:20221018T075456Z
UID:10003796-1668969000-1668969000@www.club-manufaktur.de
SUMMARY:Liebe\, D-Mark und Tod – Ask\, Mark ve Ölüm
DESCRIPTION:Ein sehr unterhaltsamer\, toll recherchierter Film mit einem bittersüßen Beigeschmack: Es geht um die vielfältige Musikkultur von türkischstämmigen Migranten in Deutschland\, die sich in den letzten 60 Jahren – und weitgehend unbeachtet von der deutschen Bevölkerung – entwickelt und ständig verändert hat.\nCem Kaya ist es gelungen\, für seinen sehr dichten und sehr musikalischen Film eine Unmenge von Musikerinnen und Musikern vor die Kamera zu holen und ihre Werke zu präsentieren. Vom Protestsong bis zum Schlager\, vom Chanson bis zum Hard Rock ist alles dabei – ein sehr sehenswertes Kaleidoskop\, das im besten Sinne des Wortes zum Nachdenken anregt.
URL:https://www.club-manufaktur.de/event/liebe-d-mark-und-tod-ask-mark-ve-oeluem/2022-11-20/
LOCATION:Kino Kleine Fluchten\, Hammerschlag 8\, Schorndorf\, 73614\, Deutschland
CATEGORIES:Kino
ORGANIZER;CN="Kino Kleine Fluchten":MAILTO:info@manukino.de
END:VEVENT
BEGIN:VEVENT
DTSTART;TZID=Europe/Berlin:20221120T203000
DTEND;TZID=Europe/Berlin:20221120T203000
DTSTAMP:20260419T221747
CREATED:20221018T080103Z
LAST-MODIFIED:20221018T080103Z
UID:10003800-1668976200-1668976200@www.club-manufaktur.de
SUMMARY:Was dein Herz dir sagt – Adieu\, ihr Idioten
DESCRIPTION:Eine gelungene Satire auf die moderne Welt mit einem Hauch von Bonnie & Clyde\, ein Road Movie steckt auch noch drin und eine Buddystory mit ein paar Slapstick-Elementen um drei vollkommen gegensätzliche Personen\, die das Schicksal zusammenbringt: die Friseurin Suze\, der IT-Nerd JB und der blinde Archivar Blin. Zu dritt machen sie sich auf die Suche nach Suzes verlorenem Sohn\, verfolgt von der Polizei und von dem Wissen\, dass sie eigentlich Versager sind.\nDie erfreulich durchgeknallte Tragikomödie ist vieles\, z. B. ziemlich anspruchsvoll\, aber eines ganz gewiss nicht: langweilig. Virginie Efira führt das brillante Darstellerensemble an\, Albert Dupontel als JB und Nicholas Marié als Blin sind ihre Partner in einem gagreichen Film voller Überraschungen\, mit prachtvoll coolen Dialogen und vielen wunderbar fiesen\, kleinen Details. Dafür gab es einen regelrechten Preisregen bei der César-Vergabe u. a. für Regie\, Drehbuch und den Film insgesamt.
URL:https://www.club-manufaktur.de/event/was-dein-herz-dir-sagt-adieu-ihr-idioten/2022-11-20/
LOCATION:Kino Kleine Fluchten\, Hammerschlag 8\, Schorndorf\, 73614\, Deutschland
CATEGORIES:Kino
ORGANIZER;CN="Kino Kleine Fluchten":MAILTO:info@manukino.de
END:VEVENT
END:VCALENDAR