BEGIN:VCALENDAR
VERSION:2.0
PRODID:-//Club Manufaktur e.V. aus Schorndorf - ECPv6.15.20//NONSGML v1.0//EN
CALSCALE:GREGORIAN
METHOD:PUBLISH
X-ORIGINAL-URL:https://www.club-manufaktur.de
X-WR-CALDESC:Veranstaltungen für Club Manufaktur e.V. aus Schorndorf
REFRESH-INTERVAL;VALUE=DURATION:PT1H
X-Robots-Tag:noindex
X-PUBLISHED-TTL:PT1H
BEGIN:VTIMEZONE
TZID:Europe/Berlin
BEGIN:DAYLIGHT
TZOFFSETFROM:+0100
TZOFFSETTO:+0200
TZNAME:CEST
DTSTART:20240331T010000
END:DAYLIGHT
BEGIN:STANDARD
TZOFFSETFROM:+0200
TZOFFSETTO:+0100
TZNAME:CET
DTSTART:20241027T010000
END:STANDARD
BEGIN:DAYLIGHT
TZOFFSETFROM:+0100
TZOFFSETTO:+0200
TZNAME:CEST
DTSTART:20250330T010000
END:DAYLIGHT
BEGIN:STANDARD
TZOFFSETFROM:+0200
TZOFFSETTO:+0100
TZNAME:CET
DTSTART:20251026T010000
END:STANDARD
BEGIN:DAYLIGHT
TZOFFSETFROM:+0100
TZOFFSETTO:+0200
TZNAME:CEST
DTSTART:20260329T010000
END:DAYLIGHT
BEGIN:STANDARD
TZOFFSETFROM:+0200
TZOFFSETTO:+0100
TZNAME:CET
DTSTART:20261025T010000
END:STANDARD
END:VTIMEZONE
BEGIN:VEVENT
DTSTART;TZID=Europe/Berlin:20251003T200000
DTEND;TZID=Europe/Berlin:20251003T200000
DTSTAMP:20260422T235721
CREATED:20250327T120013Z
LAST-MODIFIED:20250422T122522Z
UID:10005586-1759521600-1759521600@www.club-manufaktur.de
SUMMARY:LUKSAN WUNDER - Dr. Edeljoghurts Multimediapanoptikum 2
DESCRIPTION:LUKSAN WUNDER – Dr. Edeljoghurts Multimediapanoptikum 2 \nDas vielfach ausgezeichnete Humorkollektiv Luksan Wunder ist eine absolute Ausnahmeerscheinung in der Comedyszene. Sie bringen die Absurdität des Medienzeitalters so anders und so lustig auf die Bühne\, dass sie sich jeglichem Vergleich entziehen.  \nMan muss sie gesehen haben! \nIm Internet\, wo sie ursprünglich herkommen\, wurden ihre Videos über eine halbe Milliarde mal angeschaut\, trotzdem sind sie live NOCH besser. \nIhr neues Bühnenprogramm ist ein absolut irrwitziger Ritt durch\nunterschiedlichste Genres der Comedy: Livemusik\, Parodien\, Sketche und Satire\, garniert mit aufwändig produzierten Videos und einigen ihrer typischen Viralformate. \nÜberraschend\, kurzweilig und extrem lustig ist dieses Humor-Universum: Herzlich willkommen in „Dr. Edeljoghurts Multimediapanoptikum 2“! \nReferenzen:\nDeutscher Kleinkunstpreis 2023 / Kleinkunstpreis Baden-Württemberg 2020 / YouTube Creator Award Silver \nPressestimmen:\n„Mit anarchischem Metawitz und einer Mischung aus unterschiedlichsten satirischen Genres von Gaga bis Hintersinn ist das Humorkollektiv zurzeit einer der originellsten Acts.“\n3sat Festival \n„Ein Ensemble\, das mit präziser Beobachtung und großer künstlerischer Bandbreite die Alltagswelt und ihre popkulturellen Auswüchse zerschlägt\, um sie dann urkomisch wieder zusammenzusetzen.“ Jury Deutscher Kleinkunstpreis \nEintritt:\n28.- Euro Vvk plus Gebühr\n33.- Euro Abendkasse\n26.- Euro Mitglieder \nDirekt vom Büro aus via Post versandte Karten (mit einer Bearbeitungsgebühr von 3€ pro Bestellung) gibt es bis 14 Uhr auf unserer Seite. Falls wir die Tickets nicht mehr rechtzeitig per Post versenden können\, werden sie an der Abendkasse auf deinen Namen hinterlegt.
URL:https://www.club-manufaktur.de/event/luksan-wunder-dr-edeljoghurts-multimediapanoptikum-2/
LOCATION:Manufaktur\, Saal\, Hammerschlag 8\, Schorndorf\, 73614\, Deutschland
CATEGORIES:Kabarett,Ticket
ATTACH;FMTTYPE=image/jpeg:https://www.club-manufaktur.de/wp-content/uploads/2025/03/luksan_wunder_2025_1.jpg
END:VEVENT
BEGIN:VEVENT
DTSTART;TZID=Europe/Berlin:20251004T200000
DTEND;TZID=Europe/Berlin:20251004T213000
DTSTAMP:20260422T235721
CREATED:20250512T123957Z
LAST-MODIFIED:20251120T114321Z
UID:10005640-1759608000-1759613400@www.club-manufaktur.de
SUMMARY:WaveTanzen in der Manufaktur - Tanze deine Welle!
DESCRIPTION:WaveTanzen in der Manufaktur – Tanze deine Welle! \nWaveTanzen gibt dir die Möglichkeit\, den ganzen Körper intensiv zu bewegen und dabei emotionale und mentale Anspannung loszulassen.\nDu tanzt für dich und bewegst dich zur Musik fünf verschiedener Rhythmen. Die Musik nimmt dich auf eine Bewegungsreise mit\, bei der du deiner eigenen Verspieltheit\, Neugierde und Inspiration folgen kannst.\nZum Ankommen starten wir im gemeinsamen Anfangskreis. Die Musik beginnt ruhig\, baut sich dann mehr und mehr auf\, findet kraftvolle Höhepunkte und ebbt dann nach und nach wieder sanft ab. Die Kommunikation während des Tanzes in der Gruppe findet nonverbal statt. Im Anschluss an die Bewegung gibt es eine Verabschiedung im Abschlusskreis. \nKosten: Wir bitten um Spenden\nAnmeldung: einfach vorbeikommen! Alle sind willkommen!\nNicht vergessen: Bewegungsfreundliche Kleidung\, wir tanzen in Schläppchen\, Socken oder barfüßig.\nWo: Tanzwerkstatt / Kursraum\nVerantwortliche: Jörg Hielscher\, Claudia Rak-Oelschlegel
URL:https://www.club-manufaktur.de/event/wavetanzen-in-der-manufaktur-tanze-deine-welle-2/2025-10-04/
LOCATION:Kursraum
CATEGORIES:Workshop
ATTACH;FMTTYPE=image/jpeg:https://www.club-manufaktur.de/wp-content/uploads/2025/03/wave-foto.jpg
END:VEVENT
BEGIN:VEVENT
DTSTART;TZID=Europe/Berlin:20251004T203000
DTEND;TZID=Europe/Berlin:20251004T203000
DTSTAMP:20260422T235721
CREATED:20250608T103342Z
LAST-MODIFIED:20250923T155448Z
UID:10005612-1759609800-1759609800@www.club-manufaktur.de
SUMMARY:FÄLLT LEIDER AUS! - DAHL/DALEN/SØVIK (NO) - Jazz
DESCRIPTION:FÄLLT LEIDER AUS!\nDas Konzert wird auf den 13. Februar 2026 verschoben!\n \nHier geht es zum neuen Termin und Tickets! \nAmalie Dahl – Altsaxophon\nHenrik Sandstad Dalen – Kontrabass\nJomar Jeppsson Søvik – Schlagzeug \nDahl/Dalen/Søvik ist ein Improvisationstrio aus Oslo\, das mit Wurzeln in Free Jazz\, Noise und Avantgarde die moderne freie Improvisation pflegt. Inspiriert von Künstlern wie Anthony Braxton\, Mette Rasmussen und Ingebrigt Håker Flaten\, vereinen Amalie Dahl (u.a. Dafnie\, Trondheim Jazz Orchestra)\, Henrik Sandstad Dalen (Passe Planta\, Sex Magick Wizards) und Jomar Jeppsson Søvik (GIGAMY) ihre individuellen Stimmen zu einem lebendigen Klangbild. Alle drei sind feste Größen der Osloer Improszene.\nIhr Debütalbum „Fairytales for Daydreamers“ (Nice Things Records\, März 2023) dokumentiert den ersten gemeinsamen Live-Auftritt des Trios – eine mitreißende\, einstündige Reise voller feiner Zwischentöne\, intensiver Dialoge und emotionaler Tiefe\, die an langjährige Weggefährten erinnert. Das im Januar 2024 erschienene zweite Album „Live in Europe“ wurde ebenso begeistert aufgenommen und festigt ihren Ruf als herausragende Vertreter der freien Improvisation. \nPressezitate:\n„Live in Europa gleicht einer groß angelegten Camouflage\, vieles ist nicht so\, wie es scheint. Es werden Wendungen genommen\, die Zuhörer*innen auf falsche Fährten gelockt. Jedenfalls haben wir es hier mit Musikern zu tun\, die man im Auge behalten muss. Absolut spannend.“ The Freejazz Collective\, New York \n„Während der beiden langen Sets bleibt die Integrität der Aussage erhalten\, die das Markenzeichen guter Improvisationsmusik ist. Eine hervorragende Veröffentlichung\, und vor allem und überraschenderweise möchte ich nach anderthalb Stunden Zuhören so schnell wie möglich die Fortsetzung hören. Ilya Belorukov\, Jazzist \nEintritt:\n22.- Euro Vvk plus Gebühr\n26.- Euro Abendkasse\n21.- Euro Mitglieder \nDirekt vom Büro aus via Post versandte Karten (mit einer Bearbeitungsgebühr von 3€ pro Bestellung) gibt es bis 14 Uhr auf unserer Seite. Falls wir die Tickets nicht mehr rechtzeitig per Post versenden können\, werden sie an der Abendkasse auf deinen Namen hinterlegt.
URL:https://www.club-manufaktur.de/event/dahl-dalen-sovik-no-jazz/
LOCATION:Manufaktur\, Saal\, Hammerschlag 8\, Schorndorf\, 73614\, Deutschland
CATEGORIES:Jazz,Konzert,Ticket
ATTACH;FMTTYPE=image/jpeg:https://www.club-manufaktur.de/wp-content/uploads/2025/06/amalie_dahl_hendrik_sandstad_dalen_jomar_jeppson_sovik_by_ferdinand_schwarz-scaled.jpeg
END:VEVENT
BEGIN:VEVENT
DTSTART;TZID=Europe/Berlin:20251008T203000
DTEND;TZID=Europe/Berlin:20251008T203000
DTSTAMP:20260422T235721
CREATED:20250730T100002Z
LAST-MODIFIED:20250818T210942Z
UID:10005636-1759955400-1759955400@www.club-manufaktur.de
SUMMARY:FALSE LEFTY (A/UK)
DESCRIPTION:Veva (A) an den Drums und Thomas (UK) an der Gitarre. Reduziert bis aufs Maximum – was auf den ersten Blick wie ein abgedroschener Werbeslogan anmutet\, ist unser Credo. Drei Trommeln und eine Gitarre mit nur drei Saiten formen unseren Sound. So sehr\, wie das Setup durchaus Erinnerungen an die White Stripes wecken kann\, so wenig tut es die Musik. False Lefty’s einzigartiger Stil bewegt sich zwischen Alternative Rock\, Indie und Post-Punk\, mit starkem rhythmischem Schwerpunkt und gekonntem Songwriting. Manchmal sogar fragil und beinahe zerbrechlich\, aber immer kraftvoll\, rhythmisch und unverwechselbar. Nicht zuletzt durch die Musik schafft die Band eine einzigartige Atmosphäre um sich\, die ihr Publikum in ihren Bann zieht. Sie stehen auch für eine neue Ära der Punkkultur\, denn man kommt nicht drumherum sich zu fragen\, was hinter dem ungewöhnlichen Bandnamen steckt. Umerzogene Linkshänder oder falsche Linke? False Lefty steht für klare Haltung und Working-class-Ethos: mehr Schulterschluss undweniger Wir-gegen-die-Mentalität. Oder anders gesagt: «l would rather be a false lefty\, than no lefty at all». \nEintritt:\n23.- Euro Vvk plus Gebühr\n28.- Euro Abendkasse\n22.- Euro Mitglieder \nDirekt vom Büro aus via Post versandte Karten (mit einer Bearbeitungsgebühr von 3€ pro Bestellung) gibt es bis 14 Uhr auf unserer Seite. Falls wir die Tickets nicht mehr rechtzeitig per Post versenden können\, werden sie an der Abendkasse auf deinen Namen hinterlegt.
URL:https://www.club-manufaktur.de/event/false-lefty-d/
LOCATION:Manufaktur\, Saal\, Hammerschlag 8\, Schorndorf\, 73614\, Deutschland
CATEGORIES:Konzert,Ticket
ATTACH;FMTTYPE=image/jpeg:https://www.club-manufaktur.de/wp-content/uploads/2025/07/false_lefty_pm.jpg
END:VEVENT
BEGIN:VEVENT
DTSTART;TZID=Europe/Berlin:20251011T203000
DTEND;TZID=Europe/Berlin:20251011T203000
DTSTAMP:20260422T235722
CREATED:20250401T155355Z
LAST-MODIFIED:20250512T114707Z
UID:10005591-1760214600-1760214600@www.club-manufaktur.de
SUMMARY:KEN VANDERMARK’S EDITION REDUX (USA)
DESCRIPTION:Ken Vandermark — Saxophon und Klarinette\nErez Dessel: Piano\, Synthesizer\nLily Finnegan: Schlagzeug\nBeth McDonald: Tuba und Elektronik \nMan glaubt es kaum\, aber die einstigen jungen Wilden des Free Jazz (z.B. Mats Gustafsson\, Ken Vandermark\, Myra Melford oder Tim Berne) sind auch schon über 60. Aber das ist egal\, denn jetzt schlüpfen sie gerne in die Rolle der Förderer junger Musikerinnen und Musiker. In dieser Sparte ist Ken Vandermarks Projekt Edition Redux\, das die junge Chicago-Szene in den Fokus stellt\, sicherlich das ungewöhnlichste und spannendste. Schon die Besetzung ist anders: Saxophon/Klarinette\, Tuba\, Schlagzeug\, (E-)Piano und Elektronik. Und die Musik ist tatsächlich frisch und neu. Wenn beispielsweise der ungewöhnliche Klang des Fender Rhodes-ähnlichen Keyboards die Jazz-Seele nicht berührt\, dann sollten man vielleicht die Funktionsfähigkeit des gesamten Nervensystems überprüfen\, denn eigentlich sollte es bei jedem herrlich kribbeln. Fusion\, triefende Coolness\, irre Grooves und schrägste Modularität greifen hier tatsächlich ineinander. Wer glaubt\, Vandermarks Musik schon in allen Facetten zu kennen\, wird hier sehr überrascht sein. Live eilt der Band ein Bombenruf voraus. \nEintritt:\n22.- Euro Vvk plus Gebühr\n26.- Euro Abendkasse\n21.- Euro Mitglieder \nDirekt vom Büro aus via Post versandte Karten (mit einer Bearbeitungsgebühr von 3€ pro Bestellung) gibt es bis 14 Uhr auf unserer Seite. Falls wir die Tickets nicht mehr rechtzeitig per Post versenden können\, werden sie an der Abendkasse auf deinen Namen hinterlegt.
URL:https://www.club-manufaktur.de/event/ken-vandermarks-edition-redux-usa/
LOCATION:Manufaktur\, Saal\, Hammerschlag 8\, Schorndorf\, 73614\, Deutschland
CATEGORIES:Jazz,Konzert,Ticket
ATTACH;FMTTYPE=image/jpeg:https://www.club-manufaktur.de/wp-content/uploads/2025/04/ken_vandermark_edition_redux_by_hunter_diamond.jpg
END:VEVENT
BEGIN:VEVENT
DTSTART;TZID=Europe/Berlin:20251015T180000
DTEND;TZID=Europe/Berlin:20251015T220000
DTSTAMP:20260422T235722
CREATED:20250912T150657Z
LAST-MODIFIED:20250912T150951Z
UID:10005662-1760551200-1760565600@www.club-manufaktur.de
SUMMARY:POP-UP: MANUKNEIPE GOES VEGAN
DESCRIPTION:POP-UP: MANUKNEIPE GOES VEGAN \nPflanzlich. Kreativ. Unkompliziert. \nEinmal im Monat wird die Manukneipe – immer mittwochs – zum veganen Pop-up. \nKeine Regeln\, kein Dogma – einfach gutes Essen. \nWeitere Termine: Homepage & Socials \nClub Manufaktur Kneipe\nHammerschlag 8 · 73614 Schorndorf\n+49 179 4840600\nkneipe@club-manufaktur.de \nVeggie vibes only.\n#manukneipegoesvegan #popupplantpower
URL:https://www.club-manufaktur.de/event/pop-up-manukneipe-goes-vegan-4/
LOCATION:Kneipe
CATEGORIES:Kneipe
ATTACH;FMTTYPE=image/png:https://www.club-manufaktur.de/wp-content/uploads/2025/09/file_00000000282c61f7ae048b81841955fa.png
ORGANIZER;CN="Club Kneipe":MAILTO:kneipe@club-manufaktur.de
END:VEVENT
BEGIN:VEVENT
DTSTART;TZID=Europe/Berlin:20251017T203000
DTEND;TZID=Europe/Berlin:20251017T203000
DTSTAMP:20260422T235722
CREATED:20250718T080014Z
LAST-MODIFIED:20251104T105649Z
UID:10005634-1760733000-1760733000@www.club-manufaktur.de
SUMMARY:XIXA (USA)
DESCRIPTION:Auf ihrem neuesten Album lassen XIXA die sonnenverbrannte Wüste hinter sich und nehmen die Hörer*innen mit auf eine Reise durch die Unterwelt. Eintauchend in die Tiefe des Folklore-Reichtums\, entfalten Brian López und Gabriel Sullivan – die sich Songwriting\, Leadgesang und Leadgitarren bei XIXA teilen – ihren mystischen\, psychedelischen Rock weiter und greifen verstärkt auf ihre lateinamerikanischen Einflüsse zurück\, um eine musikalische und lyrische Erzählung für XOLO zu schaffen: ein Album\, das eine mythische Reise beschreibt und deren Bedeutung für die Gegenwart auslotet. \nXOLO (im Band- wie auch im Albumtitel wird das „x“ wie ein „ch“ ausgesprochen) bezieht sich auf die mexikanische Hunderasse Xoloitzcuintli\, die in der Maya- und Aztekenkultur als heilig galt – als Begleiter in die Unterwelt Mictlán. \nDas Album erzählt lose die Geschichte eines jungen Mädchens namens Arcoiris\, das durch alle neun Ebenen von Mictlán reist\, geführt von ihrem heiligen Beschützer El Xolo. Musikalisch wandeln sich Stimmungen und Stile im Einklang mit dieser Reise. Noch immer von dunkler Psychedelia und Cumbia getragen\, bringt XIXA – bestehend aus López\, Sullivan\, Schlagzeuger Winston Watson und Jason Urman an den Keyboards – dynamischere Arrangements ein\, erweitern ihre musikalische Sprache und formen das Album zu klar abgegrenzten Kapiteln. \nPressestimmen:\n“a haunting mesmerising stew” 8/10 – Uncut (UK) \n“a rewarding experience” 4/5 – Songwriting Magazine (UK) \n“Ein echtes Produkt des Schmelztiegels.“ **** Rolling Stone (F) \nPräsentiert von: ByteFM \nEintritt:\n26.- Euro Vvk plus Gebühr\n31.- Euro Abendkasse\n25.- Euro Mitglieder \nDirekt vom Büro aus via Post versandte Karten (mit einer Bearbeitungsgebühr von 3€ pro Bestellung) gibt es bis 14 Uhr auf unserer Seite. Falls wir die Tickets nicht mehr rechtzeitig per Post versenden können\, werden sie an der Abendkasse auf deinen Namen hinterlegt.
URL:https://www.club-manufaktur.de/event/xixa-usa-3/
LOCATION:Manufaktur\, Saal\, Hammerschlag 8\, Schorndorf\, 73614\, Deutschland
CATEGORIES:Konzert,Ticket
ATTACH;FMTTYPE=image/jpeg:https://www.club-manufaktur.de/wp-content/uploads/2025/07/xixa_by_charlez_malasana_pm.jpeg
END:VEVENT
BEGIN:VEVENT
DTSTART;TZID=Europe/Berlin:20251018T220000
DTEND;TZID=Europe/Berlin:20251018T220000
DTSTAMP:20260422T235722
CREATED:20250407T111303Z
LAST-MODIFIED:20251022T141141Z
UID:10005648-1760824800-1760824800@www.club-manufaktur.de
SUMMARY:80er-90er-2000er-2010er Party feat. DJ Major Tom
DESCRIPTION:Tanzflächenglück mit den Hymnen aus 3 Jahrzehnten. Die Zeitreise in die Musikepoche beinhaltet die prägendsten und tanzbarsten Songs dieser Zeit. Lasst euch mittragen\, verbringt mit uns den Abend im Musikhimmel der 80er\, 90er und 2000er! \nEinlass ab 22 Uhr!\nEinlass ab 18 Jahren!
URL:https://www.club-manufaktur.de/event/80er-90er-2000er-party-feat-dj-major-tom-16/2025-10-18/
LOCATION:Manufaktur\, Saal\, Hammerschlag 8\, Schorndorf\, 73614\, Deutschland
CATEGORIES:Party
ATTACH;FMTTYPE=image/jpeg:https://www.club-manufaktur.de/wp-content/uploads/2021/03/tmp_b0e16da779751b96e05b93cf2e1ee9c4_Disco-zjkodv.tmp_.jpg
END:VEVENT
BEGIN:VEVENT
DTSTART;TZID=Europe/Berlin:20251021T193000
DTEND;TZID=Europe/Berlin:20251021T193000
DTSTAMP:20260422T235722
CREATED:20250901T125108Z
LAST-MODIFIED:20250901T125108Z
UID:10005646-1761075000-1761075000@www.club-manufaktur.de
SUMMARY:Dr. Kerem Schamberger (medico international) Vortrag & Diskussion Europa macht dicht – mit tödlichen Folgen – und Deutschland ist mitverantwortlich?
DESCRIPTION:Mit der Reform des sogenannten Gemeinsamen Europäischen Asylsystems (GEAS) wird das Recht auf Asyl de facto abgeschafft. Geflüchtete\, die es schaffen\, die immer weiter militarisierten Außengrenzen der EU zu überwinden und europäischen Boden zu betreten\, können nun über Monate hinweg in gefängnisähnlichen Lagern inhaftiert werden. Wer aus einem Land kommt\, das als „sicherer Herkunftsstaat“ eingestuft wird oder über einen vermeintlich „sicheren Drittstaat“ einreist\, hat kaum mehr Chancen\, ein individuelles Recht auf Asyl durchzusetzen.\nJedoch bedeutet dies nicht\, dass Menschen nicht mehr fliehen werden\, sondern vielmehr verschlechtert es ihre Lage\, macht die Fluchtwege noch gefährlicher und führt zu massenhaftem Sterben im Mittelmeer\, in der Wüste Sahara und auf anderen Fluchtwegen. \nIn der Diskussion wollen wir eine Idee entwickeln\, wie eine humane Migrations- und Flüchtlingspolitik aussehen kann.\nDr. Kerem Schamberger berichtet als Referent für Flucht und Migration bei medico international von den Außengrenzen Europas\, von Gewalt und Abschottung\, aber auch von Solidarität und Widerstand. Er war selbst an vielen dieser Orte und kennt die Verhältnisse aus erster Hand. Medico international ist eine Hilfs- und Menschenrechtsorganisation\, die sich weltweit für solidarische Hilfe und globale Gerechtigkeit einsetzt. \nEintritt frei\, der Hut geht rum. \nVeranstalter\nForum Politik in der Manufaktur – VVN-BdA Rems-Murr – Ökumenische Friedensgruppe der Stadtkirchengemeinde Schorndorf – Schorndorf Bündnis gegen Rassismus und Fremdenfeindlichkeit – Friedensinitiative Schorndorf
URL:https://www.club-manufaktur.de/event/dr-kerem-schamberger-medico-international-vortrag-diskussion-europa-macht-dicht-mit-toedlichen-folgen-und-deutschland-ist-mitverantwortlich/
LOCATION:Manufaktur\, Saal\, Hammerschlag 8\, Schorndorf\, 73614\, Deutschland
CATEGORIES:Politik
ORGANIZER;CN="Forum Politik in der Manufaktur":MAILTO:ak-politik@club-manufaktur.de
END:VEVENT
BEGIN:VEVENT
DTSTART;TZID=Europe/Berlin:20251024T200000
DTEND;TZID=Europe/Berlin:20251024T200000
DTSTAMP:20260422T235722
CREATED:20241212T100050Z
LAST-MODIFIED:20251020T192620Z
UID:10005551-1761336000-1761336000@www.club-manufaktur.de
SUMMARY:AUSVERKAUFT! - KAFVKA (D) - Support: SCHWESTA EBRA 20.00 UHR!
DESCRIPTION:EINLASS: 19 Uhr\nSupport: Schwesta Ebra 20 Uhr \nEs gibt eine Außengastronomie mit Sachen vom Grill und veganem Curry! \nKAFVKA ist eine Band aus Berlin\, die seit vielen Jahren politisch aktiv ist und sich für soziale Gerechtigkeit und gegen Rechts einsetzt. Der Untergrund-Hit „Alle hassen Nazis“ erreichte bis dato insgesamt knapp 10 Millionen Streams und ist von keiner linken Demo mehr wegzudenken. Ziel von KAVFKA ist es\, die Botschaft einer besseren Welt durch Musik zu verbreiten und Menschen zum Nachdenken und Handeln zu inspirieren. Das aktuelle Album „Kaputt“ erschien am 28.06.24. \nEintritt:\n24.- Euro Vvk plus Gebühr\n29.- Abendkasse\n23.- Mitglieder \nDirekt vom Büro aus via Post versandte Karten (mit einer Bearbeitungsgebühr von 3€ pro Bestellung) gibt es bis 14 Uhr auf unserer Seite. Falls wir die Tickets nicht mehr rechtzeitig per Post versenden können\, werden sie an der Abendkasse auf deinen Namen hinterlegt. \n\n\n\n\n\n\nAwareness Infos:\n \n 
URL:https://www.club-manufaktur.de/event/kafvka-d/
LOCATION:Manufaktur\, Saal\, Hammerschlag 8\, Schorndorf\, 73614\, Deutschland
CATEGORIES:Konzert,Ticket
ATTACH;FMTTYPE=image/jpeg:https://www.club-manufaktur.de/wp-content/uploads/2024/12/kafvka_thomas_tiefseetaucher-scaled.jpeg
END:VEVENT
BEGIN:VEVENT
DTSTART;TZID=Europe/Berlin:20251025T103000
DTEND;TZID=Europe/Berlin:20251025T133000
DTSTAMP:20260422T235722
CREATED:20250910T121240Z
LAST-MODIFIED:20250910T144147Z
UID:10005658-1761388200-1761399000@www.club-manufaktur.de
SUMMARY:Theaterworkshop: Rollenklarheit ODER er liebt sie... er liebt sie nicht... vielleicht?
DESCRIPTION:Theaterworkshop: Rollenklarheit ODER er liebt sie… er liebt sie nicht… vielleicht?\nTheatertexte geben oft wenig Informationen über ihre Figuren preis. Welche Farbe mögen sie am liebsten und warum? Wie tickt die Figur eigentlich und was treibt sie an? Auch das Setting einer Theaterszene bleibt häufig diffus – wer redet wirklich mit wem und mit wem nicht?\nDer Workshop zeigt\, wie aus einer Rolle eine Figur mit Geschichte\, Tiefe und einer klaren Haltung wird. Und wie aus ein paar Sätzen auf dem Papier eine stimmige\, runde und interessante Szene auf der Bühne entstehen kann. \nTermine: 25.10.2025 und 13.12.2025\n(Die Termine sind einzeln und im Paket buchbar. Kosten für den Einzeltermin 20€\, für den Doppeltermin fallen 35\,-€ an). Pro Termin dauert der Workshop 3 Stunden mit Pause. Beginn: 10:30 Uhr. Ort: Seminarraum Manufaktur Schorndorf. Max. Teilnehmerzahl: 12\nBitte Sportschuhe/-schläppchen und Getränk mitbringen.\nFragen und Anmeldungen an Veronika Heinrich unter stayeasy@gmx.de.
URL:https://www.club-manufaktur.de/event/theaterworkshop-rollenklarheit-oder-er-liebt-sie-er-liebt-sie-nicht-vielleicht/2025-10-25/
LOCATION:Kursraum
CATEGORIES:Workshop
ATTACH;FMTTYPE=image/jpeg:https://www.club-manufaktur.de/wp-content/uploads/2019/03/teatro-zanni-logo2.jpg
END:VEVENT
BEGIN:VEVENT
DTSTART;TZID=Europe/Berlin:20251025T203000
DTEND;TZID=Europe/Berlin:20251025T203000
DTSTAMP:20260422T235722
CREATED:20250528T115619Z
LAST-MODIFIED:20251021T205725Z
UID:10005611-1761424200-1761424200@www.club-manufaktur.de
SUMMARY:FÄLLT LEIDER AUS! - GHOST DUBS (D) + MT GEMINI (BE)
DESCRIPTION:Leider muss das Konzert mit GHOST DUBS & MT GEMINI ausfallen. Tickets können zurückgegeben werden. \nGhost Dubs ist das Projekt von Michael Fiedler (alias Jah Schulz) und steht für extrem minimalistischen\, düsteren Dub-Techno\, der die Grenzen zwischen Dub\, Techno und Ambient verschwimmen lässt. Die Musik zeichnet sich durch tiefe\, wuchtige Bässe\, spärlich eingesetzte Sounds und eine dichte\, oft geisterhafte Atmosphäre aus – geprägt von Knistern\, Rauschen und einem dumpfen\, „unterwasserartigen“ Klangbild.\nGhost Dubs destilliert die Essenz aus 50 Jahren Bassmusik zu einem hypnotischen\, fast abstrakten Sound\, bei dem der klassische Dub-Offbeat stets präsent bleibt\, aber in ein experimentelles\, maschinelles Klanguniversum überführt wird. Die Tracks sind meist langsam\, repetitiv und laden zum Eintauchen ein – ein „dunkler safe place für mörderisch tiefe Bässe“. Kurz gesagt: Ghost Dubs steht für radikal reduzierten\, atmosphärisch-dichten Dub-Techno\, der Dub-Tradition mit moderner\, experimenteller Soundästhetik verbindet. \nPressestimmen:\n„If David Lynch had ever been driven to dub\, it might well have sounded like this….an early\ncontender for best of the year“ – The Wire Magazine \n“distills ambient dub into a wispy\, wraithlike form … Where Ghost Dubs stands out is in the\nintensity of his productions. Lots of people have tried their hand at this tradition\, but few have\nachieved the heaviness\, or the strangeness\, of Ghost Dubs’ best work.“ – Pitchfork \n„I have to admit that “Damaged” is something like the essence of Dub embodied. The distillation\nof 50 years of bass music.“ – DubBlog.de \n \nMT Gemini ist Yannick Francks Avant-Dub-Projekt. Er macht experimentelle Musik\, die frühe Ska-\, Reggae- und Rocksteady-Einflüsse mit avantgardistischen\, elektroakustischen Techniken verbindet. Das Wire Magazine kürte sein Debütalbum zu einer der „10 Platten des Jahres“ in der Dub-Kategorie\, während Brainwashed es als „transformatorische Zauberei\, eine zutiefst lysergische Reise\, die Lichtjahre von ihrer ursprünglichen Form entfernt ist“ bezeichnete. \nEintritt:\n14.- Euro Vvk plus Gebühr\n18.- Euro Abendkasse\n13.- Euro Mitglieder \nDirekt vom Büro aus via Post versandte Karten (mit einer Bearbeitungsgebühr von 3€ pro Bestellung) gibt es bis 14 Uhr auf unserer Seite. Falls wir die Tickets nicht mehr rechtzeitig per Post versenden können\, werden sie an der Abendkasse auf deinen Namen hinterlegt.
URL:https://www.club-manufaktur.de/event/ghost-dubs-d-mt-gemini-be/
LOCATION:Manufaktur\, Saal\, Hammerschlag 8\, Schorndorf\, 73614\, Deutschland
CATEGORIES:Konzert,Ticket
ATTACH;FMTTYPE=image/jpeg:https://www.club-manufaktur.de/wp-content/uploads/2025/05/Unknown-scaled.jpeg
END:VEVENT
BEGIN:VEVENT
DTSTART;TZID=Europe/Berlin:20251029T203000
DTEND;TZID=Europe/Berlin:20251029T203000
DTSTAMP:20260422T235723
CREATED:20250225T090056Z
LAST-MODIFIED:20251028T195355Z
UID:10005570-1761769800-1761769800@www.club-manufaktur.de
SUMMARY:LEFTOVERS (A) - Support: SEX IM DUNKELN (D)
DESCRIPTION:Die Wiener Band Leftovers macht Musik für die Zukunft mit den Mitteln der Vergangenheit und einem untrüglichen Gespür für die Zumutungen der Gegenwart. Es mag für manche nicht besonders zeitgemäß klingen\, aber es ist nun an der Zeit\, an die gewaltige Kraft der Stromgitarre zu erinnern. An die Schönheit und den Zauber\, die in dem romantischen Konzept von einer Gruppe aus Freundinnen und Freunden liegen\, die zusammen die Welt aus den Angeln heben. \nEintritt:\n26.- Euro Vvk plus Gebühr\n31.- Euro Abendkasse\n25.- Euro Mitglieder \nDirekt vom Büro aus via Post versandte Karten (mit einer Bearbeitungsgebühr von 3€ pro Bestellung) gibt es bis 14 Uhr auf unserer Seite. Falls wir die Tickets nicht mehr rechtzeitig per Post versenden können\, werden sie an der Abendkasse auf deinen Namen hinterlegt.
URL:https://www.club-manufaktur.de/event/leftovers-a/
LOCATION:Manufaktur\, Saal\, Hammerschlag 8\, Schorndorf\, 73614\, Deutschland
CATEGORIES:Konzert,Ticket
ATTACH;FMTTYPE=image/jpeg:https://www.club-manufaktur.de/wp-content/uploads/2025/02/leftovers_by_anna_francesca_pm.jpeg
END:VEVENT
BEGIN:VEVENT
DTSTART;TZID=Europe/Berlin:20251031T203000
DTEND;TZID=Europe/Berlin:20251031T203000
DTSTAMP:20260422T235723
CREATED:20250402T130009Z
LAST-MODIFIED:20251104T105648Z
UID:10005589-1761942600-1761942600@www.club-manufaktur.de
SUMMARY:HERMAN DUNE (F) - Odysseus-Tour 2025
DESCRIPTION:Herman Dune\, der kalifornischste aller französischen Songwriter und eine prägende Figur des Anti-Folk\, präsentiert „Odysseús“\, eine musikalische Reise durch sein turbulentes Leben. Das Album erschien am 13. Juni 2025 bei Santa Cruz Records. Im Herbst startet er eine heroische Solotournee durch Europa und Großbritannien. \nHerman Dune wurde Ende der 1990er Jahre gegründet und ist das Projekt des französisch-schwedischen Künstlers David Ivar. David Ivar\, geboren und aufgewachsen in Paris\, schöpfte aus Folk-Einflüssen (Bob Dylan\, Leonard Cohen)\, Country (Townes Van Zandt\, John Prine) und Indie-Folk (Elliot Smith\, Lucinda Williams\, Silver Jews) und musste sich seine eigene Szene schaffen\, um sich auszudrücken – zu einer Zeit\, als es als absurd galt\, auf Pariser Bühnen mit einer Akustikgitarre auf Englisch zu singen. \nSeit 2015 lebt Herman Dune mit seiner Frau und Kollegin Mayon und ihren drei schwarzen Katzen in San Pedro\, dem Hafenviertel von Los Angeles – einem Mekka des kalifornischen Punkrocks (Minute Men\, Black Flag). Von seinem kalifornischen Bungalow aus betreibt er sein eigenes Label (Santa Cruz Records)\, hat sechs von insgesamt fünfzehn Alben veröffentlicht. \nPräsentiert von Muiskblog\, ByteFM und Rolling Stone \nEintritt:\n25.- Euro Vvk plus Gebühr\n30.- Euro Abendkasse\n24.- Euro Mitglieder \nDirekt vom Büro aus via Post versandte Karten (mit einer Bearbeitungsgebühr von 3€ pro Bestellung) gibt es bis 14 Uhr auf unserer Seite. Falls wir die Tickets nicht mehr rechtzeitig per Post versenden können\, werden sie an der Abendkasse auf deinen Namen hinterlegt.
URL:https://www.club-manufaktur.de/event/herman-dune-f/
LOCATION:Manufaktur\, Saal\, Hammerschlag 8\, Schorndorf\, 73614\, Deutschland
CATEGORIES:Konzert,Ticket
ATTACH;FMTTYPE=image/jpeg:https://www.club-manufaktur.de/wp-content/uploads/2025/04/herman_dune_bridge-scaled.jpeg
END:VEVENT
END:VCALENDAR