BEGIN:VCALENDAR
VERSION:2.0
PRODID:-//Club Manufaktur e.V. aus Schorndorf - ECPv6.15.20//NONSGML v1.0//EN
CALSCALE:GREGORIAN
METHOD:PUBLISH
X-WR-CALNAME:Club Manufaktur e.V. aus Schorndorf
X-ORIGINAL-URL:https://www.club-manufaktur.de
X-WR-CALDESC:Veranstaltungen für Club Manufaktur e.V. aus Schorndorf
REFRESH-INTERVAL;VALUE=DURATION:PT1H
X-Robots-Tag:noindex
X-PUBLISHED-TTL:PT1H
BEGIN:VTIMEZONE
TZID:Europe/Berlin
BEGIN:DAYLIGHT
TZOFFSETFROM:+0100
TZOFFSETTO:+0200
TZNAME:CEST
DTSTART:20240331T010000
END:DAYLIGHT
BEGIN:STANDARD
TZOFFSETFROM:+0200
TZOFFSETTO:+0100
TZNAME:CET
DTSTART:20241027T010000
END:STANDARD
BEGIN:DAYLIGHT
TZOFFSETFROM:+0100
TZOFFSETTO:+0200
TZNAME:CEST
DTSTART:20250330T010000
END:DAYLIGHT
BEGIN:STANDARD
TZOFFSETFROM:+0200
TZOFFSETTO:+0100
TZNAME:CET
DTSTART:20251026T010000
END:STANDARD
BEGIN:DAYLIGHT
TZOFFSETFROM:+0100
TZOFFSETTO:+0200
TZNAME:CEST
DTSTART:20260329T010000
END:DAYLIGHT
BEGIN:STANDARD
TZOFFSETFROM:+0200
TZOFFSETTO:+0100
TZNAME:CET
DTSTART:20261025T010000
END:STANDARD
END:VTIMEZONE
BEGIN:VEVENT
DTSTART;TZID=Europe/Berlin:20250905T203000
DTEND;TZID=Europe/Berlin:20250905T203000
DTSTAMP:20260420T140445
CREATED:20250314T161719Z
LAST-MODIFIED:20250903T153830Z
UID:10005580-1757104200-1757104200@www.club-manufaktur.de
SUMMARY:DIE HOCHSTAPLER (F/I/D) - Jazz
DESCRIPTION:Pierre Borel – Saxophon\nAntonio Borghini – Kontrabass\nLouis Laurain – Trompete\nHannes Lingens – Schlagzeug \nSeit 2011 arbeiten Pierre Borel\, Louis Laurain\, Antonio Borghini und Hannes Lingens als Die Hochstapler zusammen. Die kollektive und egalitäre Arbeitsweise des Quartetts spiegelt sich in einer Spielfreude wieder\, die sich vom ersten Moment an auf das Publikum überträgt. Die gemeinsam komponierten Stücke werden live neu zusammengesetzt\, Konventionen neu ausgehandelt und Verabredungen auf den Prüfstand gestellt. Bedingungslose Experimentierfreude ist dabei ebenso Teil des Konzepts wie augenzwinkernde Bezugnahme auf die Jazzgeschichte. \nFür ihr neues Programm haben Die Hochstapler sich der als „Monk’s Advice“ kursierenden von Steve Lacy notierten Zitate Thelonious Monks angenommen. Aufforderungen wie„Let’s lift the bandstand!“\, „You got to dig it to dig it\, you dig?“ und„Always know“ werden dabei wörtlich genommen\, metaphorisch entschlüsselt und auf ihre kompositorische Form untersucht. Die so entstehende Spielvorlage ermöglicht\, einem flexiblen Regelwerk gleich\, immer neue Ausgestaltungen. Die Auseinandersetzung mit Musik und Persönlichkeit Thelonious Monks wirkt auf den Sound der Hochstapler und umgekehrt. Es entsteht eine Musik\, die die Tradition nicht leugnet\, sondern als Geschichte des Experimentellen deutet. \nDie Hochstapler spielten unter anderem bei den Festivals Moers\, Météo\, Jazzfest Berlin und auf den Donaueschinger Musiktagen. Ihre Musik ist auf fünf Alben dokumentiert. \nPeter Margasak schrieb im amerikanischen Jazz-Magazin „Downbeat“ über das Quartett: „Nur wenige Bands haben es geschafft\, so viel Vitalität und Erfindungsreichtum in den Bausteinen der Improvisation zu finden.“ \nEintritt:\n22.- Euro Vvk plus Gebühr\n26.- Euro Abendkasse\n21.- Euro Mitglieder \nDirekt vom Büro aus via Post versandte Karten (mit einer Bearbeitungsgebühr von 3€ pro Bestellung) gibt es bis 14 Uhr auf unserer Seite. Falls wir die Tickets nicht mehr rechtzeitig per Post versenden können\, werden sie an der Abendkasse auf deinen Namen hinterlegt. \n\nPortrait: Musikerkollektiv „Die Hochstapler“ von Julia Neupert (SWR Kultur)
URL:https://www.club-manufaktur.de/event/die-hochstapler-f-i-d-jazz/
LOCATION:Manufaktur\, Saal\, Hammerschlag 8\, Schorndorf\, 73614\, Deutschland
CATEGORIES:Jazz,Konzert,Ticket
ATTACH;FMTTYPE=image/jpeg:https://www.club-manufaktur.de/wp-content/uploads/2025/03/die_hochstapler_by_lea-lanoe.jpeg
END:VEVENT
BEGIN:VEVENT
DTSTART;TZID=Europe/Berlin:20250910T180000
DTEND;TZID=Europe/Berlin:20250910T220000
DTSTAMP:20260420T140445
CREATED:20250806T144402Z
LAST-MODIFIED:20250806T144402Z
UID:10005643-1757527200-1757541600@www.club-manufaktur.de
SUMMARY:POP-UP: MANUKNEIPE GOES VEGAN
DESCRIPTION:POP-UP: MANUKNEIPE GOES VEGAN \nPflanzlich. Kreativ. Unkompliziert. \nEinmal im Monat wird die Manukneipe – immer mittwochs – zum veganen Pop-up. \nKeine Regeln\, kein Dogma – einfach gutes Essen. \nWeitere Termine: Homepage & Socials \nClub Manufaktur Kneipe\nHammerschlag 8 · 73614 Schorndorf\n+49 179 4840600\nkneipe@club-manufaktur.de \nVeggie vibes only.\n#manukneipegoesvegan #popupplantpower
URL:https://www.club-manufaktur.de/event/pop-up-manukneipe-goes-vegan-3/
LOCATION:Kneipe
CATEGORIES:Kneipe
ATTACH;FMTTYPE=image/jpeg:https://www.club-manufaktur.de/wp-content/uploads/2021/03/club-kneipe_sonntagessen-2015_16-1-bbTmfn.tmp_.jpg
ORGANIZER;CN="Club Kneipe":MAILTO:kneipe@club-manufaktur.de
END:VEVENT
BEGIN:VEVENT
DTSTART;TZID=Europe/Berlin:20250918T200000
DTEND;TZID=Europe/Berlin:20250918T200000
DTSTAMP:20260420T140445
CREATED:20250401T154029Z
LAST-MODIFIED:20250811T102700Z
UID:10005590-1758225600-1758225600@www.club-manufaktur.de
SUMMARY:REMSTAL-REBELL - Das vogelwilde Leben des Helmut Palmer
DESCRIPTION:REMSTAL-REBELL – Das vogelwilde Leben des Helmut Palmer \nPeter Schwarz und Axel Nagel: Eine Lesung mit Musik \nFür manche war er ein Volksheld\, andere hielten ihn für schlicht verrückt. Helmut Palmer (1930-2004) war eine alle Maßstäbe sprengende Persönlichkeit\, eine der faszinierendsten und umstrittensten der jüngeren Württemberger Geschichte: Bürgerrechtler und Baumflüsterer\, Performance-Künstler und Beleidigungs-Genie\, hundertfacher Bürgermeisterkandidat und vielfacher Gefängnis-Insasse\, überwältigender Egozentriker und unermüdlicher Gemeinwohl-Kämpfer\, meist mitreißend und manchmal kaum auszuhalten. \nDer Journalist Peter Schwarz hat Palmer über viele Jahre hinweg begleitet und darf stolz behaupten: „Ich wurde persönlich von ihm beschimpft!“ Schwarz erzählt das teils zum Schreien komische\, teils zum Heulen tragische Leben des Remstalrebellen\, berichtet von unfassbaren Szenen\, kaum glaublichen Anekdoten\, aber auch von wenig bekannten Hinter- und Abgründen\, die verstehbar machen\, wie Helmut Palmer zu dem wurde\, der er war. Die Krankheit\, an der er zeitlebens schwer litt\, trägt den Namen „Deutsche Geschichte“. \nDer Sänger und Meistergitarrist Axel Nagel erweitert dazu über den Einzelfall hinaus den Horizont: Mit Liedern von und über Rebellen regt er auf sinnlich-spielerische Weise zum Nachdenken darüber an\, inwiefern sich Helmut Palmer einordnet in ein größeres Panorama der Widerständigkeit. Auf musikalisch im allerbesten Sinne eigensinnige Art geht es um Glanz und Elend von Lebensentwürfen\, die in kein Raster passen. \nPeter Schwarz\, geboren 1965\, aufgewachsen in Ellwangen\, ist Redakteur beim Zeitungsverlag Waiblingen und wurde für seine Reportagen unter anderem mit dem Deutschen Reporter-Preis\, dem Theodor-Wolff-Preis und dem Deutschen Lokaljournalisten-Preis ausgezeichnet. \nAxel Nagel\, geboren 1967\, groß geworden in Waldstetten\, hat sich einen Namen gemacht als komplett scheuklappenloser musikalischer Neuland-Entdecker\, zu Hause in den unterschiedlichsten Stilarten. Für seine eigenen Lieder hat er bereits zweimal den Deutschen Rock & Pop Preis erhalten. \nEintritt:\n8.- Euro Vvk plus Gebühr\n12.- Euro Abendkasse\n7.- Euro Mitglieder \nDirekt vom Büro aus via Post versandte Karten (mit einer Bearbeitungsgebühr von 3€ pro Bestellung) gibt es bis 14 Uhr auf unserer Seite. Falls wir die Tickets nicht mehr rechtzeitig per Post versenden können\, werden sie an der Abendkasse auf deinen Namen hinterlegt.
URL:https://www.club-manufaktur.de/event/remstal-rebell-das-vogelwilde-leben-des-helmut-palmer/
LOCATION:Manufaktur\, Saal\, Hammerschlag 8\, Schorndorf\, 73614\, Deutschland
CATEGORIES:Konzert,Lesung,Politik,Ticket
ATTACH;FMTTYPE=image/jpeg:https://www.club-manufaktur.de/wp-content/uploads/2025/04/peter_schwarz_axel_nage_helmut_palmer.jpeg
END:VEVENT
BEGIN:VEVENT
DTSTART;TZID=Europe/Berlin:20250923T203000
DTEND;TZID=Europe/Berlin:20250923T203000
DTSTAMP:20260420T140445
CREATED:20250622T090038Z
LAST-MODIFIED:20250804T142547Z
UID:10005622-1758659400-1758659400@www.club-manufaktur.de
SUMMARY:ACOPIA (AUS) - FÄLLT LEIDER AUS!
DESCRIPTION:Fällt leider ohne Ersatztermin aus! Tickets können an den VVK-Stellen zurückgegeben werden. \nBegründung der Band:\n„Unfortunately\, due to logistical reasons out of control\, this show is cancelled“ \nAcopia ist eine Band aus Naarm/Melbourne\, die 2018 von Kate Durman\, LachlanMcGeehan und Morgan Wright gegründet wurde. Sie arbeiten mit Zurückhaltung und Atmosphäre\, ihre Musik entfaltet sich langsam und bedächtig\, geleitet von Instinkt und Gefühl. Ihr Debütalbum Chances wurde 2022 beim Melbourner Label Companion veröffentlicht\, gefolgt von einer selbstbetitelten LP\, die sie 2023 herausbrachten. Seitdem haben sie ausverkaufte Headline-Shows in Großbritannien\, Europa und Australien gespielt\, traten auf Festivals wie Wide Awake (UK)\, Les Nuits Botanique (BE) und Golden Plains (AUS) auf und teilten die Bühne mit Künstlern wie BarItalia\, Tirzah und Raisa K. Ihr drittes Album „Blush Response“ soll im September 2025 über das Londoner Label Scenic Route erscheinen. \nEintritt:\n14.- Euro Vvk plus Gebühr\n18.- Euro Abendkasse\n13.- Euro Mitglieder \nDirekt vom Büro aus via Post versandte Karten (mit einer Bearbeitungsgebühr von 3€ pro Bestellung) gibt es bis 14 Uhr auf unserer Seite. Falls wir die Tickets nicht mehr rechtzeitig per Post versenden können\, werden sie an der Abendkasse auf deinen Namen hinterlegt.
URL:https://www.club-manufaktur.de/event/acopia-aus/
LOCATION:Manufaktur\, Saal\, Hammerschlag 8\, Schorndorf\, 73614\, Deutschland
CATEGORIES:Konzert,Ticket
ATTACH;FMTTYPE=image/jpeg:https://www.club-manufaktur.de/wp-content/uploads/2025/09/acopia_by_jess_finn_pm-scaled.jpg
END:VEVENT
BEGIN:VEVENT
DTSTART;TZID=Europe/Berlin:20250924T203000
DTEND;TZID=Europe/Berlin:20250924T203000
DTSTAMP:20260420T140445
CREATED:20250805T140052Z
LAST-MODIFIED:20250805T140222Z
UID:10005639-1758745800-1758745800@www.club-manufaktur.de
SUMMARY:(EXIT) KNARR (NO/SE/DK/PL/USA)
DESCRIPTION:Amalie Dahl – Altsaxophon\, Baritonsaxophon (DK)\nKarl Hjalmar Nyberg – Tenorsaxophon und Sopransaxophon (SE)\nMarta Warelis – Klavier (PL)\nJonathan F. Horne – Gitarre (USA)\nOlaf Moses Olsen – Schlagzeug (NO)\nIngebrigt Håker Flaten – Kontrabass (NO) \nDie Musik der Band (Exit) Knarr vereint skandinavische Folklore mit avantgardistischem Jazz und durchdringt dabei groove-basierte Rhythmen mit einer lebendigen\, freien Improvisationssprache. Geprägt von der langjährigen Erfahrung ihres Bandleaders Ingebrigt Håker Flaten\, spiegelt sie Einflüsse von Spiritual Jazz\, freier Improvisation und einem Hauch afrikanischer Energie wider und schafft so eine kraftvolle\, ausdrucksstarke Klangwelt\, die gleichzeitig atmosphärisch und energetisch ist. Die Kompositionen bieten eine Balance zwischen strukturierten\, melodischen Themen und freien\, ausdrucksvollen Soli\, was (Exit) Knarr als eine innovative und facettenreiche Formation im zeitgenössischen Jazz positioniert. \nPressezitate: \n„Mit einer Mischung aus bissiger Attitüde und explosiver Virtuosität steckt das Album „Breezy“ enorm viel in seine kurze Spielzeit und schafft damit das bislang ausgelassenste Jazz-Album des Jahres.“ MOJO \n„(Exit) Knarr entwickelte sich über zwei Alben und einige Europatourneen zu einer überwiegend lokal agierenden Arbeitsband\, deren Musik Håker Flatens erneute Hinwendung zur norwegischen Szene ebenso widerspiegelt wie sein langjähriges Engagement in den USA. Die kraftvollen Kompositionen des Septetts und die zügigen\, ungebrochenen Tempi\, die die freiheitsbejahenden Soli einrahmen\, stehen ganz im Einklang mit der Arbeit der jüngeren Musiker\, die mit dem Motvind-Label verbunden sind. Die von afrikanischen Einflüssen geprägte Ausgelassenheit des Stücks ‚Dylar‘ könnte mühelos auf den jüngsten Alben von Andreas Røysum und Marthe Lea Platz finden.“ The Wire \nEintritt:\n22.- Euro plus Gebühr\n26.- Euro Abendkasse\n21.- Euro Mitglieder \nDirekt vom Büro aus via Post versandte Karten (mit einer Bearbeitungsgebühr von 3€ pro Bestellung) gibt es bis 14 Uhr auf unserer Seite. Falls wir die Tickets nicht mehr rechtzeitig per Post versenden können\, werden sie an der Abendkasse auf deinen Namen hinterlegt.
URL:https://www.club-manufaktur.de/event/exit-knarr-no-se-dk-pl-usa/
LOCATION:Manufaktur\, Saal\, Hammerschlag 8\, Schorndorf\, 73614\, Deutschland
CATEGORIES:Jazz,Konzert,Ticket
ATTACH;FMTTYPE=image/jpeg:https://www.club-manufaktur.de/wp-content/uploads/2025/08/exit_knarr_pm-scaled.jpeg
END:VEVENT
BEGIN:VEVENT
DTSTART;TZID=Europe/Berlin:20250925T193000
DTEND;TZID=Europe/Berlin:20250925T193000
DTSTAMP:20260420T140445
CREATED:20250804T145321Z
LAST-MODIFIED:20250908T153223Z
UID:10005638-1758828600-1758828600@www.club-manufaktur.de
SUMMARY:Fällt leider krankheitsbedingt ohne Ersatztermin aus! - Sehnsucht nach Frieden – eine Stimme aus Palästina | Faten Mukarker - Friedensaktivistin aus Bethlehem
DESCRIPTION:Fällt leider krankheitsbedingt ohne Ersatztermin aus! \nSehnsucht nach Frieden – eine Stimme aus Palästina\nFaten Mukarker\nFriedensaktivistin aus Bethlehem \nDer furchtbare Krieg in Gaza hat den jahrzehntelangen Israel/Palästina-Konflikt erneut in Erinnerung gerufen. Auch das Leid der palästinensischen Bevölkerung im Westjordanland hat sich weiter verschärft und das Leben der Menschen unter der Besatzung ist längst unerträglich geworden. \nDie in Bethlehem geborene und in Deutschland aufgewachsene christliche Palästinenserin und Friedensaktivistin Faten Mukarker gibt Menschen in Palästina Stimme und Gesicht. Sie lebt seit 1975 wieder im Westjordanland und berichtet in eindrücklicher Weise von ihrer persönlichen Erfahrung und zeigt die geschichtlichen Zusammenhänge des Konfliktes auf. Mukarker betont die Wichtigkeit\, den Teufelskreis der Gewalt aufzubrechen und wünscht sich eine differenzierte Sicht auf den Konflikt\, in dem die radikalen Kräfte auf beiden Seiten derzeit das Handeln bestimmen. \nEintritt frei\, der Hut geht rum. \nVeranstalter\nForum Politik in der Manufaktur & Ökumenische Friedensgruppe Schorndorf
URL:https://www.club-manufaktur.de/event/sehnsucht-nach-frieden-eine-stimme-aus-palaestina-faten-mukarker-friedensaktivistin-aus-bethlehem/
LOCATION:Manufaktur\, Saal\, Hammerschlag 8\, Schorndorf\, 73614\, Deutschland
CATEGORIES:Politik
ORGANIZER;CN="Forum Politik in der Manufaktur":MAILTO:ak-politik@club-manufaktur.de
END:VEVENT
BEGIN:VEVENT
DTSTART;TZID=Europe/Berlin:20250926T203000
DTEND;TZID=Europe/Berlin:20250926T203000
DTSTAMP:20260420T140445
CREATED:20250305T122559Z
LAST-MODIFIED:20251006T112259Z
UID:10005576-1758918600-1758918600@www.club-manufaktur.de
SUMMARY:POSTCARDS (LBN)
DESCRIPTION:Eine Postkarte aus Beirut ist selten\, denn die Stadt ist heute eher als Krisenherd bekannt als Touristenziel. Doch das libanesische Trio Postcards nutzt seine Erfahrungen\, um auf ihrem neuen Album Ripe (28.03.2025) ihre Wut in etwas Transzendentales zu verwandeln. Das Album ist ein Ausbruch und eine natürliche Weiterentwicklung – rauer und dunkler\, aber mit der gleichen Entschlossenheit. \nMit ihrem Debüt „I’ll be here in the Morning“ (2018) und „The Good Soldier“ (2020) lieferten die Postcards bereits perfekten Dream-Pop ab. Auf „After the Fire\, Before the End“ (2021) verarbeiteten sie die Krisen im Libanon. Ihr Sound\, der an US-College-Bands erinnert\, verbindet melodischen Feinklang mit Gitarren und einem einzigartigen Gesang von Julia Sabra\, der Sehnsucht und Verlorenheit ausdrückt. Ihre Musik – eine Mischung aus Shoegazer\, Dream-Pop und Indie – zählt zu den besten des Genres. \nEintritt:\n16.- Euro Vvk plus Gebühr\n20.- Euro Abendkasse\n15.- Euro Mitglieder \nDirekt vom Büro aus via Post versandte Karten (mit einer Bearbeitungsgebühr von 3€ pro Bestellung) gibt es bis 14 Uhr auf unserer Seite. Falls wir die Tickets nicht mehr rechtzeitig per Post versenden können\, werden sie an der Abendkasse auf deinen Namen hinterlegt.
URL:https://www.club-manufaktur.de/event/postcards-lbn/
LOCATION:Manufaktur\, Saal\, Hammerschlag 8\, Schorndorf\, 73614\, Deutschland
CATEGORIES:Konzert,Ticket
ATTACH;FMTTYPE=image/jpeg:https://www.club-manufaktur.de/wp-content/uploads/2025/03/postcards_by_myriam_boulos.jpeg
END:VEVENT
BEGIN:VEVENT
DTSTART;TZID=Europe/Berlin:20250927T203000
DTEND;TZID=Europe/Berlin:20250927T203000
DTSTAMP:20260420T140445
CREATED:20250521T085718Z
LAST-MODIFIED:20250521T093038Z
UID:10005607-1759005000-1759005000@www.club-manufaktur.de
SUMMARY:D/TROIT (DK)
DESCRIPTION:D/troit sind ein lässig groovendes Soul-Quintett aus Dänemark\, das klingt als hätte man James Brown\, Marvin Gaye und The Black Keys in einen Topf geworfen. \nVorsicht! Ganz heißes Eisen. Wenn man bei D/troit vor der Bühne steht und sich langsam den rhythmischen Zuckungen des eigenen Körpers hingibt\, kann man kaum glauben\, dass diese gut gekleideten Herren nicht aus jener legendären Stadt kommen\, auf die sich ihr Name bezieht. Ihr Sound ist nämlich genau die Melange aus 60s-R’n’B\, Funk\, Soul und Rock’n’Roll\, die in Detroit immer noch am schönsten gemischt wurde. \nD/troit sind tatsächlich Dänen\, obwohl Bandleader und Sänger Toke Bo Nisted klingt\, als hätte er schon damals die Clubs von Motor City unsicher gemacht. Das aktuelle Album von D/troit trägt den Titel „Heavy“ und beginnt mit einem Song gleichen Namens\, der einen sofort in diese beschwingte\, geschichtsreiche Klangwelt zieht. Getreu dem Titel wird der Sound von einem gewichtigeren\, von HipHop inspirierten Gefühl dominiert\, das mit einem sicheren und leichtfüßigen Twist aus Soul und Funk zu Themen wie Hoffnung\, Liebe und den kollektiven Herausforderungen\, denen wir alle gegenüberstehen\, serviert wird. Es ist düsterer und klingt ebenso klassisch wie modern. \nWer also Lust auf einen perfekten Abend voller Soul und vielleicht in der heimischen Plattensammlung Alben von Curtis Harding\, Sharon Jones & The Dap Kings\, The Bamboos\, Alabama Shakes\, The Teskey Brothers\, Durand Jones & The Indications stehen hat – der ist hier goldrichtig aufgehoben. \nEintritt:\n22.- Euro Vvk plus Gebühr\n26.- Euro Abendkasse\n21.- Euro Mitglieder \nDirekt vom Büro aus via Post versandte Karten (mit einer Bearbeitungsgebühr von 3€ pro Bestellung) gibt es bis 14 Uhr auf unserer Seite. Falls wir die Tickets nicht mehr rechtzeitig per Post versenden können\, werden sie an der Abendkasse auf deinen Namen hinterlegt.
URL:https://www.club-manufaktur.de/event/d-troit-dk-3/
LOCATION:Manufaktur\, Saal\, Hammerschlag 8\, Schorndorf\, 73614\, Deutschland
CATEGORIES:Konzert,Ticket
ATTACH;FMTTYPE=image/jpeg:https://www.club-manufaktur.de/wp-content/uploads/2025/05/dtroit_pm.jpeg
END:VEVENT
END:VCALENDAR