BEGIN:VCALENDAR
VERSION:2.0
PRODID:-//Club Manufaktur e.V. aus Schorndorf - ECPv6.15.20//NONSGML v1.0//EN
CALSCALE:GREGORIAN
METHOD:PUBLISH
X-WR-CALNAME:Club Manufaktur e.V. aus Schorndorf
X-ORIGINAL-URL:https://www.club-manufaktur.de
X-WR-CALDESC:Veranstaltungen für Club Manufaktur e.V. aus Schorndorf
REFRESH-INTERVAL;VALUE=DURATION:PT1H
X-Robots-Tag:noindex
X-PUBLISHED-TTL:PT1H
BEGIN:VTIMEZONE
TZID:Europe/Berlin
BEGIN:DAYLIGHT
TZOFFSETFROM:+0100
TZOFFSETTO:+0200
TZNAME:CEST
DTSTART:20250330T010000
END:DAYLIGHT
BEGIN:STANDARD
TZOFFSETFROM:+0200
TZOFFSETTO:+0100
TZNAME:CET
DTSTART:20251026T010000
END:STANDARD
BEGIN:DAYLIGHT
TZOFFSETFROM:+0100
TZOFFSETTO:+0200
TZNAME:CEST
DTSTART:20260329T010000
END:DAYLIGHT
BEGIN:STANDARD
TZOFFSETFROM:+0200
TZOFFSETTO:+0100
TZNAME:CET
DTSTART:20261025T010000
END:STANDARD
BEGIN:DAYLIGHT
TZOFFSETFROM:+0100
TZOFFSETTO:+0200
TZNAME:CEST
DTSTART:20270328T010000
END:DAYLIGHT
BEGIN:STANDARD
TZOFFSETFROM:+0200
TZOFFSETTO:+0100
TZNAME:CET
DTSTART:20271031T010000
END:STANDARD
END:VTIMEZONE
BEGIN:VEVENT
DTSTART;TZID=Europe/Berlin:20260421T193000
DTEND;TZID=Europe/Berlin:20260421T193000
DTSTAMP:20260421T155237
CREATED:20260307T163342Z
LAST-MODIFIED:20260326T111727Z
UID:10005736-1776799800-1776799800@www.club-manufaktur.de
SUMMARY:Martin Andree liest aus und diskutiert über "Krieg der Medien - Dark Tech und Populisten übernehmen die Macht" | Moderation – Peter Schwarz
DESCRIPTION:Wir können ihn täglich beobachten – den immer härteren und schrilleren Krieg um Macht und Vorherrschaft in den digitalen Medien. Doch wer kämpft eigentlich gegen wen? Der international renommierte Medienexperte Martin Andree zeigt\, wie eine Koalition aus DarkTech\, Trump und Rechtspopulisten offen nach autokratischer Macht greift. Über digitale Monopole kontrolliert sie zunehmend die Öffentlichkeit – und damit die Grundlage unserer Demokratien. Im Hintergrund agiert der milliardenschwere Investor und Trump-Flüsterer Peter Thiel\, Mitgründer der Überwachungssoftware Palantir\, der direkte Verbindungen zu den MAGA-Republikanern unterhält und damit zu den zentralen Drahtziehern eines politischen Netzwerks zählt\, das Dark Tech nicht nur maßgeblich finanziert\, sondern strategisch vorantreibt.\nMit jedem Tag wird es schwerer\, unsere freie Welt noch zu retten. Werden wir das Ruder noch herumreißen? Oder wird die westliche Welt in Chaos\, Spaltung oder gar Bürgerkrieg versinken? \nIn seinem Buch „Krieg der Medien“ rechnet Medienwissenschaftler Martin Andree ab: mit Big Tech\, Populisten und digitalem Phlegmatismus in Europa. \nMartin Andree unterrichtet Medienwissenschaft an der Universität zu Köln. Bekannt wurde er durch den „Atlas der digitalen Welt“\, die erste ganzheitliche wissenschaftliche Vermessung der digitalen Welt. Für seinen Bestseller „Big Tech muss weg“ erhielt er den Günter Wallraff Sonderpreis für Pressefreiheit und Menschenrechte. Er ist international gefragter Experte\, Interviewpartner sowie Gastautor bei führenden Medien. \nEintritt frei\, um Spenden wird gebeten.
URL:https://www.club-manufaktur.de/event/martin-andree-liest-aus-und-diskutiert-ueber-krieg-der-medien-dark-tech-und-populisten-uebernehmen-die-macht-moderation-peter-schwarz/
LOCATION:Manufaktur\, Saal\, Hammerschlag 8\, Schorndorf\, 73614\, Deutschland
CATEGORIES:Lesung,Politik
ATTACH;FMTTYPE=image/jpeg:https://www.club-manufaktur.de/wp-content/uploads/2026/03/Martin_Andree-_20230715_florianlechner.com_0Q2A3359-retouched-cropped.jpeg
END:VEVENT
END:VCALENDAR